Workbook

Sheet Rekapitulácia stavby
A1: Export Komplet | BA1: 2.0 | BT1: False | BU1: False | BV1: {b6c579e4-910b-4b3f-83eb-e280b4c783cb}
AR2: >> skryté stĺpce << | BS2: 0,01 | BT2: 23
BS3: 0,01 | BT3: 23
D4: REKAPITULÁCIA STAVBY | AS4: v --- nižšie sa nachádzajú doplnkové a pomocné údaje k zostavám --- v | BS4: 0,001
D5: Kód: | BS5: 0,01
D6: Stavba: | K6: MHTH KE - oprava výtlkov | BS6: 0,01
D7: JKSO: | AK7: ČS: | BS7: 0,01
D8: Miesto: | AK8: Dátum: | BS8: 0,01
BS9: 0,01
D10: Objednávateľ: | AK10: IČO: | BS10: 0,01
AK11: IČ DPH: | BS11: 0,01
BS12: 0,01
D13: Zhotoviteľ: | AK13: IČO: | BS13: 0,01
AK14: IČ DPH: | BS14: 0,01
BS15: False
D16: Projektant: | AK16: IČO: | BS16: False
AK17: IČ DPH: | BS17: True
BS18: 0,01
D19: Spracovateľ: | AK19: IČO: | BS19: 0,01
AK20: IČ DPH: | BS20: True
D22: Poznámka:
D26: Cena bez DPH | AK26: =ROUND(AG94,2) -> 0
L28: Sadzba dane | W28: Základ dane | AK28: Výška dane
D29: DPH | F29: základná | L29: 0.23 | W29: =ROUND(AZ94, 2) -> 0 | AK29: =ROUND(AV94, 2) -> 0
F30: znížená | L30: 0.23 | W30: =ROUND(BA94, 2) -> 0 | AK30: =ROUND(AW94, 2) -> 0
F31: zákl. prenesená | L31: 0.23 | W31: =ROUND(BB94, 2) -> 0 | AK31: 0
F32: zníž. prenesená | L32: 0.23 | W32: =ROUND(BC94, 2) -> 0 | AK32: 0
F33: nulová | L33: 0 | W33: =ROUND(BD94, 2) -> 0 | AK33: 0
D35: Cena s DPH | T35: v | X35: EUR | AK35: =SUM(AK26:AK33) -> 0
D49: Projektant | AH49: Spracovateľ
D60: Dátum a podpis: | V60: Pečiatka | AH60: Dátum a podpis: | AM60: Pečiatka
D64: Objednávateľ | AH64: Zhotoviteľ
D75: Dátum a podpis: | V75: Pečiatka | AH75: Dátum a podpis: | AM75: Pečiatka
C82: REKAPITULÁCIA OBJEKTOV STAVBY
C84: Kód:
C85: Stavba: | L85: =K6 -> MHTH KE - oprava výtlkov
C87: Miesto: | L87: =IF(K8="","",K8) | AI87: Dátum: | AM87: =IF(AN8= "","",AN8)
C89: Objednávateľ: | L89: =IF(E11= "","",E11) | AI89: Projektant: | AM89: =IF(E17="","",E17) | AS89: Informatívne údaje z listov zákaziek
C90: Zhotoviteľ: | L90: =IF(E14="","",E14) | AI90: Spracovateľ: | AM90: =IF(E20="","",E20)
C92: Kód | I92: Popis | AG92: Cena bez DPH [EUR] | AN92: Cena s DPH [EUR] | AQ92: Typ | AS92: z toho Ostat._x000D_ náklady [EUR] | AT92: DPH [EUR] | AU92: Normohodiny [h] | AV92: DPH základná [EUR] | AW92: DPH znížená [EUR] | AX92: DPH základná prenesená_x000D_ [EUR] | AY92: DPH znížená prenesená_x000D_ [EUR] | AZ92: Základňa_x000D_ DPH základná | BA92: Základňa_x000D_ DPH znížená | BB92: Základňa_x000D_ DPH zákl. prenesená | BC92: Základňa_x000D_ DPH zníž. prenesená | BD92: Základňa_x000D_ DPH nulová
C94: Náklady z rozpočtov | AG94: =ROUND(AG95,2) -> 0 | AN94: =SUM(AG94,AT94) -> 0 | AS94: =ROUND(AS95,2) -> 0 | AT94: =ROUND(SUM(AV94:AW94),2) -> 0 | AU94: =ROUND(AU95,5) -> 143.56166 | AV94: =ROUND(AZ94*L29,2) -> 0 | AW94: =ROUND(BA94*L30,2) -> 0 | AX94: =ROUND(BB94*L29,2) -> 0 | AY94: =ROUND(BC94*L30,2) -> 0 | AZ94: =ROUND(AZ95,2) -> 0 | BA94: =ROUND(BA95,2) -> 0 | BB94: =ROUND(BB95,2) -> 0 | BC94: =ROUND(BC95,2) -> 0 | BD94: =ROUND(BD95,2) -> 0 | BS94: D | BT94: 0 | BU94: ###NOIMPORT### | BV94: IMPORT | BW94: {b6c579e4-910b-4b3f-83eb-e280b4c783cb} | BX94: {00000000-0000-0000-0000-000000000000}
A95: / | D95: 01 | J95: Oprava cesty | AG95: ='01 - Oprava cesty'!J30 -> 0 | AN95: =SUM(AG95,AT95) -> 0 | AQ95: STA | AS95: 0 | AT95: =ROUND(SUM(AV95:AW95),2) -> 0 | AU95: ='01 - Oprava cesty'!P120 -> 143.56166 | AV95: ='01 - Oprava cesty'!J33 -> 0 | AW95: ='01 - Oprava cesty'!J34 -> 0 | AX95: ='01 - Oprava cesty'!J35 -> 0 | AY95: ='01 - Oprava cesty'!J36 -> 0 | AZ95: ='01 - Oprava cesty'!F33 -> 0 | BA95: ='01 - Oprava cesty'!F34 -> 0 | BB95: ='01 - Oprava cesty'!F35 -> 0 | BC95: ='01 - Oprava cesty'!F36 -> 0 | BD95: ='01 - Oprava cesty'!F37 -> 0 | BT95: 1 | BV95: IMPORT | BW95: {d05ce2fb-f502-4479-bfc0-7aa61db481ec} | BX95: {b6c579e4-910b-4b3f-83eb-e280b4c783cb} | CM95: 0

Sheet 01 - Oprava cesty
L2: >> skryté stĺpce << | AT2: {d05ce2fb-f502-4479-bfc0-7aa61db481ec}
AT3: 0
D4: KRYCÍ LIST ROZPOČTU | M4: v --- nižšie sa nachádzajú doplnkové a pomocné údaje k zostavám --- v | AT4: False
D6: Stavba:
E7: ='Rekapitulácia stavby'!K6 -> MHTH KE - oprava výtlkov
D8: Objekt:
E9: 01 - Oprava cesty
D11: JKSO: | I11: ČS:
D12: Miesto: | I12: Dátum:
D14: Objednávateľ: | I14: IČO: | J14: =IF('Rekapitulácia stavby'!AN10="","",'Rekapitulácia stavby'!AN10)
E15: =IF('Rekapitulácia stavby'!E11="","",'Rekapitulácia stavby'!E11) | I15: IČ DPH: | J15: =IF('Rekapitulácia stavby'!AN11="","",'Rekapitulácia stavby'!AN11)
D17: Zhotoviteľ: | I17: IČO:
I18: IČ DPH:
D20: Projektant: | I20: IČO: | J20: =IF('Rekapitulácia stavby'!AN16="","",'Rekapitulácia stavby'!AN16)
E21: =IF('Rekapitulácia stavby'!E17="","",'Rekapitulácia stavby'!E17) | I21: IČ DPH: | J21: =IF('Rekapitulácia stavby'!AN17="","",'Rekapitulácia stavby'!AN17)
D23: Spracovateľ: | I23: IČO:
I24: IČ DPH:
D26: Poznámka:
D30: Cena bez DPH | J30: =ROUND(J120, 2) -> 0
F32: Základ dane | I32: Sadzba dane | J32: Výška dane
D33: DPH | E33: základná | F33: =ROUND((SUM(BE120:BE135)), 2) -> 0 | I33: 0.23 | J33: =ROUND(((SUM(BE120:BE135))*I33), 2) -> 0
E34: znížená | F34: =ROUND((SUM(BF120:BF135)), 2) -> 0 | I34: 0.23 | J34: =ROUND(((SUM(BF120:BF135))*I34), 2) -> 0
E35: zákl. prenesená | F35: =ROUND((SUM(BG120:BG135)), 2) -> 0 | I35: 0.23 | J35: =0 -> 0
E36: zníž. prenesená | F36: =ROUND((SUM(BH120:BH135)), 2) -> 0 | I36: 0.23 | J36: =0 -> 0
E37: nulová | F37: =ROUND((SUM(BI120:BI135)), 2) -> 0 | I37: 0 | J37: =0 -> 0
D39: Cena s DPH | G39: v | H39: EUR | J39: =SUM(J30:J37) -> 0
D50: Projektant | G50: Spracovateľ
D61: Dátum a podpis: | F61: Pečiatka | G61: Dátum a podpis: | J61: Pečiatka
D65: Objednávateľ | G65: Zhotoviteľ
D76: Dátum a podpis: | F76: Pečiatka | G76: Dátum a podpis: | J76: Pečiatka
C82: REKAPITULÁCIA ROZPOČTU
C84: Stavba:
E85: =E7 -> MHTH KE - oprava výtlkov
C86: Objekt:
E87: =E9 -> 01 - Oprava cesty
C89: Miesto: | F89: =F12 | I89: Dátum: | J89: =IF(J12="","",J12)
C91: Objednávateľ: | F91: =E15 | I91: Projektant: | J91: =E21
C92: Zhotoviteľ: | I92: Spracovateľ:
C94: Kód dielu - Popis | J94: Cena celkom [EUR]
C96: Náklady z rozpočtu | J96: =J120 -> 0 | AU96: -1
D97: HSV - Práce a dodávky HSV | J97: =J121 -> 0
D98: 1 - Zemné práce | J98: =J122 -> 0
D99: 5 - Komunikácie | J99: =J125 -> 0
D100: 9 - Ostatné konštrukcie a práce-búranie | J100: =J128 -> 0
C107: ROZPOČET
C109: Stavba:
E110: =E7 -> MHTH KE - oprava výtlkov
C111: Objekt:
E112: =E9 -> 01 - Oprava cesty
C114: Miesto: | F114: =F12 | I114: Dátum: | J114: =IF(J12="","",J12)
C116: Objednávateľ: | F116: =E15 | I116: Projektant: | J116: =E21
C117: Zhotoviteľ: | I117: Spracovateľ:
C119: PČ | D119: Typ | E119: Kód | F119: Popis | G119: MJ | H119: Množstvo | I119: J.cena [EUR] | J119: Cena celkom [EUR] | K119: Cenová sústava | N119: DPH | O119: J. Nh [h] | P119: Nh celkom [h] | Q119: J. hmotnosť [t] | R119: Hmotnosť celkom [t] | S119: J. suť [t] | T119: Suť Celkom [t]
C120: Náklady z rozpočtu | J120: =BK120 -> 0 | P120: =P121 -> 143.56166 | R120: =R121 -> 29.153543 | T120: =T121 -> 32.086 | AT120: D | AU120: -1 | BK120: =BK121 -> 0
D121: D | E121: HSV | F121: Práce a dodávky HSV | J121: =BK121 -> 0 | P121: =P122+P125+P128 -> 143.56166 | R121: =R122+R125+R128 -> 29.153543 | T121: =T122+T125+T128 -> 32.086 | AR121: 1 | AT121: D | AU121: 0 | AY121: ROZPOCET | BK121: =BK122+BK125+BK128 -> 0
D122: D | E122: 1 | F122: Zemné práce | J122: =BK122 -> 0 | P122: =SUM(P123:P124) -> 28.9642 | R122: =SUM(R123:R124) -> 0 | T122: =SUM(T123:T124) -> 32.086 | AR122: 1 | AT122: D | AU122: 1 | AY122: ROZPOCET | BK122: =SUM(BK123:BK124) -> 0
C123: 9 | D123: K | E123: 113117142.S | F123: Odstránenie podkladu alebo krytu asfaltového ručne, hr. vrstvy nad 50 do 100 mm, -0,22000t | G123: m2 | H123: 3.8 | J123: =ROUND(I123*H123,2) -> 0 | N123: znížená | O123: 0.409 | P123: =O123*H123 -> 1.5542 | Q123: 0 | R123: =Q123*H123 -> 0 | S123: 0.22 | T123: =S123*H123 -> 0.836 | AR123: 4 | AT123: K | AU123: 2 | AY123: ROZPOCET | BE123: =IF(N123="základná",J123,0) -> 0 | BF123: =IF(N123="znížená",J123,0) -> 0 | BG123: =IF(N123="zákl. prenesená",J123,0) -> 0 | BH123: =IF(N123="zníž. prenesená",J123,0) -> 0 | BI123: =IF(N123="nulová",J123,0) -> 0 | BJ123: 2 | BK123: =ROUND(I123*H123,2) -> 0 | BL123: 4 | BM123: -85253642
C124: 2 | D124: K | E124: 113157232.S | F124: Odstránenie podkladu alebo krytu z betónu prostého v ploche do 200 m2 strojne, hr. vrstvy nad 150 do 300 mm, -0,62500t | G124: m2 | H124: 50 | J124: =ROUND(I124*H124,2) -> 0 | N124: znížená | O124: 0.5482 | P124: =O124*H124 -> 27.41 | Q124: 0 | R124: =Q124*H124 -> 0 | S124: 0.625 | T124: =S124*H124 -> 31.25 | AR124: 4 | AT124: K | AU124: 2 | AY124: ROZPOCET | BE124: =IF(N124="základná",J124,0) -> 0 | BF124: =IF(N124="znížená",J124,0) -> 0 | BG124: =IF(N124="zákl. prenesená",J124,0) -> 0 | BH124: =IF(N124="zníž. prenesená",J124,0) -> 0 | BI124: =IF(N124="nulová",J124,0) -> 0 | BJ124: 2 | BK124: =ROUND(I124*H124,2) -> 0 | BL124: 4 | BM124: 1645029819
D125: D | E125: 5 | F125: Komunikácie | J125: =BK125 -> 0 | P125: =SUM(P126:P127) -> 28.3206 | R125: =SUM(R126:R127) -> 29.15289 | T125: =SUM(T126:T127) -> 0 | AR125: 1 | AT125: D | AU125: 1 | AY125: ROZPOCET | BK125: =SUM(BK126:BK127) -> 0
C126: 10 | D126: K | E126: 572751212.S | F126: Vyspravenie výtlkov asfaltovým betónom AC hr. nad 40 do 60 mm pri vyspravovanej ploche do 10% na 1 km | G126: m2 | H126: 3.8 | J126: =ROUND(I126*H126,2) -> 0 | N126: znížená | O126: 0.637 | P126: =O126*H126 -> 2.4206 | Q126: 0.1679501 | R126: =Q126*H126 -> 0.63821038 | S126: 0 | T126: =S126*H126 -> 0 | AR126: 4 | AT126: K | AU126: 2 | AY126: ROZPOCET | BE126: =IF(N126="základná",J126,0) -> 0 | BF126: =IF(N126="znížená",J126,0) -> 0 | BG126: =IF(N126="zákl. prenesená",J126,0) -> 0 | BH126: =IF(N126="zníž. prenesená",J126,0) -> 0 | BI126: =IF(N126="nulová",J126,0) -> 0 | BJ126: 2 | BK126: =ROUND(I126*H126,2) -> 0 | BL126: 4 | BM126: -2082930156
C127: 7 | D127: K | E127: 581140315.S | F127: Kryt cementobetónový cestných komunikácií skupiny CB III pre TDZ IV, V a VI, hr. 250 mm | G127: m2 | H127: 50 | J127: =ROUND(I127*H127,2) -> 0 | N127: znížená | O127: 0.518 | P127: =O127*H127 -> 25.9 | Q127: 0.5702936 | R127: =Q127*H127 -> 28.51468 | S127: 0 | T127: =S127*H127 -> 0 | AR127: 4 | AT127: K | AU127: 2 | AY127: ROZPOCET | BE127: =IF(N127="základná",J127,0) -> 0 | BF127: =IF(N127="znížená",J127,0) -> 0 | BG127: =IF(N127="zákl. prenesená",J127,0) -> 0 | BH127: =IF(N127="zníž. prenesená",J127,0) -> 0 | BI127: =IF(N127="nulová",J127,0) -> 0 | BJ127: 2 | BK127: =ROUND(I127*H127,2) -> 0 | BL127: 4 | BM127: -354914281
D128: D | E128: 9 | F128: Ostatné konštrukcie a práce-búranie | J128: =BK128 -> 0 | P128: =SUM(P129:P135) -> 86.27686 | R128: =SUM(R129:R135) -> 0.00065291 | T128: =SUM(T129:T135) -> 0 | AR128: 1 | AT128: D | AU128: 1 | AY128: ROZPOCET | BK128: =SUM(BK129:BK135) -> 0
C129: 8 | D129: K | E129: 919735112.S | F129: Rezanie existujúceho asfaltového krytu alebo podkladu hĺbky nad 50 do 100 mm | G129: m | H129: 11 | J129: =ROUND(I129*H129,2) -> 0 | N129: znížená | O129: 0.185 | P129: =O129*H129 -> 2.035 | Q129: 2.5e-07 | R129: =Q129*H129 -> 2.75e-06 | S129: 0 | T129: =S129*H129 -> 0 | AR129: 4 | AT129: K | AU129: 2 | AY129: ROZPOCET | BE129: =IF(N129="základná",J129,0) -> 0 | BF129: =IF(N129="znížená",J129,0) -> 0 | BG129: =IF(N129="zákl. prenesená",J129,0) -> 0 | BH129: =IF(N129="zníž. prenesená",J129,0) -> 0 | BI129: =IF(N129="nulová",J129,0) -> 0 | BJ129: 2 | BK129: =ROUND(I129*H129,2) -> 0 | BL129: 4 | BM129: 1773266961
C130: 1 | D130: K | E130: 919735126.S | F130: Rezanie existujúceho betónového krytu alebo podkladu hĺbky nad 250 do 300 mm | G130: m | H130: 43 | J130: =ROUND(I130*H130,2) -> 0 | N130: znížená | O130: 0.85702 | P130: =O130*H130 -> 36.85186 | Q130: 1.512e-05 | R130: =Q130*H130 -> 0.00065016 | S130: 0 | T130: =S130*H130 -> 0 | AR130: 4 | AT130: K | AU130: 2 | AY130: ROZPOCET | BE130: =IF(N130="základná",J130,0) -> 0 | BF130: =IF(N130="znížená",J130,0) -> 0 | BG130: =IF(N130="zákl. prenesená",J130,0) -> 0 | BH130: =IF(N130="zníž. prenesená",J130,0) -> 0 | BI130: =IF(N130="nulová",J130,0) -> 0 | BJ130: 2 | BK130: =ROUND(I130*H130,2) -> 0 | BL130: 4 | BM130: -389576771
C131: 4 | D131: K | E131: 979081111.S | F131: Odvoz sutiny a vybúraných hmôt na skládku do 1 km | G131: t | H131: 35 | J131: =ROUND(I131*H131,2) -> 0 | N131: znížená | O131: 0.598 | P131: =O131*H131 -> 20.93 | Q131: 0 | R131: =Q131*H131 -> 0 | S131: 0 | T131: =S131*H131 -> 0 | AR131: 4 | AT131: K | AU131: 2 | AY131: ROZPOCET | BE131: =IF(N131="základná",J131,0) -> 0 | BF131: =IF(N131="znížená",J131,0) -> 0 | BG131: =IF(N131="zákl. prenesená",J131,0) -> 0 | BH131: =IF(N131="zníž. prenesená",J131,0) -> 0 | BI131: =IF(N131="nulová",J131,0) -> 0 | BJ131: 2 | BK131: =ROUND(I131*H131,2) -> 0 | BL131: 4 | BM131: 338301830
C132: 5 | D132: K | E132: 979081121.S | F132: Odvoz sutiny a vybúraných hmôt na skládku za každý ďalší 1 km | G132: t | H132: 35 | J132: =ROUND(I132*H132,2) -> 0 | N132: znížená | O132: 0.007 | P132: =O132*H132 -> 0.245 | Q132: 0 | R132: =Q132*H132 -> 0 | S132: 0 | T132: =S132*H132 -> 0 | AR132: 4 | AT132: K | AU132: 2 | AY132: ROZPOCET | BE132: =IF(N132="základná",J132,0) -> 0 | BF132: =IF(N132="znížená",J132,0) -> 0 | BG132: =IF(N132="zákl. prenesená",J132,0) -> 0 | BH132: =IF(N132="zníž. prenesená",J132,0) -> 0 | BI132: =IF(N132="nulová",J132,0) -> 0 | BJ132: 2 | BK132: =ROUND(I132*H132,2) -> 0 | BL132: 4 | BM132: -724207017
C133: 3 | D133: K | E133: 979087213.S | F133: Nakladanie na dopravné prostriedky pre vodorovnú dopravu vybúraných hmôt | G133: t | H133: 35 | J133: =ROUND(I133*H133,2) -> 0 | N133: znížená | O133: 0.749 | P133: =O133*H133 -> 26.215 | Q133: 0 | R133: =Q133*H133 -> 0 | S133: 0 | T133: =S133*H133 -> 0 | AR133: 4 | AT133: K | AU133: 2 | AY133: ROZPOCET | BE133: =IF(N133="základná",J133,0) -> 0 | BF133: =IF(N133="znížená",J133,0) -> 0 | BG133: =IF(N133="zákl. prenesená",J133,0) -> 0 | BH133: =IF(N133="zníž. prenesená",J133,0) -> 0 | BI133: =IF(N133="nulová",J133,0) -> 0 | BJ133: 2 | BK133: =ROUND(I133*H133,2) -> 0 | BL133: 4 | BM133: -1345950261
C134: 6 | D134: K | E134: 979089012.S | F134: Poplatok za skládku - betón, tehly, dlaždice, obkladačky a keramika (17 01), ostatné | G134: t | H134: 35 | J134: =ROUND(I134*H134,2) -> 0 | N134: znížená | O134: 0 | P134: =O134*H134 -> 0 | Q134: 0 | R134: =Q134*H134 -> 0 | S134: 0 | T134: =S134*H134 -> 0 | AR134: 4 | AT134: K | AU134: 2 | AY134: ROZPOCET | BE134: =IF(N134="základná",J134,0) -> 0 | BF134: =IF(N134="znížená",J134,0) -> 0 | BG134: =IF(N134="zákl. prenesená",J134,0) -> 0 | BH134: =IF(N134="zníž. prenesená",J134,0) -> 0 | BI134: =IF(N134="nulová",J134,0) -> 0 | BJ134: 2 | BK134: =ROUND(I134*H134,2) -> 0 | BL134: 4 | BM134: 880920136
C135: 11 | D135: K | E135: 979089212.S | F135: Poplatok za skládku - bitúmenové zmesi, uholný decht, dechtové výrobky (17 03), ostatné | G135: t | H135: 1 | J135: =ROUND(I135*H135,2) -> 0 | N135: znížená | O135: 0 | P135: =O135*H135 -> 0 | Q135: 0 | R135: =Q135*H135 -> 0 | S135: 0 | T135: =S135*H135 -> 0 | AR135: 4 | AT135: K | AU135: 2 | AY135: ROZPOCET | BE135: =IF(N135="základná",J135,0) -> 0 | BF135: =IF(N135="znížená",J135,0) -> 0 | BG135: =IF(N135="zákl. prenesená",J135,0) -> 0 | BH135: =IF(N135="zníž. prenesená",J135,0) -> 0 | BI135: =IF(N135="nulová",J135,0) -> 0 | BJ135: 2 | BK135: =ROUND(I135*H135,2) -> 0 | BL135: 4 | BM135: 1041721780
