Workbook

Sheet Rekapitulácia stavby
A1: Export Komplet | BA1: 2.0 | BT1: False | BU1: False | BV1: {6911c4a0-5835-4b3c-9545-bc14671a9b71}
AR2: >> skryté stĺpce << | BS2: 0,01 | BT2: 23
BS3: 0,01 | BT3: 23
D4: REKAPITULÁCIA STAVBY | AS4: v --- nižšie sa nachádzajú doplnkové a pomocné údaje k zostavám --- v | BS4: 0,001
D5: Kód: | BS5: 0,01
D6: Stavba: | K6: MHTH_Teplárenská - Rekonštrukcia miestnosti v budove SP 12 na +4,200 | BS6: 0,01
D7: JKSO: | AK7: ČS: | BS7: 0,01
D8: Miesto: | AK8: Dátum: | AN8: 16. 9. 2026 | BS8: 0,01
BS9: 0,01
D10: Objednávateľ: | AK10: IČO: | BS10: 0,01
AK11: IČ DPH: | BS11: 0,01
BS12: 0,01
D13: Zhotoviteľ: | AK13: IČO: | BS13: 0,01
AK14: IČ DPH: | BS14: 0,01
BS15: False
D16: Projektant: | AK16: IČO: | BS16: False
AK17: IČ DPH: | BS17: False
BS18: 0,01
D19: Spracovateľ: | AK19: IČO: | BS19: 0,01
AK20: IČ DPH: | BS20: True
D22: Poznámka:
D26: Cena bez DPH | AK26: =ROUND(AG94,2) -> 0
L28: Sadzba dane | W28: Základ dane | AK28: Výška dane
D29: DPH | F29: základná | L29: 0.23 | W29: =ROUND(AZ94, 2) -> 0 | AK29: =ROUND(AV94, 2) -> 0
F30: znížená | L30: 0.23 | W30: =ROUND(BA94, 2) -> 0 | AK30: =ROUND(AW94, 2) -> 0
F31: zákl. prenesená | L31: 0.23 | W31: =ROUND(BB94, 2) -> 0 | AK31: 0
F32: zníž. prenesená | L32: 0.23 | W32: =ROUND(BC94, 2) -> 0 | AK32: 0
F33: nulová | L33: 0 | W33: =ROUND(BD94, 2) -> 0 | AK33: 0
D35: Cena s DPH | T35: v | X35: EUR | AK35: =SUM(AK26:AK33) -> 0
D49: Projektant | AH49: Spracovateľ
D60: Dátum a podpis: | V60: Pečiatka | AH60: Dátum a podpis: | AM60: Pečiatka
D64: Objednávateľ | AH64: Zhotoviteľ
D75: Dátum a podpis: | V75: Pečiatka | AH75: Dátum a podpis: | AM75: Pečiatka
C82: REKAPITULÁCIA OBJEKTOV STAVBY
C84: Kód: | L84: =K5 -> 0
C85: Stavba: | L85: =K6 -> MHTH_Teplárenská - Rekonštrukcia miestnosti v budove SP 12 na +4,200
C87: Miesto: | L87: =IF(K8="","",K8) | AI87: Dátum: | AM87: =IF(AN8= "","",AN8) -> 16. 9. 2026
C89: Objednávateľ: | L89: =IF(E11= "","",E11) | AI89: Projektant: | AM89: =IF(E17="","",E17) | AS89: Informatívne údaje z listov zákaziek
C90: Zhotoviteľ: | L90: =IF(E14="","",E14) | AI90: Spracovateľ: | AM90: =IF(E20="","",E20)
C92: Kód | I92: Popis | AG92: Cena bez DPH [EUR] | AN92: Cena s DPH [EUR] | AQ92: Typ | AS92: z toho Ostat._x000D_ náklady [EUR] | AT92: DPH [EUR] | AU92: Normohodiny [h] | AV92: DPH základná [EUR] | AW92: DPH znížená [EUR] | AX92: DPH základná prenesená_x000D_ [EUR] | AY92: DPH znížená prenesená_x000D_ [EUR] | AZ92: Základňa_x000D_ DPH základná | BA92: Základňa_x000D_ DPH znížená | BB92: Základňa_x000D_ DPH zákl. prenesená | BC92: Základňa_x000D_ DPH zníž. prenesená | BD92: Základňa_x000D_ DPH nulová
C94: Náklady z rozpočtov | AG94: =ROUND(SUM(AG95:AG104),2) -> 0 | AN94: =SUM(AG94,AT94) -> 0 | AS94: =ROUND(SUM(AS95:AS104),2) -> 0 | AT94: =ROUND(SUM(AV94:AW94),2) -> 0 | AU94: =ROUND(SUM(AU95:AU104),5) -> 777.7983 | AV94: =ROUND(AZ94*L29,2) -> 0 | AW94: =ROUND(BA94*L30,2) -> 0 | AX94: =ROUND(BB94*L29,2) -> 0 | AY94: =ROUND(BC94*L30,2) -> 0 | AZ94: =ROUND(SUM(AZ95:AZ104),2) -> 0 | BA94: =ROUND(SUM(BA95:BA104),2) -> 0 | BB94: =ROUND(SUM(BB95:BB104),2) -> 0 | BC94: =ROUND(SUM(BC95:BC104),2) -> 0 | BD94: =ROUND(SUM(BD95:BD104),2) -> 0 | BS94: D | BT94: 0 | BU94: ###NOIMPORT### | BV94: IMPORT | BW94: {6911c4a0-5835-4b3c-9545-bc14671a9b71} | BX94: {00000000-0000-0000-0000-000000000000}
A95: / | D95: 01 | J95: 2.06A WC | AG95: ='01 - 2.06A WC'!J30 -> 0 | AN95: =SUM(AG95,AT95) -> 0 | AQ95: STA | AS95: 0 | AT95: =ROUND(SUM(AV95:AW95),2) -> 0 | AU95: ='01 - 2.06A WC'!P134 -> 114.55395 | AV95: ='01 - 2.06A WC'!J33 -> 0 | AW95: ='01 - 2.06A WC'!J34 -> 0 | AX95: ='01 - 2.06A WC'!J35 -> 0 | AY95: ='01 - 2.06A WC'!J36 -> 0 | AZ95: ='01 - 2.06A WC'!F33 -> 0 | BA95: ='01 - 2.06A WC'!F34 -> 0 | BB95: ='01 - 2.06A WC'!F35 -> 0 | BC95: ='01 - 2.06A WC'!F36 -> 0 | BD95: ='01 - 2.06A WC'!F37 -> 0 | BT95: 1 | BV95: IMPORT | BW95: {62e47760-f141-40a8-b783-c958d77667d4} | BX95: {6911c4a0-5835-4b3c-9545-bc14671a9b71} | CM95: 1
A96: / | D96: 02 | J96: 2.06 Sklad | AG96: ='02 - 2.06 Sklad'!J30 -> 0 | AN96: =SUM(AG96,AT96) -> 0 | AQ96: STA | AS96: 0 | AT96: =ROUND(SUM(AV96:AW96),2) -> 0 | AU96: ='02 - 2.06 Sklad'!P126 -> 71.291809 | AV96: ='02 - 2.06 Sklad'!J33 -> 0 | AW96: ='02 - 2.06 Sklad'!J34 -> 0 | AX96: ='02 - 2.06 Sklad'!J35 -> 0 | AY96: ='02 - 2.06 Sklad'!J36 -> 0 | AZ96: ='02 - 2.06 Sklad'!F33 -> 0 | BA96: ='02 - 2.06 Sklad'!F34 -> 0 | BB96: ='02 - 2.06 Sklad'!F35 -> 0 | BC96: ='02 - 2.06 Sklad'!F36 -> 0 | BD96: ='02 - 2.06 Sklad'!F37 -> 0 | BT96: 1 | BV96: IMPORT | BW96: {b7f59d6f-b389-4f36-a718-1a72f385f84b} | BX96: {6911c4a0-5835-4b3c-9545-bc14671a9b71} | CM96: 1
A97: / | D97: 03 | J97: 2.01 a 2.03 Chodba | AG97: ='03 - 2.01 a 2.03 Chodba'!J30 -> 0 | AN97: =SUM(AG97,AT97) -> 0 | AQ97: STA | AS97: 0 | AT97: =ROUND(SUM(AV97:AW97),2) -> 0 | AU97: ='03 - 2.01 a 2.03 Chodba'!P126 -> 197.52046 | AV97: ='03 - 2.01 a 2.03 Chodba'!J33 -> 0 | AW97: ='03 - 2.01 a 2.03 Chodba'!J34 -> 0 | AX97: ='03 - 2.01 a 2.03 Chodba'!J35 -> 0 | AY97: ='03 - 2.01 a 2.03 Chodba'!J36 -> 0 | AZ97: ='03 - 2.01 a 2.03 Chodba'!F33 -> 0 | BA97: ='03 - 2.01 a 2.03 Chodba'!F34 -> 0 | BB97: ='03 - 2.01 a 2.03 Chodba'!F35 -> 0 | BC97: ='03 - 2.01 a 2.03 Chodba'!F36 -> 0 | BD97: ='03 - 2.01 a 2.03 Chodba'!F37 -> 0 | BT97: 1 | BV97: IMPORT | BW97: {920089fb-fbb0-433f-a407-3728e803b642} | BX97: {6911c4a0-5835-4b3c-9545-bc14671a9b71} | CM97: 1
A98: / | D98: 04 | J98: 2.04 Dielňa | AG98: ='04 - 2.04 Dielňa'!J30 -> 0 | AN98: =SUM(AG98,AT98) -> 0 | AQ98: STA | AS98: 0 | AT98: =ROUND(SUM(AV98:AW98),2) -> 0 | AU98: ='04 - 2.04 Dielňa'!P124 -> 63.376799 | AV98: ='04 - 2.04 Dielňa'!J33 -> 0 | AW98: ='04 - 2.04 Dielňa'!J34 -> 0 | AX98: ='04 - 2.04 Dielňa'!J35 -> 0 | AY98: ='04 - 2.04 Dielňa'!J36 -> 0 | AZ98: ='04 - 2.04 Dielňa'!F33 -> 0 | BA98: ='04 - 2.04 Dielňa'!F34 -> 0 | BB98: ='04 - 2.04 Dielňa'!F35 -> 0 | BC98: ='04 - 2.04 Dielňa'!F36 -> 0 | BD98: ='04 - 2.04 Dielňa'!F37 -> 0 | BT98: 1 | BV98: IMPORT | BW98: {3cfbd051-532d-4ea4-bd10-6fbf30c30b82} | BX98: {6911c4a0-5835-4b3c-9545-bc14671a9b71} | CM98: 1
A99: / | D99: 05 | J99: 2.21 Kancelária | AG99: ='05 - 2.21 Kancelária'!J30 -> 0 | AN99: =SUM(AG99,AT99) -> 0 | AQ99: STA | AS99: 0 | AT99: =ROUND(SUM(AV99:AW99),2) -> 0 | AU99: ='05 - 2.21 Kancelária'!P125 -> 76.643809 | AV99: ='05 - 2.21 Kancelária'!J33 -> 0 | AW99: ='05 - 2.21 Kancelária'!J34 -> 0 | AX99: ='05 - 2.21 Kancelária'!J35 -> 0 | AY99: ='05 - 2.21 Kancelária'!J36 -> 0 | AZ99: ='05 - 2.21 Kancelária'!F33 -> 0 | BA99: ='05 - 2.21 Kancelária'!F34 -> 0 | BB99: ='05 - 2.21 Kancelária'!F35 -> 0 | BC99: ='05 - 2.21 Kancelária'!F36 -> 0 | BD99: ='05 - 2.21 Kancelária'!F37 -> 0 | BT99: 1 | BV99: IMPORT | BW99: {9ffeef66-e8e8-4402-aaa0-06a364da6e45} | BX99: {6911c4a0-5835-4b3c-9545-bc14671a9b71} | CM99: 1
A100: / | D100: 06 | J100: 2.22 Kancelária | AG100: ='06 - 2.22 Kancelária'!J30 -> 0 | AN100: =SUM(AG100,AT100) -> 0 | AQ100: STA | AS100: 0 | AT100: =ROUND(SUM(AV100:AW100),2) -> 0 | AU100: ='06 - 2.22 Kancelária'!P124 -> 68.065971 | AV100: ='06 - 2.22 Kancelária'!J33 -> 0 | AW100: ='06 - 2.22 Kancelária'!J34 -> 0 | AX100: ='06 - 2.22 Kancelária'!J35 -> 0 | AY100: ='06 - 2.22 Kancelária'!J36 -> 0 | AZ100: ='06 - 2.22 Kancelária'!F33 -> 0 | BA100: ='06 - 2.22 Kancelária'!F34 -> 0 | BB100: ='06 - 2.22 Kancelária'!F35 -> 0 | BC100: ='06 - 2.22 Kancelária'!F36 -> 0 | BD100: ='06 - 2.22 Kancelária'!F37 -> 0 | BT100: 1 | BV100: IMPORT | BW100: {a710374d-1384-4a40-a1cc-ba918fa2e81f} | BX100: {6911c4a0-5835-4b3c-9545-bc14671a9b71} | CM100: 1
A101: / | D101: 07 | J101: 2.23 Kancelária | AG101: ='07 - 2.23 Kancelária'!J30 -> 0 | AN101: =SUM(AG101,AT101) -> 0 | AQ101: STA | AS101: 0 | AT101: =ROUND(SUM(AV101:AW101),2) -> 0 | AU101: ='07 - 2.23 Kancelária'!P124 -> 70.363829 | AV101: ='07 - 2.23 Kancelária'!J33 -> 0 | AW101: ='07 - 2.23 Kancelária'!J34 -> 0 | AX101: ='07 - 2.23 Kancelária'!J35 -> 0 | AY101: ='07 - 2.23 Kancelária'!J36 -> 0 | AZ101: ='07 - 2.23 Kancelária'!F33 -> 0 | BA101: ='07 - 2.23 Kancelária'!F34 -> 0 | BB101: ='07 - 2.23 Kancelária'!F35 -> 0 | BC101: ='07 - 2.23 Kancelária'!F36 -> 0 | BD101: ='07 - 2.23 Kancelária'!F37 -> 0 | BT101: 1 | BV101: IMPORT | BW101: {d5ae8967-42f9-4c06-8562-c9343b022d6c} | BX101: {6911c4a0-5835-4b3c-9545-bc14671a9b71} | CM101: 1
A102: / | D102: 08 | J102: 2.26 Zasadačka | AG102: ='08 - 2.26 Zasadačka'!J30 -> 0 | AN102: =SUM(AG102,AT102) -> 0 | AQ102: STA | AS102: 0 | AT102: =ROUND(SUM(AV102:AW102),2) -> 0 | AU102: ='08 - 2.26 Zasadačka'!P124 -> 85.235224 | AV102: ='08 - 2.26 Zasadačka'!J33 -> 0 | AW102: ='08 - 2.26 Zasadačka'!J34 -> 0 | AX102: ='08 - 2.26 Zasadačka'!J35 -> 0 | AY102: ='08 - 2.26 Zasadačka'!J36 -> 0 | AZ102: ='08 - 2.26 Zasadačka'!F33 -> 0 | BA102: ='08 - 2.26 Zasadačka'!F34 -> 0 | BB102: ='08 - 2.26 Zasadačka'!F35 -> 0 | BC102: ='08 - 2.26 Zasadačka'!F36 -> 0 | BD102: ='08 - 2.26 Zasadačka'!F37 -> 0 | BT102: 1 | BV102: IMPORT | BW102: {d262396e-d167-414b-b700-287520ddb0f6} | BX102: {6911c4a0-5835-4b3c-9545-bc14671a9b71} | CM102: 1
A103: / | D103: 09 | J103: 2.05 WC | AG103: ='09 - 2.05 WC'!J30 -> 0 | AN103: =SUM(AG103,AT103) -> 0 | AQ103: STA | AS103: 0 | AT103: =ROUND(SUM(AV103:AW103),2) -> 0 | AU103: ='09 - 2.05 WC'!P123 -> 22.266456 | AV103: ='09 - 2.05 WC'!J33 -> 0 | AW103: ='09 - 2.05 WC'!J34 -> 0 | AX103: ='09 - 2.05 WC'!J35 -> 0 | AY103: ='09 - 2.05 WC'!J36 -> 0 | AZ103: ='09 - 2.05 WC'!F33 -> 0 | BA103: ='09 - 2.05 WC'!F34 -> 0 | BB103: ='09 - 2.05 WC'!F35 -> 0 | BC103: ='09 - 2.05 WC'!F36 -> 0 | BD103: ='09 - 2.05 WC'!F37 -> 0 | BT103: 1 | BV103: IMPORT | BW103: {39e0cc89-dec2-479f-9acc-d0f58f33d7cf} | BX103: {6911c4a0-5835-4b3c-9545-bc14671a9b71} | CM103: 1
A104: / | D104: 10 | J104: 2.25 Sklad-Kuchynka | AG104: ='10 - 2.25 Sklad-Kuchynka'!J30 -> 0 | AN104: =SUM(AG104,AT104) -> 0 | AQ104: STA | AS104: 0 | AT104: =ROUND(SUM(AV104:AW104),2) -> 0 | AU104: ='10 - 2.25 Sklad-Kuchynka'!P123 -> 8.48 | AV104: ='10 - 2.25 Sklad-Kuchynka'!J33 -> 0 | AW104: ='10 - 2.25 Sklad-Kuchynka'!J34 -> 0 | AX104: ='10 - 2.25 Sklad-Kuchynka'!J35 -> 0 | AY104: ='10 - 2.25 Sklad-Kuchynka'!J36 -> 0 | AZ104: ='10 - 2.25 Sklad-Kuchynka'!F33 -> 0 | BA104: ='10 - 2.25 Sklad-Kuchynka'!F34 -> 0 | BB104: ='10 - 2.25 Sklad-Kuchynka'!F35 -> 0 | BC104: ='10 - 2.25 Sklad-Kuchynka'!F36 -> 0 | BD104: ='10 - 2.25 Sklad-Kuchynka'!F37 -> 0 | BT104: 1 | BV104: IMPORT | BW104: {a41477ab-b5e0-4c44-8d33-22f03ef2dddc} | BX104: {6911c4a0-5835-4b3c-9545-bc14671a9b71} | CM104: 1

Sheet 01 - 2.06A WC
L2: >> skryté stĺpce << | AT2: {62e47760-f141-40a8-b783-c958d77667d4}
AT3: 1
D4: KRYCÍ LIST ROZPOČTU | M4: v --- nižšie sa nachádzajú doplnkové a pomocné údaje k zostavám --- v | AT4: False
D6: Stavba:
E7: ='Rekapitulácia stavby'!K6 -> MHTH_Teplárenská - Rekonštrukcia miestnosti v budove SP 12 na +4,200
D8: Objekt:
E9: 01 - 2.06A WC
D11: JKSO: | I11: ČS:
D12: Miesto: | I12: Dátum: | J12: ='Rekapitulácia stavby'!AN8 -> 16. 9. 2026
D14: Objednávateľ: | I14: IČO: | J14: =IF('Rekapitulácia stavby'!AN10="","",'Rekapitulácia stavby'!AN10)
E15: =IF('Rekapitulácia stavby'!E11="","",'Rekapitulácia stavby'!E11) | I15: IČ DPH: | J15: =IF('Rekapitulácia stavby'!AN11="","",'Rekapitulácia stavby'!AN11)
D17: Zhotoviteľ: | I17: IČO: | J17: ='Rekapitulácia stavby'!AN13
E18: ='Rekapitulácia stavby'!E14 | I18: IČ DPH: | J18: ='Rekapitulácia stavby'!AN14
D20: Projektant: | I20: IČO: | J20: =IF('Rekapitulácia stavby'!AN16="","",'Rekapitulácia stavby'!AN16)
E21: =IF('Rekapitulácia stavby'!E17="","",'Rekapitulácia stavby'!E17) | I21: IČ DPH: | J21: =IF('Rekapitulácia stavby'!AN17="","",'Rekapitulácia stavby'!AN17)
D23: Spracovateľ: | I23: IČO: | J23: =IF('Rekapitulácia stavby'!AN19="","",'Rekapitulácia stavby'!AN19)
E24: =IF('Rekapitulácia stavby'!E20="","",'Rekapitulácia stavby'!E20) | I24: IČ DPH: | J24: =IF('Rekapitulácia stavby'!AN20="","",'Rekapitulácia stavby'!AN20)
D26: Poznámka:
D30: Cena bez DPH | J30: =ROUND(J134, 2) -> 0
F32: Základ dane | I32: Sadzba dane | J32: Výška dane
D33: DPH | E33: základná | F33: =ROUND((SUM(BE134:BE444)), 2) -> 0 | I33: 0.23 | J33: =ROUND(((SUM(BE134:BE444))*I33), 2) -> 0
E34: znížená | F34: =ROUND((SUM(BF134:BF444)), 2) -> 0 | I34: 0.23 | J34: =ROUND(((SUM(BF134:BF444))*I34), 2) -> 0
E35: zákl. prenesená | F35: =ROUND((SUM(BG134:BG444)), 2) -> 0 | I35: 0.23 | J35: =0 -> 0
E36: zníž. prenesená | F36: =ROUND((SUM(BH134:BH444)), 2) -> 0 | I36: 0.23 | J36: =0 -> 0
E37: nulová | F37: =ROUND((SUM(BI134:BI444)), 2) -> 0 | I37: 0 | J37: =0 -> 0
D39: Cena s DPH | G39: v | H39: EUR | J39: =SUM(J30:J37) -> 0
D50: Projektant | G50: Spracovateľ
D61: Dátum a podpis: | F61: Pečiatka | G61: Dátum a podpis: | J61: Pečiatka
D65: Objednávateľ | G65: Zhotoviteľ
D76: Dátum a podpis: | F76: Pečiatka | G76: Dátum a podpis: | J76: Pečiatka
C82: REKAPITULÁCIA ROZPOČTU
C84: Stavba:
E85: =E7 -> MHTH_Teplárenská - Rekonštrukcia miestnosti v budove SP 12 na +4,200
C86: Objekt:
E87: =E9 -> 01 - 2.06A WC
C89: Miesto: | F89: =F12 | I89: Dátum: | J89: =IF(J12="","",J12) -> 16. 9. 2026
C91: Objednávateľ: | F91: =E15 | I91: Projektant: | J91: =E21
C92: Zhotoviteľ: | F92: =IF(E18="","",E18) | I92: Spracovateľ: | J92: =E24
C94: Kód dielu - Popis | J94: Cena celkom [EUR]
C96: Náklady z rozpočtu | J96: =J134 -> 0 | AU96: -1
D97: HSV - Práce a dodávky HSV | J97: =J135 -> 0
D98: 3 - Zvislé a kompletné konštrukcie | J98: =J136 -> 0
D99: 6 - Úpravy povrchov, podlahy, osadenie | J99: =J144 -> 0
D100: 9 - Ostatné konštrukcie a práce-búranie | J100: =J201 -> 0
D101: 99 - Presun hmôt HSV | J101: =J274 -> 0
D102: PSV - Práce a dodávky PSV | J102: =J282 -> 0
D103: 711 - Izolácie proti vode a vlhkosti | J103: =J283 -> 0
D104: 721 - Zdravotechnika - vnútorná kanalizácia | J104: =J294 -> 0
D105: 722 - Zdravotechnika - vnútorný vodovod | J105: =J302 -> 0
D106: 725 - Zdravotechnika - zariaďovacie predmety | J106: =J314 -> 0
D107: 763 - Konštrukcie - drevostavby | J107: =J333 -> 0
D108: 766 - Konštrukcie stolárske | J108: =J340 -> 0
D109: 769 - Montáže vzduchotechnických zariadení | J109: =J347 -> 0
D110: 771 - Podlahy z dlaždíc | J110: =J364 -> 0
D111: 776 - Podlahy povlakové | J111: =J388 -> 0
D112: 781 - Obklady | J112: =J394 -> 0
D113: 784 - Maľby | J113: =J408 -> 0
D114: HZS - Hodinové zúčtovacie sadzby | J114: =J443 -> 0
C121: ROZPOČET
C123: Stavba:
E124: =E7 -> MHTH_Teplárenská - Rekonštrukcia miestnosti v budove SP 12 na +4,200
C125: Objekt:
E126: =E9 -> 01 - 2.06A WC
C128: Miesto: | F128: =F12 | I128: Dátum: | J128: =IF(J12="","",J12) -> 16. 9. 2026
C130: Objednávateľ: | F130: =E15 | I130: Projektant: | J130: =E21
C131: Zhotoviteľ: | F131: =IF(E18="","",E18) | I131: Spracovateľ: | J131: =E24
C133: PČ | D133: Typ | E133: Kód | F133: Popis | G133: MJ | H133: Množstvo | I133: J.cena [EUR] | J133: Cena celkom [EUR] | K133: Cenová sústava | N133: DPH | O133: J. Nh [h] | P133: Nh celkom [h] | Q133: J. hmotnosť [t] | R133: Hmotnosť celkom [t] | S133: J. suť [t] | T133: Suť Celkom [t]
C134: Náklady z rozpočtu | J134: =BK134 -> 0 | P134: =P135+P282+P443 -> 114.55395 | R134: =R135+R282+R443 -> 1.7855631 | T134: =T135+T282+T443 -> 1.392333 | AT134: D | AU134: -1 | BK134: =BK135+BK282+BK443 -> 0
D135: D | E135: HSV | F135: Práce a dodávky HSV | J135: =BK135 -> 0 | P135: =P136+P144+P201+P274 -> 49.220027 | R135: =R136+R144+R201+R274 -> 1.283551 | T135: =T136+T144+T201+T274 -> 1.381085 | AR135: 1 | AT135: D | AU135: 0 | AY135: ROZPOCET | BK135: =BK136+BK144+BK201+BK274 -> 0
D136: D | E136: 3 | F136: Zvislé a kompletné konštrukcie | J136: =BK136 -> 0 | P136: =SUM(P137:P143) -> 2.9414586 | R136: =SUM(R137:R143) -> 0.81253363 | T136: =SUM(T137:T143) -> 0 | AR136: 1 | AT136: D | AU136: 1 | AY136: ROZPOCET | BK136: =SUM(BK137:BK143) -> 0
C137: 1 | D137: K | E137: 310239211.S | F137: Zamurovanie otvoru s plochou nad 1 do 4 m2 v murive nadzákladného tehlami na maltu vápennocementovú | G137: m3 | H137: 0.2 | J137: =ROUND(I137*H137,2) -> 0 | N137: znížená | O137: 3.66054 | P137: =O137*H137 -> 0.732108 | Q137: 1.92736 | R137: =Q137*H137 -> 0.385472 | S137: 0 | T137: =S137*H137 -> 0 | AR137: 4 | AT137: K | AU137: 2 | AY137: ROZPOCET | BE137: =IF(N137="základná",J137,0) -> 0 | BF137: =IF(N137="znížená",J137,0) -> 0 | BG137: =IF(N137="zákl. prenesená",J137,0) -> 0 | BH137: =IF(N137="zníž. prenesená",J137,0) -> 0 | BI137: =IF(N137="nulová",J137,0) -> 0 | BJ137: 2 | BK137: =ROUND(I137*H137,2) -> 0 | BL137: 4 | BM137: 2
D138: VV | F138: Zamurovanie jestvujúceho dverného otvoru do skladu | AT138: VV | AU138: 2 | AV138: 1 | AW138: True | AX138: 0 | AY138: ROZPOCET
D139: VV | F139: 0,8*2*0,125 | H139: 0.2 | AT139: VV | AU139: 2 | AV139: 2 | AW139: True | AX139: 0 | AY139: ROZPOCET
D140: VV | F140: Súčet | H140: 0.2 | AT140: VV | AU140: 2 | AV140: 4 | AW140: True | AX140: 1 | AY140: ROZPOCET
C141: 2 | D141: K | E141: 342272041.S | F141: Priečky z pórobetónových tvárnic hladkých s objemovou hmotnosťou do 600 kg/m3 hrúbky 125 mm | G141: m2 | H141: 4.59 | J141: =ROUND(I141*H141,2) -> 0 | N141: znížená | O141: 0.48134 | P141: =O141*H141 -> 2.2093506 | Q141: 0.09304175 | R141: =Q141*H141 -> 0.42706163 | S141: 0 | T141: =S141*H141 -> 0 | AR141: 4 | AT141: K | AU141: 2 | AY141: ROZPOCET | BE141: =IF(N141="základná",J141,0) -> 0 | BF141: =IF(N141="znížená",J141,0) -> 0 | BG141: =IF(N141="zákl. prenesená",J141,0) -> 0 | BH141: =IF(N141="zníž. prenesená",J141,0) -> 0 | BI141: =IF(N141="nulová",J141,0) -> 0 | BJ141: 2 | BK141: =ROUND(I141*H141,2) -> 0 | BL141: 4 | BM141: 4
D142: VV | F142: 1,7*2,7 "nová deliaca priečka | H142: 4.59 | AT142: VV | AU142: 2 | AV142: 2 | AW142: True | AX142: 0 | AY142: ROZPOCET
D143: VV | F143: Súčet | H143: 4.59 | AT143: VV | AU143: 2 | AV143: 4 | AW143: True | AX143: 1 | AY143: ROZPOCET
D144: D | E144: 6 | F144: Úpravy povrchov, podlahy, osadenie | J144: =BK144 -> 0 | P144: =SUM(P145:P200) -> 13.271516 | R144: =SUM(R145:R200) -> 0.27458374 | T144: =SUM(T145:T200) -> 0 | AR144: 1 | AT144: D | AU144: 1 | AY144: ROZPOCET | BK144: =SUM(BK145:BK200) -> 0
C145: 3 | D145: K | E145: 611421231.S | F145: Oprava vnútorných vápenných omietok stropov železobetónových rovných tvárnicových a klenieb, opravovaná plocha nad 5 do 10 %,štuková | G145: m2 | H145: 2.21 | J145: =ROUND(I145*H145,2) -> 0 | N145: znížená | O145: 0.12586 | P145: =O145*H145 -> 0.2781506 | Q145: 0.0041692 | R145: =Q145*H145 -> 0.009213932 | S145: 0 | T145: =S145*H145 -> 0 | AR145: 4 | AT145: K | AU145: 2 | AY145: ROZPOCET | BE145: =IF(N145="základná",J145,0) -> 0 | BF145: =IF(N145="znížená",J145,0) -> 0 | BG145: =IF(N145="zákl. prenesená",J145,0) -> 0 | BH145: =IF(N145="zníž. prenesená",J145,0) -> 0 | BI145: =IF(N145="nulová",J145,0) -> 0 | BJ145: 2 | BK145: =ROUND(I145*H145,2) -> 0 | BL145: 4 | BM145: 6
C146: 4 | D146: K | E146: 611426151.S | F146: Výplň rýh, drážok a škár v stropoch vápennocementovou maltou priemerného prierezu 30 cm2 | G146: m | H146: 4.5 | J146: =ROUND(I146*H146,2) -> 0 | N146: znížená | O146: 0.43408 | P146: =O146*H146 -> 1.95336 | Q146: 0.005253 | R146: =Q146*H146 -> 0.0236385 | S146: 0 | T146: =S146*H146 -> 0 | AR146: 4 | AT146: K | AU146: 2 | AY146: ROZPOCET | BE146: =IF(N146="základná",J146,0) -> 0 | BF146: =IF(N146="znížená",J146,0) -> 0 | BG146: =IF(N146="zákl. prenesená",J146,0) -> 0 | BH146: =IF(N146="zníž. prenesená",J146,0) -> 0 | BI146: =IF(N146="nulová",J146,0) -> 0 | BJ146: 2 | BK146: =ROUND(I146*H146,2) -> 0 | BL146: 4 | BM146: 8
D147: VV | F147: Vyplnenie drážok k vypínaču a svietidlu | AT147: VV | AU147: 2 | AV147: 1 | AW147: True | AX147: 0 | AY147: ROZPOCET
D148: VV | F148: 1,5+2+1 | H148: 4.5 | AT148: VV | AU148: 2 | AV148: 2 | AW148: True | AX148: 0 | AY148: ROZPOCET
D149: VV | F149: Súčet | H149: 4.5 | AT149: VV | AU149: 2 | AV149: 4 | AW149: True | AX149: 1 | AY149: ROZPOCET
C150: 5 | D150: K | E150: 611460122.S | F150: Príprava vnútorného podkladu stropov penetráciou hĺbkovou na nasiakavé podklady | G150: m2 | H150: 2.21 | J150: =ROUND(I150*H150,2) -> 0 | N150: znížená | O150: 0.11204 | P150: =O150*H150 -> 0.2476084 | Q150: 0.0002 | R150: =Q150*H150 -> 0.000442 | S150: 0 | T150: =S150*H150 -> 0 | AR150: 4 | AT150: K | AU150: 2 | AY150: ROZPOCET | BE150: =IF(N150="základná",J150,0) -> 0 | BF150: =IF(N150="znížená",J150,0) -> 0 | BG150: =IF(N150="zákl. prenesená",J150,0) -> 0 | BH150: =IF(N150="zníž. prenesená",J150,0) -> 0 | BI150: =IF(N150="nulová",J150,0) -> 0 | BJ150: 2 | BK150: =ROUND(I150*H150,2) -> 0 | BL150: 4 | BM150: 10
D151: VV | F151: Pod lepidlo a sieťku | AT151: VV | AU151: 2 | AV151: 1 | AW151: True | AX151: 0 | AY151: ROZPOCET
D152: VV | F152: 2,21 | H152: 2.21 | AT152: VV | AU152: 2 | AV152: 2 | AW152: True | AX152: 0 | AY152: ROZPOCET
D153: VV | F153: Súčet | H153: 2.21 | AT153: VV | AU153: 2 | AV153: 4 | AW153: True | AX153: 1 | AY153: ROZPOCET
C154: 6 | D154: K | E154: 611460124.S | F154: Príprava vnútorného podkladu stropov penetráciou pod omietky a nátery | G154: m2 | H154: 2.21 | J154: =ROUND(I154*H154,2) -> 0 | N154: znížená | O154: 0.11208 | P154: =O154*H154 -> 0.2476968 | Q154: 0.0004 | R154: =Q154*H154 -> 0.000884 | S154: 0 | T154: =S154*H154 -> 0 | AR154: 4 | AT154: K | AU154: 2 | AY154: ROZPOCET | BE154: =IF(N154="základná",J154,0) -> 0 | BF154: =IF(N154="znížená",J154,0) -> 0 | BG154: =IF(N154="zákl. prenesená",J154,0) -> 0 | BH154: =IF(N154="zníž. prenesená",J154,0) -> 0 | BI154: =IF(N154="nulová",J154,0) -> 0 | BJ154: 2 | BK154: =ROUND(I154*H154,2) -> 0 | BL154: 4 | BM154: 12
D155: VV | F155: Pod jemnú omietku | AT155: VV | AU155: 2 | AV155: 1 | AW155: True | AX155: 0 | AY155: ROZPOCET
D156: VV | F156: 2,21 | H156: 2.21 | AT156: VV | AU156: 2 | AV156: 2 | AW156: True | AX156: 0 | AY156: ROZPOCET
D157: VV | F157: Súčet | H157: 2.21 | AT157: VV | AU157: 2 | AV157: 4 | AW157: True | AX157: 1 | AY157: ROZPOCET
C158: 7 | D158: K | E158: 611481119.S | F158: Potiahnutie vnútorných stropov sklotextilnou mriežkou s celoplošným prilepením | G158: m2 | H158: 2.21 | J158: =ROUND(I158*H158,2) -> 0 | N158: znížená | O158: 0.21106 | P158: =O158*H158 -> 0.4664426 | Q158: 0.005154 | R158: =Q158*H158 -> 0.01139034 | S158: 0 | T158: =S158*H158 -> 0 | AR158: 4 | AT158: K | AU158: 2 | AY158: ROZPOCET | BE158: =IF(N158="základná",J158,0) -> 0 | BF158: =IF(N158="znížená",J158,0) -> 0 | BG158: =IF(N158="zákl. prenesená",J158,0) -> 0 | BH158: =IF(N158="zníž. prenesená",J158,0) -> 0 | BI158: =IF(N158="nulová",J158,0) -> 0 | BJ158: 2 | BK158: =ROUND(I158*H158,2) -> 0 | BL158: 4 | BM158: 14
D159: VV | F159: (1,3*1,15)+(1,3*0,55) "strop" | H159: 2.21 | AT159: VV | AU159: 2 | AV159: 2 | AW159: True | AX159: 0 | AY159: ROZPOCET
D160: VV | F160: Súčet | H160: 2.21 | AT160: VV | AU160: 2 | AV160: 4 | AW160: True | AX160: 1 | AY160: ROZPOCET
C161: 8 | D161: K | E161: 612401918.S | F161: Príplatok za navlhčenie nasiakavého povrchu pod omietky vnútorných stien a pilierov | G161: m2 | H161: 9.54 | J161: =ROUND(I161*H161,2) -> 0 | N161: znížená | O161: 0.023 | P161: =O161*H161 -> 0.21942 | Q161: 0 | R161: =Q161*H161 -> 0 | S161: 0 | T161: =S161*H161 -> 0 | AR161: 4 | AT161: K | AU161: 2 | AY161: ROZPOCET | BE161: =IF(N161="základná",J161,0) -> 0 | BF161: =IF(N161="znížená",J161,0) -> 0 | BG161: =IF(N161="zákl. prenesená",J161,0) -> 0 | BH161: =IF(N161="zníž. prenesená",J161,0) -> 0 | BI161: =IF(N161="nulová",J161,0) -> 0 | BJ161: 2 | BK161: =ROUND(I161*H161,2) -> 0 | BL161: 4 | BM161: 16
D162: VV | F162: Pod jadrovú omietku | AT162: VV | AU162: 2 | AV162: 1 | AW162: True | AX162: 0 | AY162: ROZPOCET
D163: VV | F163: (1,7+1,3+1,7+1,3)*1,8 "obklad" | H163: 10.8 | AT163: VV | AU163: 2 | AV163: 2 | AW163: True | AX163: 0 | AY163: ROZPOCET
D164: VV | F164: -0,7*1,8 "dverný otvor" | H164: -1.26 | AT164: VV | AU164: 2 | AV164: 2 | AW164: True | AX164: 0 | AY164: ROZPOCET
D165: VV | F165: Súčet | H165: 9.54 | AT165: VV | AU165: 2 | AV165: 4 | AW165: True | AX165: 1 | AY165: ROZPOCET
C166: 9 | D166: K | E166: 612460122.S | F166: Príprava vnútorného podkladu stien penetráciou hĺbkovou na nasiakavé podklady | G166: m2 | H166: 14.25 | J166: =ROUND(I166*H166,2) -> 0 | N166: znížená | O166: 0.05204 | P166: =O166*H166 -> 0.74157 | Q166: 0.0002 | R166: =Q166*H166 -> 0.00285 | S166: 0 | T166: =S166*H166 -> 0 | AR166: 4 | AT166: K | AU166: 2 | AY166: ROZPOCET | BE166: =IF(N166="základná",J166,0) -> 0 | BF166: =IF(N166="znížená",J166,0) -> 0 | BG166: =IF(N166="zákl. prenesená",J166,0) -> 0 | BH166: =IF(N166="zníž. prenesená",J166,0) -> 0 | BI166: =IF(N166="nulová",J166,0) -> 0 | BJ166: 2 | BK166: =ROUND(I166*H166,2) -> 0 | BL166: 4 | BM166: 18
...

Sheet 02 - 2.06 Sklad
L2: >> skryté stĺpce << | AT2: {b7f59d6f-b389-4f36-a718-1a72f385f84b}
AT3: 1
D4: KRYCÍ LIST ROZPOČTU | M4: v --- nižšie sa nachádzajú doplnkové a pomocné údaje k zostavám --- v | AT4: False
D6: Stavba:
E7: ='Rekapitulácia stavby'!K6 -> MHTH_Teplárenská - Rekonštrukcia miestnosti v budove SP 12 na +4,200
D8: Objekt:
E9: 02 - 2.06 Sklad
D11: JKSO: | I11: ČS:
D12: Miesto: | I12: Dátum: | J12: ='Rekapitulácia stavby'!AN8 -> 16. 9. 2026
D14: Objednávateľ: | I14: IČO: | J14: =IF('Rekapitulácia stavby'!AN10="","",'Rekapitulácia stavby'!AN10)
E15: =IF('Rekapitulácia stavby'!E11="","",'Rekapitulácia stavby'!E11) | I15: IČ DPH: | J15: =IF('Rekapitulácia stavby'!AN11="","",'Rekapitulácia stavby'!AN11)
D17: Zhotoviteľ: | I17: IČO: | J17: ='Rekapitulácia stavby'!AN13
E18: ='Rekapitulácia stavby'!E14 | I18: IČ DPH: | J18: ='Rekapitulácia stavby'!AN14
D20: Projektant: | I20: IČO: | J20: =IF('Rekapitulácia stavby'!AN16="","",'Rekapitulácia stavby'!AN16)
E21: =IF('Rekapitulácia stavby'!E17="","",'Rekapitulácia stavby'!E17) | I21: IČ DPH: | J21: =IF('Rekapitulácia stavby'!AN17="","",'Rekapitulácia stavby'!AN17)
D23: Spracovateľ: | I23: IČO: | J23: =IF('Rekapitulácia stavby'!AN19="","",'Rekapitulácia stavby'!AN19)
E24: =IF('Rekapitulácia stavby'!E20="","",'Rekapitulácia stavby'!E20) | I24: IČ DPH: | J24: =IF('Rekapitulácia stavby'!AN20="","",'Rekapitulácia stavby'!AN20)
D26: Poznámka:
D30: Cena bez DPH | J30: =ROUND(J126, 2) -> 0
F32: Základ dane | I32: Sadzba dane | J32: Výška dane
D33: DPH | E33: základná | F33: =ROUND((SUM(BE126:BE280)), 2) -> 0 | I33: 0.23 | J33: =ROUND(((SUM(BE126:BE280))*I33), 2) -> 0
E34: znížená | F34: =ROUND((SUM(BF126:BF280)), 2) -> 0 | I34: 0.23 | J34: =ROUND(((SUM(BF126:BF280))*I34), 2) -> 0
E35: zákl. prenesená | F35: =ROUND((SUM(BG126:BG280)), 2) -> 0 | I35: 0.23 | J35: =0 -> 0
E36: zníž. prenesená | F36: =ROUND((SUM(BH126:BH280)), 2) -> 0 | I36: 0.23 | J36: =0 -> 0
E37: nulová | F37: =ROUND((SUM(BI126:BI280)), 2) -> 0 | I37: 0 | J37: =0 -> 0
D39: Cena s DPH | G39: v | H39: EUR | J39: =SUM(J30:J37) -> 0
D50: Projektant | G50: Spracovateľ
D61: Dátum a podpis: | F61: Pečiatka | G61: Dátum a podpis: | J61: Pečiatka
D65: Objednávateľ | G65: Zhotoviteľ
D76: Dátum a podpis: | F76: Pečiatka | G76: Dátum a podpis: | J76: Pečiatka
C82: REKAPITULÁCIA ROZPOČTU
C84: Stavba:
E85: =E7 -> MHTH_Teplárenská - Rekonštrukcia miestnosti v budove SP 12 na +4,200
C86: Objekt:
E87: =E9 -> 02 - 2.06 Sklad
C89: Miesto: | F89: =F12 | I89: Dátum: | J89: =IF(J12="","",J12) -> 16. 9. 2026
C91: Objednávateľ: | F91: =E15 | I91: Projektant: | J91: =E21
C92: Zhotoviteľ: | F92: =IF(E18="","",E18) | I92: Spracovateľ: | J92: =E24
C94: Kód dielu - Popis | J94: Cena celkom [EUR]
C96: Náklady z rozpočtu | J96: =J126 -> 0 | AU96: -1
D97: HSV - Práce a dodávky HSV | J97: =J127 -> 0
D98: 6 - Úpravy povrchov, podlahy, osadenie | J98: =J128 -> 0
D99: 9 - Ostatné konštrukcie a práce-búranie | J99: =J156 -> 0
D100: 99 - Presun hmôt HSV | J100: =J198 -> 0
D101: PSV - Práce a dodávky PSV | J101: =J206 -> 0
D102: 766 - Konštrukcie stolárske | J102: =J207 -> 0
D103: 776 - Podlahy povlakové | J103: =J212 -> 0
D104: 783 - Nátery | J104: =J238 -> 0
D105: 784 - Maľby | J105: =J242 -> 0
D106: HZS - Hodinové zúčtovacie sadzby | J106: =J279 -> 0
C113: ROZPOČET
C115: Stavba:
E116: =E7 -> MHTH_Teplárenská - Rekonštrukcia miestnosti v budove SP 12 na +4,200
C117: Objekt:
E118: =E9 -> 02 - 2.06 Sklad
C120: Miesto: | F120: =F12 | I120: Dátum: | J120: =IF(J12="","",J12) -> 16. 9. 2026
C122: Objednávateľ: | F122: =E15 | I122: Projektant: | J122: =E21
C123: Zhotoviteľ: | F123: =IF(E18="","",E18) | I123: Spracovateľ: | J123: =E24
C125: PČ | D125: Typ | E125: Kód | F125: Popis | G125: MJ | H125: Množstvo | I125: J.cena [EUR] | J125: Cena celkom [EUR] | K125: Cenová sústava | N125: DPH | O125: J. Nh [h] | P125: Nh celkom [h] | Q125: J. hmotnosť [t] | R125: Hmotnosť celkom [t] | S125: J. suť [t] | T125: Suť Celkom [t]
C126: Náklady z rozpočtu | J126: =BK126 -> 0 | P126: =P127+P206+P279 -> 71.291809 | R126: =R127+R206+R279 -> 0.90365885 | T126: =T127+T206+T279 -> 0.765479 | AT126: D | AU126: -1 | BK126: =BK127+BK206+BK279 -> 0
D127: D | E127: HSV | F127: Práce a dodávky HSV | J127: =BK127 -> 0 | P127: =P128+P156+P198 -> 27.679346 | R127: =R128+R156+R198 -> 0.78695 | T127: =T128+T156+T198 -> 0.742025 | AR127: 1 | AT127: D | AU127: 0 | AY127: ROZPOCET | BK127: =BK128+BK156+BK198 -> 0
D128: D | E128: 6 | F128: Úpravy povrchov, podlahy, osadenie | J128: =BK128 -> 0 | P128: =SUM(P129:P155) -> 9.9244084 | R128: =SUM(R129:R155) -> 0.22704658 | T128: =SUM(T129:T155) -> 0 | AR128: 1 | AT128: D | AU128: 1 | AY128: ROZPOCET | BK128: =SUM(BK129:BK155) -> 0
C129: 1 | D129: K | E129: 611421231.S | F129: Oprava vnútorných vápenných omietok stropov železobetónových rovných tvárnicových a klenieb, opravovaná plocha nad 5 do 10 %,štuková | G129: m2 | H129: 6.3 | J129: =ROUND(I129*H129,2) -> 0 | N129: znížená | O129: 0.12586 | P129: =O129*H129 -> 0.792918 | Q129: 0.0041692 | R129: =Q129*H129 -> 0.02626596 | S129: 0 | T129: =S129*H129 -> 0 | AR129: 4 | AT129: K | AU129: 2 | AY129: ROZPOCET | BE129: =IF(N129="základná",J129,0) -> 0 | BF129: =IF(N129="znížená",J129,0) -> 0 | BG129: =IF(N129="zákl. prenesená",J129,0) -> 0 | BH129: =IF(N129="zníž. prenesená",J129,0) -> 0 | BI129: =IF(N129="nulová",J129,0) -> 0 | BJ129: 2 | BK129: =ROUND(I129*H129,2) -> 0 | BL129: 4 | BM129: 2
D130: VV | F130: (4,625-1,275)*1,7 | H130: 5.695 | AT130: VV | AU130: 2 | AV130: 2 | AW130: True | AX130: 0 | AY130: ROZPOCET
D131: VV | F131: 0,55*0,55*2 "odpočet kvôli stĺpom | H131: 0.605 | AT131: VV | AU131: 2 | AV131: 2 | AW131: True | AX131: 0 | AY131: ROZPOCET
D132: VV | F132: Súčet | H132: 6.3 | AT132: VV | AU132: 2 | AV132: 4 | AW132: True | AX132: 1 | AY132: ROZPOCET
C133: 2 | D133: K | E133: 612401918.S | F133: Príplatok za navlhčenie nasiakavého povrchu pod omietky vnútorných stien a pilierov | G133: m2 | H133: 3.105 | J133: =ROUND(I133*H133,2) -> 0 | N133: znížená | O133: 0.023 | P133: =O133*H133 -> 0.071415 | Q133: 0 | R133: =Q133*H133 -> 0 | S133: 0 | T133: =S133*H133 -> 0 | AR133: 4 | AT133: K | AU133: 2 | AY133: ROZPOCET | BE133: =IF(N133="základná",J133,0) -> 0 | BF133: =IF(N133="znížená",J133,0) -> 0 | BG133: =IF(N133="zákl. prenesená",J133,0) -> 0 | BH133: =IF(N133="zníž. prenesená",J133,0) -> 0 | BI133: =IF(N133="nulová",J133,0) -> 0 | BJ133: 2 | BK133: =ROUND(I133*H133,2) -> 0 | BL133: 4 | BM133: 4
D134: VV | F134: Pod jadrovú omietku | AT134: VV | AU134: 2 | AV134: 1 | AW134: True | AX134: 0 | AY134: ROZPOCET
D135: VV | F135: 1,15*2,7 | H135: 3.105 | AT135: VV | AU135: 2 | AV135: 2 | AW135: True | AX135: 0 | AY135: ROZPOCET
D136: VV | F136: Súčet | H136: 3.105 | AT136: VV | AU136: 2 | AV136: 4 | AW136: True | AX136: 1 | AY136: ROZPOCET
C137: 3 | D137: K | E137: 612421231.S | F137: Oprava vnútorných vápenných omietok stien, opravovaná plocha nad 5 do 10 %,štuková | G137: m2 | H137: 23.23 | J137: =ROUND(I137*H137,2) -> 0 | N137: znížená | O137: 0.13582 | P137: =O137*H137 -> 3.1550986 | Q137: 0.0039804 | R137: =Q137*H137 -> 0.092464692 | S137: 0 | T137: =S137*H137 -> 0 | AR137: 4 | AT137: K | AU137: 2 | AY137: ROZPOCET | BE137: =IF(N137="základná",J137,0) -> 0 | BF137: =IF(N137="znížená",J137,0) -> 0 | BG137: =IF(N137="zákl. prenesená",J137,0) -> 0 | BH137: =IF(N137="zníž. prenesená",J137,0) -> 0 | BI137: =IF(N137="nulová",J137,0) -> 0 | BJ137: 2 | BK137: =ROUND(I137*H137,2) -> 0 | BL137: 4 | BM137: 6
D138: VV | F138: ((4,625-1,275)+1,7+(4,625-1,275))*2,7 | H138: 22.68 | AT138: VV | AU138: 2 | AV138: 2 | AW138: True | AX138: 0 | AY138: ROZPOCET
D139: VV | F139: 0,55*0,5*2 "odpočet kvôli prievlaku | H139: 0.55 | AT139: VV | AU139: 2 | AV139: 2 | AW139: True | AX139: 0 | AY139: ROZPOCET
D140: VV | F140: Súčet | H140: 23.23 | AT140: VV | AU140: 2 | AV140: 4 | AW140: True | AX140: 1 | AY140: ROZPOCET
C141: 4 | D141: K | E141: 612460124.S | F141: Príprava vnútorného podkladu stien penetráciou pod omietky a nátery | G141: m2 | H141: 3.105 | J141: =ROUND(I141*H141,2) -> 0 | N141: znížená | O141: 0.05208 | P141: =O141*H141 -> 0.1617084 | Q141: 0.0004 | R141: =Q141*H141 -> 0.001242 | S141: 0 | T141: =S141*H141 -> 0 | AR141: 4 | AT141: K | AU141: 2 | AY141: ROZPOCET | BE141: =IF(N141="základná",J141,0) -> 0 | BF141: =IF(N141="znížená",J141,0) -> 0 | BG141: =IF(N141="zákl. prenesená",J141,0) -> 0 | BH141: =IF(N141="zníž. prenesená",J141,0) -> 0 | BI141: =IF(N141="nulová",J141,0) -> 0 | BJ141: 2 | BK141: =ROUND(I141*H141,2) -> 0 | BL141: 4 | BM141: 8
D142: VV | F142: pod štukovú omietku na novú priečku | AT142: VV | AU142: 2 | AV142: 1 | AW142: True | AX142: 0 | AY142: ROZPOCET
D143: VV | F143: 3,105 | H143: 3.105 | AT143: VV | AU143: 2 | AV143: 2 | AW143: True | AX143: 0 | AY143: ROZPOCET
D144: VV | F144: Súčet | H144: 3.105 | AT144: VV | AU144: 2 | AV144: 4 | AW144: True | AX144: 1 | AY144: ROZPOCET
C145: 5 | D145: K | E145: 612460241.S | F145: Vnútorná omietka stien vápennocementová jadrová (hrubá), hr. 10 mm | G145: m2 | H145: 3.105 | J145: =ROUND(I145*H145,2) -> 0 | N145: znížená | O145: 0.35924 | P145: =O145*H145 -> 1.1154402 | Q145: 0.01575 | R145: =Q145*H145 -> 0.04890375 | S145: 0 | T145: =S145*H145 -> 0 | AR145: 4 | AT145: K | AU145: 2 | AY145: ROZPOCET | BE145: =IF(N145="základná",J145,0) -> 0 | BF145: =IF(N145="znížená",J145,0) -> 0 | BG145: =IF(N145="zákl. prenesená",J145,0) -> 0 | BH145: =IF(N145="zníž. prenesená",J145,0) -> 0 | BI145: =IF(N145="nulová",J145,0) -> 0 | BJ145: 2 | BK145: =ROUND(I145*H145,2) -> 0 | BL145: 4 | BM145: 10
D146: VV | F146: Jadrová omietka na novú priečku | AT146: VV | AU146: 2 | AV146: 1 | AW146: True | AX146: 0 | AY146: ROZPOCET
D147: VV | F147: 1,15*2,7 | H147: 3.105 | AT147: VV | AU147: 2 | AV147: 2 | AW147: True | AX147: 0 | AY147: ROZPOCET
D148: VV | F148: Súčet | H148: 3.105 | AT148: VV | AU148: 2 | AV148: 4 | AW148: True | AX148: 1 | AY148: ROZPOCET
C149: 6 | D149: K | E149: 612460383.S | F149: Vnútorná omietka stien vápennocementová štuková (jemná), hr. 3 mm | G149: m2 | H149: 3.105 | J149: =ROUND(I149*H149,2) -> 0 | N149: znížená | O149: 0.31797 | P149: =O149*H149 -> 0.98729685 | Q149: 0.004725 | R149: =Q149*H149 -> 0.014671125 | S149: 0 | T149: =S149*H149 -> 0 | AR149: 4 | AT149: K | AU149: 2 | AY149: ROZPOCET | BE149: =IF(N149="základná",J149,0) -> 0 | BF149: =IF(N149="znížená",J149,0) -> 0 | BG149: =IF(N149="zákl. prenesená",J149,0) -> 0 | BH149: =IF(N149="zníž. prenesená",J149,0) -> 0 | BI149: =IF(N149="nulová",J149,0) -> 0 | BJ149: 2 | BK149: =ROUND(I149*H149,2) -> 0 | BL149: 4 | BM149: 12
D150: VV | F150: pod štukovú omietku | AT150: VV | AU150: 2 | AV150: 1 | AW150: True | AX150: 0 | AY150: ROZPOCET
D151: VV | F151: (1,7-0,55)*2,7 | H151: 3.105 | AT151: VV | AU151: 2 | AV151: 2 | AW151: True | AX151: 0 | AY151: ROZPOCET
D152: VV | F152: Súčet | H152: 3.105 | AT152: VV | AU152: 2 | AV152: 4 | AW152: True | AX152: 1 | AY152: ROZPOCET
C153: 7 | D153: K | E153: 612481119.S | F153: Potiahnutie vnútorných stien sklotextilnou mriežkou s celoplošným prilepením | G153: m2 | H153: 3.105 | J153: =ROUND(I153*H153,2) -> 0 | N153: znížená | O153: 0.19106 | P153: =O153*H153 -> 0.5932413 | Q153: 0.005154 | R153: =Q153*H153 -> 0.01600317 | S153: 0 | T153: =S153*H153 -> 0 | AR153: 4 | AT153: K | AU153: 2 | AY153: ROZPOCET | BE153: =IF(N153="základná",J153,0) -> 0 | BF153: =IF(N153="znížená",J153,0) -> 0 | BG153: =IF(N153="zákl. prenesená",J153,0) -> 0 | BH153: =IF(N153="zníž. prenesená",J153,0) -> 0 | BI153: =IF(N153="nulová",J153,0) -> 0 | BJ153: 2 | BK153: =ROUND(I153*H153,2) -> 0 | BL153: 4 | BM153: 14
C154: 8 | D154: K | E154: 642942111.S | F154: Osadenie oceľovej dverovej zárubne alebo rámu, plochy otvoru do 2,5 m2 | G154: ks | H154: 1 | J154: =ROUND(I154*H154,2) -> 0 | N154: znížená | O154: 3.04729 | P154: =O154*H154 -> 3.04729 | Q154: 0.01749588 | R154: =Q154*H154 -> 0.01749588 | S154: 0 | T154: =S154*H154 -> 0 | AR154: 4 | AT154: K | AU154: 2 | AY154: ROZPOCET | BE154: =IF(N154="základná",J154,0) -> 0 | BF154: =IF(N154="znížená",J154,0) -> 0 | BG154: =IF(N154="zákl. prenesená",J154,0) -> 0 | BH154: =IF(N154="zníž. prenesená",J154,0) -> 0 | BI154: =IF(N154="nulová",J154,0) -> 0 | BJ154: 2 | BK154: =ROUND(I154*H154,2) -> 0 | BL154: 4 | BM154: 16
C155: 9 | D155: M | E155: 553310001700.S | F155: Zárubňa kovová šxv 300-1195x500-1970 a 2100 mm, jednodielna zamurovacia | G155: ks | H155: 1 | J155: =ROUND(I155*H155,2) -> 0 | N155: znížená | O155: 0 | P155: =O155*H155 -> 0 | Q155: 0.01 | R155: =Q155*H155 -> 0.01 | S155: 0 | T155: =S155*H155 -> 0 | AR155: 8 | AT155: M | AU155: 2 | AY155: ROZPOCET | BE155: =IF(N155="základná",J155,0) -> 0 | BF155: =IF(N155="znížená",J155,0) -> 0 | BG155: =IF(N155="zákl. prenesená",J155,0) -> 0 | BH155: =IF(N155="zníž. prenesená",J155,0) -> 0 | BI155: =IF(N155="nulová",J155,0) -> 0 | BJ155: 2 | BK155: =ROUND(I155*H155,2) -> 0 | BL155: 4 | BM155: 18
D156: D | E156: 9 | F156: Ostatné konštrukcie a práce-búranie | J156: =BK156 -> 0 | P156: =SUM(P157:P197) -> 16.00617 | R156: =SUM(R157:R197) -> 0.55990343 | T156: =SUM(T157:T197) -> 0.742025 | AR156: 1 | AT156: D | AU156: 1 | AY156: ROZPOCET | BK156: =SUM(BK157:BK197) -> 0
C157: 10 | D157: K | E157: 943943221.S | F157: Montáž lešenia priestorového ľahkého bez podláh pri zaťaženie do 2 kPa, výšky do 10 m | G157: m3 | H157: 7.56 | J157: =ROUND(I157*H157,2) -> 0 | N157: znížená | O157: 0.033 | P157: =O157*H157 -> 0.24948 | Q157: 0.02868028 | R157: =Q157*H157 -> 0.21682292 | S157: 0 | T157: =S157*H157 -> 0 | AR157: 4 | AT157: K | AU157: 2 | AY157: ROZPOCET | BE157: =IF(N157="základná",J157,0) -> 0 | BF157: =IF(N157="znížená",J157,0) -> 0 | BG157: =IF(N157="zákl. prenesená",J157,0) -> 0 | BH157: =IF(N157="zníž. prenesená",J157,0) -> 0 | BI157: =IF(N157="nulová",J157,0) -> 0 | BJ157: 2 | BK157: =ROUND(I157*H157,2) -> 0 | BL157: 4 | BM157: 20
D158: VV | F158: 6,3*1,2 "pre strop" | H158: 7.56 | AT158: VV | AU158: 2 | AV158: 2 | AW158: True | AX158: 0 | AY158: ROZPOCET
D159: VV | F159: Súčet | H159: 7.56 | AT159: VV | AU159: 2 | AV159: 4 | AW159: True | AX159: 1 | AY159: ROZPOCET
C160: 11 | D160: K | E160: 943943292.S | F160: Príplatok za prvý a každý ďalší i začatý mesiac používania lešenia priestorového ľahkého bez podláh výšky do 10 m a nad 10 do 22 m | G160: m3 | H160: 7.56 | J160: =ROUND(I160*H160,2) -> 0 | N160: znížená | O160: 0.002 | P160: =O160*H160 -> 0.01512 | Q160: 0 | R160: =Q160*H160 -> 0 | S160: 0 | T160: =S160*H160 -> 0 | AR160: 4 | AT160: K | AU160: 2 | AY160: ROZPOCET | BE160: =IF(N160="základná",J160,0) -> 0 | BF160: =IF(N160="znížená",J160,0) -> 0 | BG160: =IF(N160="zákl. prenesená",J160,0) -> 0 | BH160: =IF(N160="zníž. prenesená",J160,0) -> 0 | BI160: =IF(N160="nulová",J160,0) -> 0 | BJ160: 2 | BK160: =ROUND(I160*H160,2) -> 0 | BL160: 4 | BM160: 22
C161: 12 | D161: K | E161: 943943821.S | F161: Demontáž lešenia priestorového ľahkého bez podláh pri zaťažení do 2 kPa, výšky do 10 m | G161: m3 | H161: 7.56 | J161: =ROUND(I161*H161,2) -> 0 | N161: znížená | O161: 0.02 | P161: =O161*H161 -> 0.1512 | Q161: 0.0239 | R161: =Q161*H161 -> 0.180684 | S161: 0 | T161: =S161*H161 -> 0 | AR161: 4 | AT161: K | AU161: 2 | AY161: ROZPOCET | BE161: =IF(N161="základná",J161,0) -> 0 | BF161: =IF(N161="znížená",J161,0) -> 0 | BG161: =IF(N161="zákl. prenesená",J161,0) -> 0 | BH161: =IF(N161="zníž. prenesená",J161,0) -> 0 | BI161: =IF(N161="nulová",J161,0) -> 0 | BJ161: 2 | BK161: =ROUND(I161*H161,2) -> 0 | BL161: 4 | BM161: 24
C162: 13 | D162: K | E162: 943955031.S | F162: Montáž lešeňovej podlahy bez priečnikov výšky do 10 m | G162: m2 | H162: 6.3 | J162: =ROUND(I162*H162,2) -> 0 | N162: znížená | O162: 0.066 | P162: =O162*H162 -> 0.4158 | Q162: 0.012855 | R162: =Q162*H162 -> 0.0809865 | S162: 0 | T162: =S162*H162 -> 0 | AR162: 4 | AT162: K | AU162: 2 | AY162: ROZPOCET | BE162: =IF(N162="základná",J162,0) -> 0 | BF162: =IF(N162="znížená",J162,0) -> 0 | BG162: =IF(N162="zákl. prenesená",J162,0) -> 0 | BH162: =IF(N162="zníž. prenesená",J162,0) -> 0 | BI162: =IF(N162="nulová",J162,0) -> 0 | BJ162: 2 | BK162: =ROUND(I162*H162,2) -> 0 | BL162: 4 | BM162: 26
D163: VV | F163: (4,625-1,275)*1,7 | H163: 5.695 | AT163: VV | AU163: 2 | AV163: 2 | AW163: True | AX163: 0 | AY163: ROZPOCET
D164: VV | F164: 0,55*0,55*2 "odpočet kvôli stĺpom | H164: 0.605 | AT164: VV | AU164: 2 | AV164: 2 | AW164: True | AX164: 0 | AY164: ROZPOCET
D165: VV | F165: Súčet | H165: 6.3 | AT165: VV | AU165: 2 | AV165: 4 | AW165: True | AX165: 1 | AY165: ROZPOCET
C166: 14 | D166: K | E166: 943955192.S | F166: Príplatok za prvý a každý i začatý mesiac použitia lešeňovej podlahy, pre všetky výšky do 40 m | G166: m2 | H166: 6.3 | J166: =ROUND(I166*H166,2) -> 0 | N166: znížená | O166: 0.002 | P166: =O166*H166 -> 0.0126 | Q166: 0 | R166: =Q166*H166 -> 0 | S166: 0 | T166: =S166*H166 -> 0 | AR166: 4 | AT166: K | AU166: 2 | AY166: ROZPOCET | BE166: =IF(N166="základná",J166,0) -> 0 | BF166: =IF(N166="znížená",J166,0) -> 0 | BG166: =IF(N166="zákl. prenesená",J166,0) -> 0 | BH166: =IF(N166="zníž. prenesená",J166,0) -> 0 | BI166: =IF(N166="nulová",J166,0) -> 0 | BJ166: 2 | BK166: =ROUND(I166*H166,2) -> 0 | BL166: 4 | BM166: 28
...

Sheet 03 - 2.01 a 2.03 Chodba
L2: >> skryté stĺpce << | AT2: {920089fb-fbb0-433f-a407-3728e803b642}
AT3: 1
D4: KRYCÍ LIST ROZPOČTU | M4: v --- nižšie sa nachádzajú doplnkové a pomocné údaje k zostavám --- v | AT4: False
D6: Stavba:
E7: ='Rekapitulácia stavby'!K6 -> MHTH_Teplárenská - Rekonštrukcia miestnosti v budove SP 12 na +4,200
D8: Objekt:
E9: 03 - 2.01 a 2.03 Chodba
D11: JKSO: | I11: ČS:
D12: Miesto: | I12: Dátum: | J12: ='Rekapitulácia stavby'!AN8 -> 16. 9. 2026
D14: Objednávateľ: | I14: IČO: | J14: =IF('Rekapitulácia stavby'!AN10="","",'Rekapitulácia stavby'!AN10)
E15: =IF('Rekapitulácia stavby'!E11="","",'Rekapitulácia stavby'!E11) | I15: IČ DPH: | J15: =IF('Rekapitulácia stavby'!AN11="","",'Rekapitulácia stavby'!AN11)
D17: Zhotoviteľ: | I17: IČO: | J17: ='Rekapitulácia stavby'!AN13
E18: ='Rekapitulácia stavby'!E14 | I18: IČ DPH: | J18: ='Rekapitulácia stavby'!AN14
D20: Projektant: | I20: IČO: | J20: =IF('Rekapitulácia stavby'!AN16="","",'Rekapitulácia stavby'!AN16)
E21: =IF('Rekapitulácia stavby'!E17="","",'Rekapitulácia stavby'!E17) | I21: IČ DPH: | J21: =IF('Rekapitulácia stavby'!AN17="","",'Rekapitulácia stavby'!AN17)
D23: Spracovateľ: | I23: IČO: | J23: =IF('Rekapitulácia stavby'!AN19="","",'Rekapitulácia stavby'!AN19)
E24: =IF('Rekapitulácia stavby'!E20="","",'Rekapitulácia stavby'!E20) | I24: IČ DPH: | J24: =IF('Rekapitulácia stavby'!AN20="","",'Rekapitulácia stavby'!AN20)
D26: Poznámka:
D30: Cena bez DPH | J30: =ROUND(J126, 2) -> 0
F32: Základ dane | I32: Sadzba dane | J32: Výška dane
D33: DPH | E33: základná | F33: =ROUND((SUM(BE126:BE257)), 2) -> 0 | I33: 0.23 | J33: =ROUND(((SUM(BE126:BE257))*I33), 2) -> 0
E34: znížená | F34: =ROUND((SUM(BF126:BF257)), 2) -> 0 | I34: 0.23 | J34: =ROUND(((SUM(BF126:BF257))*I34), 2) -> 0
E35: zákl. prenesená | F35: =ROUND((SUM(BG126:BG257)), 2) -> 0 | I35: 0.23 | J35: =0 -> 0
E36: zníž. prenesená | F36: =ROUND((SUM(BH126:BH257)), 2) -> 0 | I36: 0.23 | J36: =0 -> 0
E37: nulová | F37: =ROUND((SUM(BI126:BI257)), 2) -> 0 | I37: 0 | J37: =0 -> 0
D39: Cena s DPH | G39: v | H39: EUR | J39: =SUM(J30:J37) -> 0
D50: Projektant | G50: Spracovateľ
D61: Dátum a podpis: | F61: Pečiatka | G61: Dátum a podpis: | J61: Pečiatka
D65: Objednávateľ | G65: Zhotoviteľ
D76: Dátum a podpis: | F76: Pečiatka | G76: Dátum a podpis: | J76: Pečiatka
C82: REKAPITULÁCIA ROZPOČTU
C84: Stavba:
E85: =E7 -> MHTH_Teplárenská - Rekonštrukcia miestnosti v budove SP 12 na +4,200
C86: Objekt:
E87: =E9 -> 03 - 2.01 a 2.03 Chodba
C89: Miesto: | F89: =F12 | I89: Dátum: | J89: =IF(J12="","",J12) -> 16. 9. 2026
C91: Objednávateľ: | F91: =E15 | I91: Projektant: | J91: =E21
C92: Zhotoviteľ: | F92: =IF(E18="","",E18) | I92: Spracovateľ: | J92: =E24
C94: Kód dielu - Popis | J94: Cena celkom [EUR]
C96: Náklady z rozpočtu | J96: =J126 -> 0 | AU96: -1
D97: HSV - Práce a dodávky HSV | J97: =J127 -> 0
D98: 6 - Úpravy povrchov, podlahy, osadenie | J98: =J128 -> 0
D99: 9 - Ostatné konštrukcie a práce-búranie | J99: =J136 -> 0
D100: 99 - Presun hmôt HSV | J100: =J168 -> 0
D101: PSV - Práce a dodávky PSV | J101: =J176 -> 0
D102: 766 - Konštrukcie stolárske | J102: =J177 -> 0
D103: 776 - Podlahy povlakové | J103: =J182 -> 0
D104: 783 - Nátery | J104: =J211 -> 0
D105: 784 - Maľby | J105: =J215 -> 0
D106: HZS - Hodinové zúčtovacie sadzby | J106: =J256 -> 0
C113: ROZPOČET
C115: Stavba:
E116: =E7 -> MHTH_Teplárenská - Rekonštrukcia miestnosti v budove SP 12 na +4,200
C117: Objekt:
E118: =E9 -> 03 - 2.01 a 2.03 Chodba
C120: Miesto: | F120: =F12 | I120: Dátum: | J120: =IF(J12="","",J12) -> 16. 9. 2026
C122: Objednávateľ: | F122: =E15 | I122: Projektant: | J122: =E21
C123: Zhotoviteľ: | F123: =IF(E18="","",E18) | I123: Spracovateľ: | J123: =E24
C125: PČ | D125: Typ | E125: Kód | F125: Popis | G125: MJ | H125: Množstvo | I125: J.cena [EUR] | J125: Cena celkom [EUR] | K125: Cenová sústava | N125: DPH | O125: J. Nh [h] | P125: Nh celkom [h] | Q125: J. hmotnosť [t] | R125: Hmotnosť celkom [t] | S125: J. suť [t] | T125: Suť Celkom [t]
C126: Náklady z rozpočtu | J126: =BK126 -> 0 | P126: =P127+P176+P256 -> 197.52046 | R126: =R127+R176+R256 -> 1.1641105 | T126: =T127+T176+T256 -> 0.5031968 | AT126: D | AU126: -1 | BK126: =BK127+BK176+BK256 -> 0
D127: D | E127: HSV | F127: Práce a dodávky HSV | J127: =BK127 -> 0 | P127: =P128+P136+P168 -> 42.12747 | R127: =R128+R136+R168 -> 0.47694291 | T127: =T128+T136+T168 -> 0.379304 | AR127: 1 | AT127: D | AU127: 0 | AY127: ROZPOCET | BK127: =BK128+BK136+BK168 -> 0
D128: D | E128: 6 | F128: Úpravy povrchov, podlahy, osadenie | J128: =BK128 -> 0 | P128: =SUM(P129:P135) -> 12.879267 | R128: =SUM(R129:R135) -> 0.37744541 | T128: =SUM(T129:T135) -> 0 | AR128: 1 | AT128: D | AU128: 1 | AY128: ROZPOCET | BK128: =SUM(BK129:BK135) -> 0
C129: 1 | D129: K | E129: 612421231.S | F129: Oprava vnútorných vápenných omietok stien, opravovaná plocha nad 5 do 10 %,štuková | G129: m2 | H129: 94.826 | J129: =ROUND(I129*H129,2) -> 0 | N129: znížená | O129: 0.13582 | P129: =O129*H129 -> 12.879267 | Q129: 0.0039804 | R129: =Q129*H129 -> 0.37744541 | S129: 0 | T129: =S129*H129 -> 0 | AR129: 4 | AT129: K | AU129: 2 | AY129: ROZPOCET | BE129: =IF(N129="základná",J129,0) -> 0 | BF129: =IF(N129="znížená",J129,0) -> 0 | BG129: =IF(N129="zákl. prenesená",J129,0) -> 0 | BH129: =IF(N129="zníž. prenesená",J129,0) -> 0 | BI129: =IF(N129="nulová",J129,0) -> 0 | BJ129: 2 | BK129: =ROUND(I129*H129,2) -> 0 | BL129: 4 | BM129: 2
D130: VV | F130: (1,5+4,625+2,725+9,125+5,6+2+13,08+2+1,775+4,625)*2,47 | H130: 116.22585 | AT130: VV | AU130: 2 | AV130: 2 | AW130: True | AX130: 0 | AY130: ROZPOCET
D131: VV | F131: odpočet dverí | AT131: VV | AU131: 2 | AV131: 1 | AW131: True | AX131: 0 | AY131: ROZPOCET
D132: VV | F132: -1*2*3 | H132: -6 | AT132: VV | AU132: 2 | AV132: 2 | AW132: True | AX132: 0 | AY132: ROZPOCET
D133: VV | F133: -0,9*2*7 | H133: -12.6 | AT133: VV | AU133: 2 | AV133: 2 | AW133: True | AX133: 0 | AY133: ROZPOCET
D134: VV | F134: -0,7*2*2 | H134: -2.8 | AT134: VV | AU134: 2 | AV134: 2 | AW134: True | AX134: 0 | AY134: ROZPOCET
D135: VV | F135: Súčet | H135: 94.82585 | AT135: VV | AU135: 2 | AV135: 4 | AW135: True | AX135: 1 | AY135: ROZPOCET
D136: D | E136: 9 | F136: Ostatné konštrukcie a práce-búranie | J136: =BK136 -> 0 | P136: =SUM(P137:P167) -> 27.531103 | R136: =SUM(R137:R167) -> 0.099497504 | T136: =SUM(T137:T167) -> 0.379304 | AR136: 1 | AT136: D | AU136: 1 | AY136: ROZPOCET | BK136: =SUM(BK137:BK167) -> 0
C137: 2 | D137: K | E137: 941955001.S | F137: Lešenie ľahké pracovné pomocné, s výškou lešeňovej podlahy do 1,20 m | G137: m2 | H137: 63.666 | J137: =ROUND(I137*H137,2) -> 0 | N137: znížená | O137: 0.09921 | P137: =O137*H137 -> 6.3163039 | Q137: 0.00152864 | R137: =Q137*H137 -> 0.097322394 | S137: 0 | T137: =S137*H137 -> 0 | AR137: 4 | AT137: K | AU137: 2 | AY137: ROZPOCET | BE137: =IF(N137="základná",J137,0) -> 0 | BF137: =IF(N137="znížená",J137,0) -> 0 | BG137: =IF(N137="zákl. prenesená",J137,0) -> 0 | BH137: =IF(N137="zníž. prenesená",J137,0) -> 0 | BI137: =IF(N137="nulová",J137,0) -> 0 | BJ137: 2 | BK137: =ROUND(I137*H137,2) -> 0 | BL137: 4 | BM137: 4
D138: VV | F138: Pre steny | AT138: VV | AU138: 2 | AV138: 1 | AW138: True | AX138: 0 | AY138: ROZPOCET
D139: VV | F139: (1,5+4,625+2,725+9,125+5,6+2+13,08+2+1,775+4,625)*1,2 | H139: 56.466 | AT139: VV | AU139: 2 | AV139: 2 | AW139: True | AX139: 0 | AY139: ROZPOCET
D140: VV | F140: Pre preklady | AT140: VV | AU140: 2 | AV140: 1 | AW140: True | AX140: 0 | AY140: ROZPOCET
D141: VV | F141: 2*3*1,2 | H141: 7.2 | AT141: VV | AU141: 2 | AV141: 2 | AW141: True | AX141: 0 | AY141: ROZPOCET
D142: VV | F142: Súčet | H142: 63.666 | AT142: VV | AU142: 2 | AV142: 4 | AW142: True | AX142: 1 | AY142: ROZPOCET
C143: 3 | D143: K | E143: 952901111.S | F143: Vyčistenie budov pri výške podlaží do 4 m | G143: m2 | H143: 44.39 | J143: =ROUND(I143*H143,2) -> 0 | N143: znížená | O143: 0.32401 | P143: =O143*H143 -> 14.382804 | Q143: 4.9e-05 | R143: =Q143*H143 -> 0.00217511 | S143: 0 | T143: =S143*H143 -> 0 | AR143: 4 | AT143: K | AU143: 2 | AY143: ROZPOCET | BE143: =IF(N143="základná",J143,0) -> 0 | BF143: =IF(N143="znížená",J143,0) -> 0 | BG143: =IF(N143="zákl. prenesená",J143,0) -> 0 | BH143: =IF(N143="zníž. prenesená",J143,0) -> 0 | BI143: =IF(N143="nulová",J143,0) -> 0 | BJ143: 2 | BK143: =ROUND(I143*H143,2) -> 0 | BL143: 4 | BM143: 6
C144: 4 | D144: K | E144: 973041511.S-R | F144: Vyrezanie a vysekanie otvoru v betóne s realizáciou výstuže so závesným nosným hákom pre nižšie podlažie a následným zaliatím opravnou maltou | G144: EUR | H144: 829.88 | J144: =ROUND(I144*H144,2) -> 0 | N144: znížená | O144: 0 | P144: =O144*H144 -> 0 | Q144: 0 | R144: =Q144*H144 -> 0 | S144: 0 | T144: =S144*H144 -> 0 | AR144: 4 | AT144: K | AU144: 2 | AY144: ROZPOCET | BE144: =IF(N144="základná",J144,0) -> 0 | BF144: =IF(N144="znížená",J144,0) -> 0 | BG144: =IF(N144="zákl. prenesená",J144,0) -> 0 | BH144: =IF(N144="zníž. prenesená",J144,0) -> 0 | BI144: =IF(N144="nulová",J144,0) -> 0 | BJ144: 2 | BK144: =ROUND(I144*H144,2) -> 0 | BL144: 4 | BM144: 8
C145: 5 | D145: K | E145: 976084111.S-R | F145: Oblepenie a ochrana ochranných uholníkov na rohoch stien v chodbe | G145: m | H145: 8.75 | J145: =ROUND(I145*H145,2) -> 0 | N145: znížená | O145: 0 | P145: =O145*H145 -> 0 | Q145: 0 | R145: =Q145*H145 -> 0 | S145: 0 | T145: =S145*H145 -> 0 | AR145: 4 | AT145: K | AU145: 2 | AY145: ROZPOCET | BE145: =IF(N145="základná",J145,0) -> 0 | BF145: =IF(N145="znížená",J145,0) -> 0 | BG145: =IF(N145="zákl. prenesená",J145,0) -> 0 | BH145: =IF(N145="zníž. prenesená",J145,0) -> 0 | BI145: =IF(N145="nulová",J145,0) -> 0 | BJ145: 2 | BK145: =ROUND(I145*H145,2) -> 0 | BL145: 4 | BM145: 10
D146: VV | F146: 7*1,25 | H146: 8.75 | AT146: VV | AU146: 2 | AV146: 2 | AW146: True | AX146: 0 | AY146: ROZPOCET
D147: VV | F147: Súčet | H147: 8.75 | AT147: VV | AU147: 2 | AV147: 4 | AW147: True | AX147: 1 | AY147: ROZPOCET
C148: 6 | D148: K | E148: 978013121.S | F148: Otlčenie omietok stien vnútorných vápenných alebo vápennocementových v rozsahu do 10 %, -0,00400t | G148: m2 | H148: 94.826 | J148: =ROUND(I148*H148,2) -> 0 | N148: znížená | O148: 0.02929 | P148: =O148*H148 -> 2.7774535 | Q148: 0 | R148: =Q148*H148 -> 0 | S148: 0.004 | T148: =S148*H148 -> 0.379304 | AR148: 4 | AT148: K | AU148: 2 | AY148: ROZPOCET | BE148: =IF(N148="základná",J148,0) -> 0 | BF148: =IF(N148="znížená",J148,0) -> 0 | BG148: =IF(N148="zákl. prenesená",J148,0) -> 0 | BH148: =IF(N148="zníž. prenesená",J148,0) -> 0 | BI148: =IF(N148="nulová",J148,0) -> 0 | BJ148: 2 | BK148: =ROUND(I148*H148,2) -> 0 | BL148: 4 | BM148: 12
D149: VV | F149: (1,5+4,625+2,725+9,125+5,6+2+13,08+2+1,775+4,625)*2,47 | H149: 116.22585 | AT149: VV | AU149: 2 | AV149: 2 | AW149: True | AX149: 0 | AY149: ROZPOCET
D150: VV | F150: odpočet dverí | AT150: VV | AU150: 2 | AV150: 1 | AW150: True | AX150: 0 | AY150: ROZPOCET
D151: VV | F151: -1*2*3 | H151: -6 | AT151: VV | AU151: 2 | AV151: 2 | AW151: True | AX151: 0 | AY151: ROZPOCET
D152: VV | F152: -0,9*2*7 | H152: -12.6 | AT152: VV | AU152: 2 | AV152: 2 | AW152: True | AX152: 0 | AY152: ROZPOCET
D153: VV | F153: -0,7*2*2 | H153: -2.8 | AT153: VV | AU153: 2 | AV153: 2 | AW153: True | AX153: 0 | AY153: ROZPOCET
D154: VV | F154: Súčet | H154: 94.82585 | AT154: VV | AU154: 2 | AV154: 4 | AW154: True | AX154: 1 | AY154: ROZPOCET
C155: 7 | D155: K | E155: 979011131.S | F155: Zvislá doprava sutiny po schodoch ručne do 3,5 m | G155: t | H155: 0.758 | J155: =ROUND(I155*H155,2) -> 0 | N155: znížená | O155: 1.972 | P155: =O155*H155 -> 1.494776 | Q155: 0 | R155: =Q155*H155 -> 0 | S155: 0 | T155: =S155*H155 -> 0 | AR155: 4 | AT155: K | AU155: 2 | AY155: ROZPOCET | BE155: =IF(N155="základná",J155,0) -> 0 | BF155: =IF(N155="znížená",J155,0) -> 0 | BG155: =IF(N155="zákl. prenesená",J155,0) -> 0 | BH155: =IF(N155="zníž. prenesená",J155,0) -> 0 | BI155: =IF(N155="nulová",J155,0) -> 0 | BJ155: 2 | BK155: =ROUND(I155*H155,2) -> 0 | BL155: 4 | BM155: 14
C156: 8 | D156: K | E156: 979011141.S | F156: Zvislá doprava sutiny po schodoch ručne, príplatok za každých ďalších 3,5 m | G156: t | H156: 1.516 | J156: =ROUND(I156*H156,2) -> 0 | N156: znížená | O156: 0.619 | P156: =O156*H156 -> 0.938404 | Q156: 0 | R156: =Q156*H156 -> 0 | S156: 0 | T156: =S156*H156 -> 0 | AR156: 4 | AT156: K | AU156: 2 | AY156: ROZPOCET | BE156: =IF(N156="základná",J156,0) -> 0 | BF156: =IF(N156="znížená",J156,0) -> 0 | BG156: =IF(N156="zákl. prenesená",J156,0) -> 0 | BH156: =IF(N156="zníž. prenesená",J156,0) -> 0 | BI156: =IF(N156="nulová",J156,0) -> 0 | BJ156: 2 | BK156: =ROUND(I156*H156,2) -> 0 | BL156: 4 | BM156: 16
D157: VV | F157: 0,758*2 "Prepočítané koeficientom množstva | H157: 1.516 | AT157: VV | AU157: 2 | AV157: 2 | AW157: True | AX157: 0 | AY157: ROZPOCET
D158: VV | F158: Súčet | H158: 1.516 | AT158: VV | AU158: 2 | AV158: 4 | AW158: True | AX158: 1 | AY158: ROZPOCET
C159: 9 | D159: K | E159: 979082111.S | F159: Vnútrostavenisková doprava sutiny a vybúraných hmôt do 10 m | G159: t | H159: 0.758 | J159: =ROUND(I159*H159,2) -> 0 | N159: znížená | O159: 0.89 | P159: =O159*H159 -> 0.67462 | Q159: 0 | R159: =Q159*H159 -> 0 | S159: 0 | T159: =S159*H159 -> 0 | AR159: 4 | AT159: K | AU159: 2 | AY159: ROZPOCET | BE159: =IF(N159="základná",J159,0) -> 0 | BF159: =IF(N159="znížená",J159,0) -> 0 | BG159: =IF(N159="zákl. prenesená",J159,0) -> 0 | BH159: =IF(N159="zníž. prenesená",J159,0) -> 0 | BI159: =IF(N159="nulová",J159,0) -> 0 | BJ159: 2 | BK159: =ROUND(I159*H159,2) -> 0 | BL159: 4 | BM159: 18
C160: 10 | D160: K | E160: 979082121.S | F160: Vnútrostavenisková doprava sutiny a vybúraných hmôt za každých ďalších 5 m | G160: t | H160: 3.79 | J160: =ROUND(I160*H160,2) -> 0 | N160: znížená | O160: 0.1 | P160: =O160*H160 -> 0.379 | Q160: 0 | R160: =Q160*H160 -> 0 | S160: 0 | T160: =S160*H160 -> 0 | AR160: 4 | AT160: K | AU160: 2 | AY160: ROZPOCET | BE160: =IF(N160="základná",J160,0) -> 0 | BF160: =IF(N160="znížená",J160,0) -> 0 | BG160: =IF(N160="zákl. prenesená",J160,0) -> 0 | BH160: =IF(N160="zníž. prenesená",J160,0) -> 0 | BI160: =IF(N160="nulová",J160,0) -> 0 | BJ160: 2 | BK160: =ROUND(I160*H160,2) -> 0 | BL160: 4 | BM160: 20
D161: VV | F161: 0,758*5 "Prepočítané koeficientom množstva | H161: 3.79 | AT161: VV | AU161: 2 | AV161: 2 | AW161: True | AX161: 0 | AY161: ROZPOCET
D162: VV | F162: Súčet | H162: 3.79 | AT162: VV | AU162: 2 | AV162: 4 | AW162: True | AX162: 1 | AY162: ROZPOCET
C163: 11 | D163: K | E163: 979087213.S | F163: Nakladanie na dopravné prostriedky pre vodorovnú dopravu vybúraných hmôt | G163: t | H163: 0.758 | J163: =ROUND(I163*H163,2) -> 0 | N163: znížená | O163: 0.749 | P163: =O163*H163 -> 0.567742 | Q163: 0 | R163: =Q163*H163 -> 0 | S163: 0 | T163: =S163*H163 -> 0 | AR163: 4 | AT163: K | AU163: 2 | AY163: ROZPOCET | BE163: =IF(N163="základná",J163,0) -> 0 | BF163: =IF(N163="znížená",J163,0) -> 0 | BG163: =IF(N163="zákl. prenesená",J163,0) -> 0 | BH163: =IF(N163="zníž. prenesená",J163,0) -> 0 | BI163: =IF(N163="nulová",J163,0) -> 0 | BJ163: 2 | BK163: =ROUND(I163*H163,2) -> 0 | BL163: 4 | BM163: 22
C164: 12 | D164: K | E164: 979089012.S | F164: Poplatok za skládku - betón, tehly, dlaždice, obkladačky a keramika (17 01), ostatné | G164: t | H164: 0.758 | J164: =ROUND(I164*H164,2) -> 0 | N164: znížená | O164: 0 | P164: =O164*H164 -> 0 | Q164: 0 | R164: =Q164*H164 -> 0 | S164: 0 | T164: =S164*H164 -> 0 | AR164: 4 | AT164: K | AU164: 2 | AY164: ROZPOCET | BE164: =IF(N164="základná",J164,0) -> 0 | BF164: =IF(N164="znížená",J164,0) -> 0 | BG164: =IF(N164="zákl. prenesená",J164,0) -> 0 | BH164: =IF(N164="zníž. prenesená",J164,0) -> 0 | BI164: =IF(N164="nulová",J164,0) -> 0 | BJ164: 2 | BK164: =ROUND(I164*H164,2) -> 0 | BL164: 4 | BM164: 24
C165: 13 | D165: K | E165: 979089712.S | F165: Prenájom kontajneru 5 m3 | G165: ks | H165: 1 | J165: =ROUND(I165*H165,2) -> 0 | N165: znížená | O165: 0 | P165: =O165*H165 -> 0 | Q165: 0 | R165: =Q165*H165 -> 0 | S165: 0 | T165: =S165*H165 -> 0 | AR165: 4 | AT165: K | AU165: 2 | AY165: ROZPOCET | BE165: =IF(N165="základná",J165,0) -> 0 | BF165: =IF(N165="znížená",J165,0) -> 0 | BG165: =IF(N165="zákl. prenesená",J165,0) -> 0 | BH165: =IF(N165="zníž. prenesená",J165,0) -> 0 | BI165: =IF(N165="nulová",J165,0) -> 0 | BJ165: 2 | BK165: =ROUND(I165*H165,2) -> 0 | BL165: 4 | BM165: 26
C166: 14 | D166: K | E166: MV | F166: Murárske výpomoci | G166: % | H166: 5200 | J166: =ROUND(I166*H166,2) -> 0 | N166: znížená | O166: 0 | P166: =O166*H166 -> 0 | Q166: 0 | R166: =Q166*H166 -> 0 | S166: 0 | T166: =S166*H166 -> 0 | AR166: 4 | AT166: K | AU166: 2 | AY166: ROZPOCET | BE166: =IF(N166="základná",J166,0) -> 0 | BF166: =IF(N166="znížená",J166,0) -> 0 | BG166: =IF(N166="zákl. prenesená",J166,0) -> 0 | BH166: =IF(N166="zníž. prenesená",J166,0) -> 0 | BI166: =IF(N166="nulová",J166,0) -> 0 | BJ166: 2 | BK166: =ROUND(I166*H166,2) -> 0 | BL166: 4 | BM166: 28
...

Sheet 04 - 2.04 Dielňa
L2: >> skryté stĺpce << | AT2: {3cfbd051-532d-4ea4-bd10-6fbf30c30b82}
AT3: 1
D4: KRYCÍ LIST ROZPOČTU | M4: v --- nižšie sa nachádzajú doplnkové a pomocné údaje k zostavám --- v | AT4: False
D6: Stavba:
E7: ='Rekapitulácia stavby'!K6 -> MHTH_Teplárenská - Rekonštrukcia miestnosti v budove SP 12 na +4,200
D8: Objekt:
E9: 04 - 2.04 Dielňa
D11: JKSO: | I11: ČS:
D12: Miesto: | I12: Dátum: | J12: ='Rekapitulácia stavby'!AN8 -> 16. 9. 2026
D14: Objednávateľ: | I14: IČO: | J14: =IF('Rekapitulácia stavby'!AN10="","",'Rekapitulácia stavby'!AN10)
E15: =IF('Rekapitulácia stavby'!E11="","",'Rekapitulácia stavby'!E11) | I15: IČ DPH: | J15: =IF('Rekapitulácia stavby'!AN11="","",'Rekapitulácia stavby'!AN11)
D17: Zhotoviteľ: | I17: IČO: | J17: ='Rekapitulácia stavby'!AN13
E18: ='Rekapitulácia stavby'!E14 | I18: IČ DPH: | J18: ='Rekapitulácia stavby'!AN14
D20: Projektant: | I20: IČO: | J20: =IF('Rekapitulácia stavby'!AN16="","",'Rekapitulácia stavby'!AN16)
E21: =IF('Rekapitulácia stavby'!E17="","",'Rekapitulácia stavby'!E17) | I21: IČ DPH: | J21: =IF('Rekapitulácia stavby'!AN17="","",'Rekapitulácia stavby'!AN17)
D23: Spracovateľ: | I23: IČO: | J23: =IF('Rekapitulácia stavby'!AN19="","",'Rekapitulácia stavby'!AN19)
E24: =IF('Rekapitulácia stavby'!E20="","",'Rekapitulácia stavby'!E20) | I24: IČ DPH: | J24: =IF('Rekapitulácia stavby'!AN20="","",'Rekapitulácia stavby'!AN20)
D26: Poznámka:
D30: Cena bez DPH | J30: =ROUND(J124, 2) -> 0
F32: Základ dane | I32: Sadzba dane | J32: Výška dane
D33: DPH | E33: základná | F33: =ROUND((SUM(BE124:BE232)), 2) -> 0 | I33: 0.23 | J33: =ROUND(((SUM(BE124:BE232))*I33), 2) -> 0
E34: znížená | F34: =ROUND((SUM(BF124:BF232)), 2) -> 0 | I34: 0.23 | J34: =ROUND(((SUM(BF124:BF232))*I34), 2) -> 0
E35: zákl. prenesená | F35: =ROUND((SUM(BG124:BG232)), 2) -> 0 | I35: 0.23 | J35: =0 -> 0
E36: zníž. prenesená | F36: =ROUND((SUM(BH124:BH232)), 2) -> 0 | I36: 0.23 | J36: =0 -> 0
E37: nulová | F37: =ROUND((SUM(BI124:BI232)), 2) -> 0 | I37: 0 | J37: =0 -> 0
D39: Cena s DPH | G39: v | H39: EUR | J39: =SUM(J30:J37) -> 0
D50: Projektant | G50: Spracovateľ
D61: Dátum a podpis: | F61: Pečiatka | G61: Dátum a podpis: | J61: Pečiatka
D65: Objednávateľ | G65: Zhotoviteľ
D76: Dátum a podpis: | F76: Pečiatka | G76: Dátum a podpis: | J76: Pečiatka
C82: REKAPITULÁCIA ROZPOČTU
C84: Stavba:
E85: =E7 -> MHTH_Teplárenská - Rekonštrukcia miestnosti v budove SP 12 na +4,200
C86: Objekt:
E87: =E9 -> 04 - 2.04 Dielňa
C89: Miesto: | F89: =F12 | I89: Dátum: | J89: =IF(J12="","",J12) -> 16. 9. 2026
C91: Objednávateľ: | F91: =E15 | I91: Projektant: | J91: =E21
C92: Zhotoviteľ: | F92: =IF(E18="","",E18) | I92: Spracovateľ: | J92: =E24
C94: Kód dielu - Popis | J94: Cena celkom [EUR]
C96: Náklady z rozpočtu | J96: =J124 -> 0 | AU96: -1
D97: HSV - Práce a dodávky HSV | J97: =J125 -> 0
D98: 6 - Úpravy povrchov, podlahy, osadenie | J98: =J126 -> 0
D99: 9 - Ostatné konštrukcie a práce-búranie | J99: =J135 -> 0
D100: 99 - Presun hmôt HSV | J100: =J161 -> 0
D101: PSV - Práce a dodávky PSV | J101: =J169 -> 0
D102: 776 - Podlahy povlakové | J102: =J170 -> 0
D103: 784 - Maľby | J103: =J196 -> 0
D104: HZS - Hodinové zúčtovacie sadzby | J104: =J231 -> 0
C111: ROZPOČET
C113: Stavba:
E114: =E7 -> MHTH_Teplárenská - Rekonštrukcia miestnosti v budove SP 12 na +4,200
C115: Objekt:
E116: =E9 -> 04 - 2.04 Dielňa
C118: Miesto: | F118: =F12 | I118: Dátum: | J118: =IF(J12="","",J12) -> 16. 9. 2026
C120: Objednávateľ: | F120: =E15 | I120: Projektant: | J120: =E21
C121: Zhotoviteľ: | F121: =IF(E18="","",E18) | I121: Spracovateľ: | J121: =E24
C123: PČ | D123: Typ | E123: Kód | F123: Popis | G123: MJ | H123: Množstvo | I123: J.cena [EUR] | J123: Cena celkom [EUR] | K123: Cenová sústava | N123: DPH | O123: J. Nh [h] | P123: Nh celkom [h] | Q123: J. hmotnosť [t] | R123: Hmotnosť celkom [t] | S123: J. suť [t] | T123: Suť Celkom [t]
C124: Náklady z rozpočtu | J124: =BK124 -> 0 | P124: =P125+P169+P231 -> 63.376799 | R124: =R125+R169+R231 -> 0.329294 | T124: =T125+T169+T231 -> 0.164272 | AT124: D | AU124: -1 | BK124: =BK125+BK169+BK231 -> 0
D125: D | E125: HSV | F125: Práce a dodávky HSV | J125: =BK125 -> 0 | P125: =P126+P135+P161 -> 12.686039 | R125: =R126+R135+R161 -> 0.15575462 | T125: =T126+T135+T161 -> 0.13016 | AR125: 1 | AT125: D | AU125: 0 | AY125: ROZPOCET | BK125: =BK126+BK135+BK161 -> 0
D126: D | E126: 6 | F126: Úpravy povrchov, podlahy, osadenie | J126: =BK126 -> 0 | P126: =SUM(P127:P134) -> 4.4195828 | R126: =SUM(R127:R134) -> 0.12952222 | T126: =SUM(T127:T134) -> 0 | AR126: 1 | AT126: D | AU126: 1 | AY126: ROZPOCET | BK126: =SUM(BK127:BK134) -> 0
C127: 1 | D127: K | E127: 612421231.S | F127: Oprava vnútorných vápenných omietok stien, opravovaná plocha nad 5 do 10 %,štuková | G127: m2 | H127: 32.54 | J127: =ROUND(I127*H127,2) -> 0 | N127: znížená | O127: 0.13582 | P127: =O127*H127 -> 4.4195828 | Q127: 0.0039804 | R127: =Q127*H127 -> 0.12952222 | S127: 0 | T127: =S127*H127 -> 0 | AR127: 4 | AT127: K | AU127: 2 | AY127: ROZPOCET | BE127: =IF(N127="základná",J127,0) -> 0 | BF127: =IF(N127="znížená",J127,0) -> 0 | BG127: =IF(N127="zákl. prenesená",J127,0) -> 0 | BH127: =IF(N127="zníž. prenesená",J127,0) -> 0 | BI127: =IF(N127="nulová",J127,0) -> 0 | BJ127: 2 | BK127: =ROUND(I127*H127,2) -> 0 | BL127: 4 | BM127: 2
D128: VV | F128: Omietka na stenách | AT128: VV | AU128: 2 | AV128: 1 | AW128: True | AX128: 0 | AY128: ROZPOCET
D129: VV | F129: (2,5+4,5+2,5+4,5)*2,53 | H129: 35.42 | AT129: VV | AU129: 2 | AV129: 2 | AW129: True | AX129: 0 | AY129: ROZPOCET
D130: VV | F130: odpočet dverí | AT130: VV | AU130: 2 | AV130: 1 | AW130: True | AX130: 0 | AY130: ROZPOCET
D131: VV | F131: -0,9*2 | H131: -1.8 | AT131: VV | AU131: 2 | AV131: 2 | AW131: True | AX131: 0 | AY131: ROZPOCET
D132: VV | F132: odpočet okna | AT132: VV | AU132: 2 | AV132: 1 | AW132: True | AX132: 0 | AY132: ROZPOCET
D133: VV | F133: -0,9*1,2 | H133: -1.08 | AT133: VV | AU133: 2 | AV133: 2 | AW133: True | AX133: 0 | AY133: ROZPOCET
D134: VV | F134: Súčet | H134: 32.54 | AT134: VV | AU134: 2 | AV134: 4 | AW134: True | AX134: 1 | AY134: ROZPOCET
D135: D | E135: 9 | F135: Ostatné konštrukcie a práce-búranie | J135: =BK135 -> 0 | P135: =SUM(P136:P160) -> 7.6556771 | R135: =SUM(R136:R160) -> 0.026232402 | T135: =SUM(T136:T160) -> 0.13016 | AR135: 1 | AT135: D | AU135: 1 | AY135: ROZPOCET | BK135: =SUM(BK136:BK160) -> 0
C136: 2 | D136: K | E136: 941955001.S | F136: Lešenie ľahké pracovné pomocné, s výškou lešeňovej podlahy do 1,20 m | G136: m2 | H136: 16.8 | J136: =ROUND(I136*H136,2) -> 0 | N136: znížená | O136: 0.09921 | P136: =O136*H136 -> 1.666728 | Q136: 0.00152864 | R136: =Q136*H136 -> 0.025681152 | S136: 0 | T136: =S136*H136 -> 0 | AR136: 4 | AT136: K | AU136: 2 | AY136: ROZPOCET | BE136: =IF(N136="základná",J136,0) -> 0 | BF136: =IF(N136="znížená",J136,0) -> 0 | BG136: =IF(N136="zákl. prenesená",J136,0) -> 0 | BH136: =IF(N136="zníž. prenesená",J136,0) -> 0 | BI136: =IF(N136="nulová",J136,0) -> 0 | BJ136: 2 | BK136: =ROUND(I136*H136,2) -> 0 | BL136: 4 | BM136: 4
D137: VV | F137: Pre steny | AT137: VV | AU137: 2 | AV137: 1 | AW137: True | AX137: 0 | AY137: ROZPOCET
D138: VV | F138: (2,5+4,5+2,5+4,5)*1,2 | H138: 16.8 | AT138: VV | AU138: 2 | AV138: 2 | AW138: True | AX138: 0 | AY138: ROZPOCET
D139: VV | F139: Súčet | H139: 16.8 | AT139: VV | AU139: 2 | AV139: 4 | AW139: True | AX139: 1 | AY139: ROZPOCET
C140: 3 | D140: K | E140: 952901111.S | F140: Vyčistenie budov pri výške podlaží do 4 m | G140: m2 | H140: 11.25 | J140: =ROUND(I140*H140,2) -> 0 | N140: znížená | O140: 0.32401 | P140: =O140*H140 -> 3.6451125 | Q140: 4.9e-05 | R140: =Q140*H140 -> 0.00055125 | S140: 0 | T140: =S140*H140 -> 0 | AR140: 4 | AT140: K | AU140: 2 | AY140: ROZPOCET | BE140: =IF(N140="základná",J140,0) -> 0 | BF140: =IF(N140="znížená",J140,0) -> 0 | BG140: =IF(N140="zákl. prenesená",J140,0) -> 0 | BH140: =IF(N140="zníž. prenesená",J140,0) -> 0 | BI140: =IF(N140="nulová",J140,0) -> 0 | BJ140: 2 | BK140: =ROUND(I140*H140,2) -> 0 | BL140: 4 | BM140: 6
C141: 4 | D141: K | E141: 978013121.S | F141: Otlčenie omietok stien vnútorných vápenných alebo vápennocementových v rozsahu do 10 %, -0,00400t | G141: m2 | H141: 32.54 | J141: =ROUND(I141*H141,2) -> 0 | N141: znížená | O141: 0.02929 | P141: =O141*H141 -> 0.9530966 | Q141: 0 | R141: =Q141*H141 -> 0 | S141: 0.004 | T141: =S141*H141 -> 0.13016 | AR141: 4 | AT141: K | AU141: 2 | AY141: ROZPOCET | BE141: =IF(N141="základná",J141,0) -> 0 | BF141: =IF(N141="znížená",J141,0) -> 0 | BG141: =IF(N141="zákl. prenesená",J141,0) -> 0 | BH141: =IF(N141="zníž. prenesená",J141,0) -> 0 | BI141: =IF(N141="nulová",J141,0) -> 0 | BJ141: 2 | BK141: =ROUND(I141*H141,2) -> 0 | BL141: 4 | BM141: 8
D142: VV | F142: (2,5+4,5+2,5+4,5)*2,53 | H142: 35.42 | AT142: VV | AU142: 2 | AV142: 2 | AW142: True | AX142: 0 | AY142: ROZPOCET
D143: VV | F143: odpočet dverí | AT143: VV | AU143: 2 | AV143: 1 | AW143: True | AX143: 0 | AY143: ROZPOCET
D144: VV | F144: -0,9*2 | H144: -1.8 | AT144: VV | AU144: 2 | AV144: 2 | AW144: True | AX144: 0 | AY144: ROZPOCET
D145: VV | F145: odpočet okna | AT145: VV | AU145: 2 | AV145: 1 | AW145: True | AX145: 0 | AY145: ROZPOCET
D146: VV | F146: -0,9*1,2 | H146: -1.08 | AT146: VV | AU146: 2 | AV146: 2 | AW146: True | AX146: 0 | AY146: ROZPOCET
D147: VV | F147: Súčet | H147: 32.54 | AT147: VV | AU147: 2 | AV147: 4 | AW147: True | AX147: 1 | AY147: ROZPOCET
C148: 5 | D148: K | E148: 979011131.S | F148: Zvislá doprava sutiny po schodoch ručne do 3,5 m | G148: t | H148: 0.26 | J148: =ROUND(I148*H148,2) -> 0 | N148: znížená | O148: 1.972 | P148: =O148*H148 -> 0.51272 | Q148: 0 | R148: =Q148*H148 -> 0 | S148: 0 | T148: =S148*H148 -> 0 | AR148: 4 | AT148: K | AU148: 2 | AY148: ROZPOCET | BE148: =IF(N148="základná",J148,0) -> 0 | BF148: =IF(N148="znížená",J148,0) -> 0 | BG148: =IF(N148="zákl. prenesená",J148,0) -> 0 | BH148: =IF(N148="zníž. prenesená",J148,0) -> 0 | BI148: =IF(N148="nulová",J148,0) -> 0 | BJ148: 2 | BK148: =ROUND(I148*H148,2) -> 0 | BL148: 4 | BM148: 10
C149: 6 | D149: K | E149: 979011141.S | F149: Zvislá doprava sutiny po schodoch ručne, príplatok za každých ďalších 3,5 m | G149: t | H149: 0.52 | J149: =ROUND(I149*H149,2) -> 0 | N149: znížená | O149: 0.619 | P149: =O149*H149 -> 0.32188 | Q149: 0 | R149: =Q149*H149 -> 0 | S149: 0 | T149: =S149*H149 -> 0 | AR149: 4 | AT149: K | AU149: 2 | AY149: ROZPOCET | BE149: =IF(N149="základná",J149,0) -> 0 | BF149: =IF(N149="znížená",J149,0) -> 0 | BG149: =IF(N149="zákl. prenesená",J149,0) -> 0 | BH149: =IF(N149="zníž. prenesená",J149,0) -> 0 | BI149: =IF(N149="nulová",J149,0) -> 0 | BJ149: 2 | BK149: =ROUND(I149*H149,2) -> 0 | BL149: 4 | BM149: 12
D150: VV | F150: 0,26*2 "Prepočítané koeficientom množstva | H150: 0.52 | AT150: VV | AU150: 2 | AV150: 2 | AW150: True | AX150: 0 | AY150: ROZPOCET
D151: VV | F151: Súčet | H151: 0.52 | AT151: VV | AU151: 2 | AV151: 4 | AW151: True | AX151: 1 | AY151: ROZPOCET
C152: 7 | D152: K | E152: 979082111.S | F152: Vnútrostavenisková doprava sutiny a vybúraných hmôt do 10 m | G152: t | H152: 0.26 | J152: =ROUND(I152*H152,2) -> 0 | N152: znížená | O152: 0.89 | P152: =O152*H152 -> 0.2314 | Q152: 0 | R152: =Q152*H152 -> 0 | S152: 0 | T152: =S152*H152 -> 0 | AR152: 4 | AT152: K | AU152: 2 | AY152: ROZPOCET | BE152: =IF(N152="základná",J152,0) -> 0 | BF152: =IF(N152="znížená",J152,0) -> 0 | BG152: =IF(N152="zákl. prenesená",J152,0) -> 0 | BH152: =IF(N152="zníž. prenesená",J152,0) -> 0 | BI152: =IF(N152="nulová",J152,0) -> 0 | BJ152: 2 | BK152: =ROUND(I152*H152,2) -> 0 | BL152: 4 | BM152: 14
C153: 8 | D153: K | E153: 979082121.S | F153: Vnútrostavenisková doprava sutiny a vybúraných hmôt za každých ďalších 5 m | G153: t | H153: 1.3 | J153: =ROUND(I153*H153,2) -> 0 | N153: znížená | O153: 0.1 | P153: =O153*H153 -> 0.13 | Q153: 0 | R153: =Q153*H153 -> 0 | S153: 0 | T153: =S153*H153 -> 0 | AR153: 4 | AT153: K | AU153: 2 | AY153: ROZPOCET | BE153: =IF(N153="základná",J153,0) -> 0 | BF153: =IF(N153="znížená",J153,0) -> 0 | BG153: =IF(N153="zákl. prenesená",J153,0) -> 0 | BH153: =IF(N153="zníž. prenesená",J153,0) -> 0 | BI153: =IF(N153="nulová",J153,0) -> 0 | BJ153: 2 | BK153: =ROUND(I153*H153,2) -> 0 | BL153: 4 | BM153: 16
D154: VV | F154: 0,26*5 "Prepočítané koeficientom množstva | H154: 1.3 | AT154: VV | AU154: 2 | AV154: 2 | AW154: True | AX154: 0 | AY154: ROZPOCET
D155: VV | F155: Súčet | H155: 1.3 | AT155: VV | AU155: 2 | AV155: 4 | AW155: True | AX155: 1 | AY155: ROZPOCET
C156: 9 | D156: K | E156: 979087213.S | F156: Nakladanie na dopravné prostriedky pre vodorovnú dopravu vybúraných hmôt | G156: t | H156: 0.26 | J156: =ROUND(I156*H156,2) -> 0 | N156: znížená | O156: 0.749 | P156: =O156*H156 -> 0.19474 | Q156: 0 | R156: =Q156*H156 -> 0 | S156: 0 | T156: =S156*H156 -> 0 | AR156: 4 | AT156: K | AU156: 2 | AY156: ROZPOCET | BE156: =IF(N156="základná",J156,0) -> 0 | BF156: =IF(N156="znížená",J156,0) -> 0 | BG156: =IF(N156="zákl. prenesená",J156,0) -> 0 | BH156: =IF(N156="zníž. prenesená",J156,0) -> 0 | BI156: =IF(N156="nulová",J156,0) -> 0 | BJ156: 2 | BK156: =ROUND(I156*H156,2) -> 0 | BL156: 4 | BM156: 18
C157: 10 | D157: K | E157: 979089012.S | F157: Poplatok za skládku - betón, tehly, dlaždice, obkladačky a keramika (17 01), ostatné | G157: t | H157: 0.26 | J157: =ROUND(I157*H157,2) -> 0 | N157: znížená | O157: 0 | P157: =O157*H157 -> 0 | Q157: 0 | R157: =Q157*H157 -> 0 | S157: 0 | T157: =S157*H157 -> 0 | AR157: 4 | AT157: K | AU157: 2 | AY157: ROZPOCET | BE157: =IF(N157="základná",J157,0) -> 0 | BF157: =IF(N157="znížená",J157,0) -> 0 | BG157: =IF(N157="zákl. prenesená",J157,0) -> 0 | BH157: =IF(N157="zníž. prenesená",J157,0) -> 0 | BI157: =IF(N157="nulová",J157,0) -> 0 | BJ157: 2 | BK157: =ROUND(I157*H157,2) -> 0 | BL157: 4 | BM157: 20
C158: 11 | D158: K | E158: 979089712.S | F158: Prenájom kontajneru 5 m3 | G158: ks | H158: 1 | J158: =ROUND(I158*H158,2) -> 0 | N158: znížená | O158: 0 | P158: =O158*H158 -> 0 | Q158: 0 | R158: =Q158*H158 -> 0 | S158: 0 | T158: =S158*H158 -> 0 | AR158: 4 | AT158: K | AU158: 2 | AY158: ROZPOCET | BE158: =IF(N158="základná",J158,0) -> 0 | BF158: =IF(N158="znížená",J158,0) -> 0 | BG158: =IF(N158="zákl. prenesená",J158,0) -> 0 | BH158: =IF(N158="zníž. prenesená",J158,0) -> 0 | BI158: =IF(N158="nulová",J158,0) -> 0 | BJ158: 2 | BK158: =ROUND(I158*H158,2) -> 0 | BL158: 4 | BM158: 22
C159: 12 | D159: K | E159: MV | F159: Murárske výpomoci | G159: % | H159: 950 | J159: =ROUND(I159*H159,2) -> 0 | N159: znížená | O159: 0 | P159: =O159*H159 -> 0 | Q159: 0 | R159: =Q159*H159 -> 0 | S159: 0 | T159: =S159*H159 -> 0 | AR159: 4 | AT159: K | AU159: 2 | AY159: ROZPOCET | BE159: =IF(N159="základná",J159,0) -> 0 | BF159: =IF(N159="znížená",J159,0) -> 0 | BG159: =IF(N159="zákl. prenesená",J159,0) -> 0 | BH159: =IF(N159="zníž. prenesená",J159,0) -> 0 | BI159: =IF(N159="nulová",J159,0) -> 0 | BJ159: 2 | BK159: =ROUND(I159*H159,2) -> 0 | BL159: 4 | BM159: 24
C160: 13 | D160: K | E160: PPV | F160: Podiel pridružených výkonov | G160: % | H160: 950 | J160: =ROUND(I160*H160,2) -> 0 | N160: znížená | O160: 0 | P160: =O160*H160 -> 0 | Q160: 0 | R160: =Q160*H160 -> 0 | S160: 0 | T160: =S160*H160 -> 0 | AR160: 4 | AT160: K | AU160: 2 | AY160: ROZPOCET | BE160: =IF(N160="základná",J160,0) -> 0 | BF160: =IF(N160="znížená",J160,0) -> 0 | BG160: =IF(N160="zákl. prenesená",J160,0) -> 0 | BH160: =IF(N160="zníž. prenesená",J160,0) -> 0 | BI160: =IF(N160="nulová",J160,0) -> 0 | BJ160: 2 | BK160: =ROUND(I160*H160,2) -> 0 | BL160: 4 | BM160: 26
D161: D | E161: 99 | F161: Presun hmôt HSV | J161: =BK161 -> 0 | P161: =SUM(P162:P168) -> 0.6107794 | R161: =SUM(R162:R168) -> 0 | T161: =SUM(T162:T168) -> 0 | AR161: 1 | AT161: D | AU161: 1 | AY161: ROZPOCET | BK161: =SUM(BK162:BK168) -> 0
C162: 14 | D162: K | E162: 998009001.S | F162: Presun hmôt lešenia pre budovy s výškou do 3,5 m | G162: t | H162: 0.026 | J162: =ROUND(I162*H162,2) -> 0 | N162: znížená | O162: 1.9163 | P162: =O162*H162 -> 0.0498238 | Q162: 0 | R162: =Q162*H162 -> 0 | S162: 0 | T162: =S162*H162 -> 0 | AR162: 4 | AT162: K | AU162: 2 | AY162: ROZPOCET | BE162: =IF(N162="základná",J162,0) -> 0 | BF162: =IF(N162="znížená",J162,0) -> 0 | BG162: =IF(N162="zákl. prenesená",J162,0) -> 0 | BH162: =IF(N162="zníž. prenesená",J162,0) -> 0 | BI162: =IF(N162="nulová",J162,0) -> 0 | BJ162: 2 | BK162: =ROUND(I162*H162,2) -> 0 | BL162: 4 | BM162: 28
C163: 15 | D163: K | E163: 998009009.S | F163: Príplatok za presun hmôt lešenia pre budovy s výškou do 3,5 m, za k.ď. začatých 3,5 m | G163: t | H163: 0.052 | J163: =ROUND(I163*H163,2) -> 0 | N163: znížená | O163: 0.0698 | P163: =O163*H163 -> 0.0036296 | Q163: 0 | R163: =Q163*H163 -> 0 | S163: 0 | T163: =S163*H163 -> 0 | AR163: 4 | AT163: K | AU163: 2 | AY163: ROZPOCET | BE163: =IF(N163="základná",J163,0) -> 0 | BF163: =IF(N163="znížená",J163,0) -> 0 | BG163: =IF(N163="zákl. prenesená",J163,0) -> 0 | BH163: =IF(N163="zníž. prenesená",J163,0) -> 0 | BI163: =IF(N163="nulová",J163,0) -> 0 | BJ163: 2 | BK163: =ROUND(I163*H163,2) -> 0 | BL163: 4 | BM163: 30
D164: VV | F164: 0,026*2 "Prepočítané koeficientom množstva | H164: 0.052 | AT164: VV | AU164: 2 | AV164: 2 | AW164: True | AX164: 0 | AY164: ROZPOCET
D165: VV | F165: Súčet | H165: 0.052 | AT165: VV | AU165: 2 | AV165: 4 | AW165: True | AX165: 1 | AY165: ROZPOCET
C166: 16 | D166: K | E166: 998011002.S | F166: Presun hmôt pre budovy (801, 803, 812), zvislá konštr. z tehál, tvárnic, z kovu výšky do 12 m | G166: t | H166: 1.694 | J166: =ROUND(I166*H166,2) -> 0 | N166: znížená | O166: 0.329 | P166: =O166*H166 -> 0.557326 | Q166: 0 | R166: =Q166*H166 -> 0 | S166: 0 | T166: =S166*H166 -> 0 | AR166: 4 | AT166: K | AU166: 2 | AY166: ROZPOCET | BE166: =IF(N166="základná",J166,0) -> 0 | BF166: =IF(N166="znížená",J166,0) -> 0 | BG166: =IF(N166="zákl. prenesená",J166,0) -> 0 | BH166: =IF(N166="zníž. prenesená",J166,0) -> 0 | BI166: =IF(N166="nulová",J166,0) -> 0 | BJ166: 2 | BK166: =ROUND(I166*H166,2) -> 0 | BL166: 4 | BM166: 32
...

Sheet 05 - 2.21 Kancelária
L2: >> skryté stĺpce << | AT2: {9ffeef66-e8e8-4402-aaa0-06a364da6e45}
AT3: 1
D4: KRYCÍ LIST ROZPOČTU | M4: v --- nižšie sa nachádzajú doplnkové a pomocné údaje k zostavám --- v | AT4: False
D6: Stavba:
E7: ='Rekapitulácia stavby'!K6 -> MHTH_Teplárenská - Rekonštrukcia miestnosti v budove SP 12 na +4,200
D8: Objekt:
E9: 05 - 2.21 Kancelária
D11: JKSO: | I11: ČS:
D12: Miesto: | I12: Dátum: | J12: ='Rekapitulácia stavby'!AN8 -> 16. 9. 2026
D14: Objednávateľ: | I14: IČO: | J14: =IF('Rekapitulácia stavby'!AN10="","",'Rekapitulácia stavby'!AN10)
E15: =IF('Rekapitulácia stavby'!E11="","",'Rekapitulácia stavby'!E11) | I15: IČ DPH: | J15: =IF('Rekapitulácia stavby'!AN11="","",'Rekapitulácia stavby'!AN11)
D17: Zhotoviteľ: | I17: IČO: | J17: ='Rekapitulácia stavby'!AN13
E18: ='Rekapitulácia stavby'!E14 | I18: IČ DPH: | J18: ='Rekapitulácia stavby'!AN14
D20: Projektant: | I20: IČO: | J20: =IF('Rekapitulácia stavby'!AN16="","",'Rekapitulácia stavby'!AN16)
E21: =IF('Rekapitulácia stavby'!E17="","",'Rekapitulácia stavby'!E17) | I21: IČ DPH: | J21: =IF('Rekapitulácia stavby'!AN17="","",'Rekapitulácia stavby'!AN17)
D23: Spracovateľ: | I23: IČO: | J23: =IF('Rekapitulácia stavby'!AN19="","",'Rekapitulácia stavby'!AN19)
E24: =IF('Rekapitulácia stavby'!E20="","",'Rekapitulácia stavby'!E20) | I24: IČ DPH: | J24: =IF('Rekapitulácia stavby'!AN20="","",'Rekapitulácia stavby'!AN20)
D26: Poznámka:
D30: Cena bez DPH | J30: =ROUND(J125, 2) -> 0
F32: Základ dane | I32: Sadzba dane | J32: Výška dane
D33: DPH | E33: základná | F33: =ROUND((SUM(BE125:BE240)), 2) -> 0 | I33: 0.23 | J33: =ROUND(((SUM(BE125:BE240))*I33), 2) -> 0
E34: znížená | F34: =ROUND((SUM(BF125:BF240)), 2) -> 0 | I34: 0.23 | J34: =ROUND(((SUM(BF125:BF240))*I34), 2) -> 0
E35: zákl. prenesená | F35: =ROUND((SUM(BG125:BG240)), 2) -> 0 | I35: 0.23 | J35: =0 -> 0
E36: zníž. prenesená | F36: =ROUND((SUM(BH125:BH240)), 2) -> 0 | I36: 0.23 | J36: =0 -> 0
E37: nulová | F37: =ROUND((SUM(BI125:BI240)), 2) -> 0 | I37: 0 | J37: =0 -> 0
D39: Cena s DPH | G39: v | H39: EUR | J39: =SUM(J30:J37) -> 0
D50: Projektant | G50: Spracovateľ
D61: Dátum a podpis: | F61: Pečiatka | G61: Dátum a podpis: | J61: Pečiatka
D65: Objednávateľ | G65: Zhotoviteľ
D76: Dátum a podpis: | F76: Pečiatka | G76: Dátum a podpis: | J76: Pečiatka
C82: REKAPITULÁCIA ROZPOČTU
C84: Stavba:
E85: =E7 -> MHTH_Teplárenská - Rekonštrukcia miestnosti v budove SP 12 na +4,200
C86: Objekt:
E87: =E9 -> 05 - 2.21 Kancelária
C89: Miesto: | F89: =F12 | I89: Dátum: | J89: =IF(J12="","",J12) -> 16. 9. 2026
C91: Objednávateľ: | F91: =E15 | I91: Projektant: | J91: =E21
C92: Zhotoviteľ: | F92: =IF(E18="","",E18) | I92: Spracovateľ: | J92: =E24
C94: Kód dielu - Popis | J94: Cena celkom [EUR]
C96: Náklady z rozpočtu | J96: =J125 -> 0 | AU96: -1
D97: HSV - Práce a dodávky HSV | J97: =J126 -> 0
D98: 6 - Úpravy povrchov, podlahy, osadenie | J98: =J127 -> 0
D99: 9 - Ostatné konštrukcie a práce-búranie | J99: =J135 -> 0
D100: 99 - Presun hmôt HSV | J100: =J161 -> 0
D101: PSV - Práce a dodávky PSV | J101: =J169 -> 0
D102: 766 - Konštrukcie stolárske | J102: =J170 -> 0
D103: 776 - Podlahy povlakové | J103: =J171 -> 0
D104: 784 - Maľby | J104: =J198 -> 0
D105: HZS - Hodinové zúčtovacie sadzby | J105: =J239 -> 0
C112: ROZPOČET
C114: Stavba:
E115: =E7 -> MHTH_Teplárenská - Rekonštrukcia miestnosti v budove SP 12 na +4,200
C116: Objekt:
E117: =E9 -> 05 - 2.21 Kancelária
C119: Miesto: | F119: =F12 | I119: Dátum: | J119: =IF(J12="","",J12) -> 16. 9. 2026
C121: Objednávateľ: | F121: =E15 | I121: Projektant: | J121: =E21
C122: Zhotoviteľ: | F122: =IF(E18="","",E18) | I122: Spracovateľ: | J122: =E24
C124: PČ | D124: Typ | E124: Kód | F124: Popis | G124: MJ | H124: Množstvo | I124: J.cena [EUR] | J124: Cena celkom [EUR] | K124: Cenová sústava | N124: DPH | O124: J. Nh [h] | P124: Nh celkom [h] | Q124: J. hmotnosť [t] | R124: Hmotnosť celkom [t] | S124: J. suť [t] | T124: Suť Celkom [t]
C125: Náklady z rozpočtu | J125: =BK125 -> 0 | P125: =P126+P169+P239 -> 76.643809 | R125: =R126+R169+R239 -> 0.36239702 | T125: =T126+T169+T239 -> 0.1810994 | AT125: D | AU125: -1 | BK125: =BK126+BK169+BK239 -> 0
D126: D | E126: HSV | F126: Práce a dodávky HSV | J126: =BK126 -> 0 | P126: =P127+P135+P161 -> 21.820585 | R126: =R127+R135+R161 -> 0.16955969 | T126: =T127+T135+T161 -> 0.142592 | AR126: 1 | AT126: D | AU126: 0 | AY126: ROZPOCET | BK126: =BK127+BK135+BK161 -> 0
D127: D | E127: 6 | F127: Úpravy povrchov, podlahy, osadenie | J127: =BK127 -> 0 | P127: =SUM(P128:P134) -> 4.8417114 | R127: =SUM(R128:R134) -> 0.1418933 | T127: =SUM(T128:T134) -> 0 | AR127: 1 | AT127: D | AU127: 1 | AY127: ROZPOCET | BK127: =SUM(BK128:BK134) -> 0
C128: 1 | D128: K | E128: 612421231.S | F128: Oprava vnútorných vápenných omietok stien, opravovaná plocha nad 5 do 10 %,štuková | G128: m2 | H128: 35.648 | J128: =ROUND(I128*H128,2) -> 0 | N128: znížená | O128: 0.13582 | P128: =O128*H128 -> 4.8417114 | Q128: 0.0039804 | R128: =Q128*H128 -> 0.1418933 | S128: 0 | T128: =S128*H128 -> 0 | AR128: 4 | AT128: K | AU128: 2 | AY128: ROZPOCET | BE128: =IF(N128="základná",J128,0) -> 0 | BF128: =IF(N128="znížená",J128,0) -> 0 | BG128: =IF(N128="zákl. prenesená",J128,0) -> 0 | BH128: =IF(N128="zníž. prenesená",J128,0) -> 0 | BI128: =IF(N128="nulová",J128,0) -> 0 | BJ128: 2 | BK128: =ROUND(I128*H128,2) -> 0 | BL128: 4 | BM128: 2
D129: VV | F129: (2,875+4,5+2,875+4,5+0,5+0,5)*2,53 | H129: 39.8475 | AT129: VV | AU129: 2 | AV129: 2 | AW129: True | AX129: 0 | AY129: ROZPOCET
D130: VV | F130: odpočet dverí | AT130: VV | AU130: 2 | AV130: 1 | AW130: True | AX130: 0 | AY130: ROZPOCET
D131: VV | F131: -0,9*2 | H131: -1.8 | AT131: VV | AU131: 2 | AV131: 2 | AW131: True | AX131: 0 | AY131: ROZPOCET
D132: VV | F132: odpočet okna | AT132: VV | AU132: 2 | AV132: 1 | AW132: True | AX132: 0 | AY132: ROZPOCET
D133: VV | F133: -2*1,2 | H133: -2.4 | AT133: VV | AU133: 2 | AV133: 2 | AW133: True | AX133: 0 | AY133: ROZPOCET
D134: VV | F134: Súčet | H134: 35.6475 | AT134: VV | AU134: 2 | AV134: 4 | AW134: True | AX134: 1 | AY134: ROZPOCET
D135: D | E135: 9 | F135: Ostatné konštrukcie a práce-búranie | J135: =BK135 -> 0 | P135: =SUM(P136:P160) -> 16.340705 | R135: =SUM(R136:R160) -> 0.02766639 | T135: =SUM(T136:T160) -> 0.142592 | AR135: 1 | AT135: D | AU135: 1 | AY135: ROZPOCET | BK135: =SUM(BK136:BK160) -> 0
C136: 2 | D136: K | E136: 941955001.S | F136: Lešenie ľahké pracovné pomocné, s výškou lešeňovej podlahy do 1,20 m | G136: m2 | H136: 17.7 | J136: =ROUND(I136*H136,2) -> 0 | N136: znížená | O136: 0.09921 | P136: =O136*H136 -> 1.756017 | Q136: 0.00152864 | R136: =Q136*H136 -> 0.027056928 | S136: 0 | T136: =S136*H136 -> 0 | AR136: 4 | AT136: K | AU136: 2 | AY136: ROZPOCET | BE136: =IF(N136="základná",J136,0) -> 0 | BF136: =IF(N136="znížená",J136,0) -> 0 | BG136: =IF(N136="zákl. prenesená",J136,0) -> 0 | BH136: =IF(N136="zníž. prenesená",J136,0) -> 0 | BI136: =IF(N136="nulová",J136,0) -> 0 | BJ136: 2 | BK136: =ROUND(I136*H136,2) -> 0 | BL136: 4 | BM136: 4
D137: VV | F137: Pre steny | AT137: VV | AU137: 2 | AV137: 1 | AW137: True | AX137: 0 | AY137: ROZPOCET
D138: VV | F138: (2,875+4,5+2,875+4,5)*1,2 | H138: 17.7 | AT138: VV | AU138: 2 | AV138: 2 | AW138: True | AX138: 0 | AY138: ROZPOCET
D139: VV | F139: Súčet | H139: 17.7 | AT139: VV | AU139: 2 | AV139: 4 | AW139: True | AX139: 1 | AY139: ROZPOCET
C140: 3 | D140: K | E140: 952901111.S | F140: Vyčistenie budov pri výške podlaží do 4 m | G140: m2 | H140: 12.438 | J140: =ROUND(I140*H140,2) -> 0 | N140: znížená | O140: 0.32401 | P140: =O140*H140 -> 4.0300364 | Q140: 4.9e-05 | R140: =Q140*H140 -> 0.000609462 | S140: 0 | T140: =S140*H140 -> 0 | AR140: 4 | AT140: K | AU140: 2 | AY140: ROZPOCET | BE140: =IF(N140="základná",J140,0) -> 0 | BF140: =IF(N140="znížená",J140,0) -> 0 | BG140: =IF(N140="zákl. prenesená",J140,0) -> 0 | BH140: =IF(N140="zníž. prenesená",J140,0) -> 0 | BI140: =IF(N140="nulová",J140,0) -> 0 | BJ140: 2 | BK140: =ROUND(I140*H140,2) -> 0 | BL140: 4 | BM140: 6
C141: 4 | D141: K | E141: 978013121.S | F141: Otlčenie omietok stien vnútorných vápenných alebo vápennocementových v rozsahu do 10 %, -0,00400t | G141: m2 | H141: 35.648 | J141: =ROUND(I141*H141,2) -> 0 | N141: znížená | O141: 0.02929 | P141: =O141*H141 -> 1.0441299 | Q141: 0 | R141: =Q141*H141 -> 0 | S141: 0.004 | T141: =S141*H141 -> 0.142592 | AR141: 4 | AT141: K | AU141: 2 | AY141: ROZPOCET | BE141: =IF(N141="základná",J141,0) -> 0 | BF141: =IF(N141="znížená",J141,0) -> 0 | BG141: =IF(N141="zákl. prenesená",J141,0) -> 0 | BH141: =IF(N141="zníž. prenesená",J141,0) -> 0 | BI141: =IF(N141="nulová",J141,0) -> 0 | BJ141: 2 | BK141: =ROUND(I141*H141,2) -> 0 | BL141: 4 | BM141: 8
D142: VV | F142: (2,875+4,5+2,875+4,5+0,5+0,5)*2,53 | H142: 39.8475 | AT142: VV | AU142: 2 | AV142: 2 | AW142: True | AX142: 0 | AY142: ROZPOCET
D143: VV | F143: odpočet dverí | AT143: VV | AU143: 2 | AV143: 1 | AW143: True | AX143: 0 | AY143: ROZPOCET
D144: VV | F144: -0,9*2 | H144: -1.8 | AT144: VV | AU144: 2 | AV144: 2 | AW144: True | AX144: 0 | AY144: ROZPOCET
D145: VV | F145: odpočet okna | AT145: VV | AU145: 2 | AV145: 1 | AW145: True | AX145: 0 | AY145: ROZPOCET
D146: VV | F146: -2*1,2 | H146: -2.4 | AT146: VV | AU146: 2 | AV146: 2 | AW146: True | AX146: 0 | AY146: ROZPOCET
D147: VV | F147: Súčet | H147: 35.6475 | AT147: VV | AU147: 2 | AV147: 4 | AW147: True | AX147: 1 | AY147: ROZPOCET
C148: 5 | D148: K | E148: 979011131.S | F148: Zvislá doprava sutiny po schodoch ručne do 3,5 m | G148: t | H148: 1.778 | J148: =ROUND(I148*H148,2) -> 0 | N148: znížená | O148: 1.972 | P148: =O148*H148 -> 3.506216 | Q148: 0 | R148: =Q148*H148 -> 0 | S148: 0 | T148: =S148*H148 -> 0 | AR148: 4 | AT148: K | AU148: 2 | AY148: ROZPOCET | BE148: =IF(N148="základná",J148,0) -> 0 | BF148: =IF(N148="znížená",J148,0) -> 0 | BG148: =IF(N148="zákl. prenesená",J148,0) -> 0 | BH148: =IF(N148="zníž. prenesená",J148,0) -> 0 | BI148: =IF(N148="nulová",J148,0) -> 0 | BJ148: 2 | BK148: =ROUND(I148*H148,2) -> 0 | BL148: 4 | BM148: 10
C149: 6 | D149: K | E149: 979011141.S | F149: Zvislá doprava sutiny po schodoch ručne, príplatok za každých ďalších 3,5 m | G149: t | H149: 3.556 | J149: =ROUND(I149*H149,2) -> 0 | N149: znížená | O149: 0.619 | P149: =O149*H149 -> 2.201164 | Q149: 0 | R149: =Q149*H149 -> 0 | S149: 0 | T149: =S149*H149 -> 0 | AR149: 4 | AT149: K | AU149: 2 | AY149: ROZPOCET | BE149: =IF(N149="základná",J149,0) -> 0 | BF149: =IF(N149="znížená",J149,0) -> 0 | BG149: =IF(N149="zákl. prenesená",J149,0) -> 0 | BH149: =IF(N149="zníž. prenesená",J149,0) -> 0 | BI149: =IF(N149="nulová",J149,0) -> 0 | BJ149: 2 | BK149: =ROUND(I149*H149,2) -> 0 | BL149: 4 | BM149: 12
D150: VV | F150: 1,778*2 "Prepočítané koeficientom množstva | H150: 3.556 | AT150: VV | AU150: 2 | AV150: 2 | AW150: True | AX150: 0 | AY150: ROZPOCET
D151: VV | F151: Súčet | H151: 3.556 | AT151: VV | AU151: 2 | AV151: 4 | AW151: True | AX151: 1 | AY151: ROZPOCET
C152: 7 | D152: K | E152: 979082111.S | F152: Vnútrostavenisková doprava sutiny a vybúraných hmôt do 10 m | G152: t | H152: 1.778 | J152: =ROUND(I152*H152,2) -> 0 | N152: znížená | O152: 0.89 | P152: =O152*H152 -> 1.58242 | Q152: 0 | R152: =Q152*H152 -> 0 | S152: 0 | T152: =S152*H152 -> 0 | AR152: 4 | AT152: K | AU152: 2 | AY152: ROZPOCET | BE152: =IF(N152="základná",J152,0) -> 0 | BF152: =IF(N152="znížená",J152,0) -> 0 | BG152: =IF(N152="zákl. prenesená",J152,0) -> 0 | BH152: =IF(N152="zníž. prenesená",J152,0) -> 0 | BI152: =IF(N152="nulová",J152,0) -> 0 | BJ152: 2 | BK152: =ROUND(I152*H152,2) -> 0 | BL152: 4 | BM152: 14
C153: 8 | D153: K | E153: 979082121.S | F153: Vnútrostavenisková doprava sutiny a vybúraných hmôt za každých ďalších 5 m | G153: t | H153: 8.89 | J153: =ROUND(I153*H153,2) -> 0 | N153: znížená | O153: 0.1 | P153: =O153*H153 -> 0.889 | Q153: 0 | R153: =Q153*H153 -> 0 | S153: 0 | T153: =S153*H153 -> 0 | AR153: 4 | AT153: K | AU153: 2 | AY153: ROZPOCET | BE153: =IF(N153="základná",J153,0) -> 0 | BF153: =IF(N153="znížená",J153,0) -> 0 | BG153: =IF(N153="zákl. prenesená",J153,0) -> 0 | BH153: =IF(N153="zníž. prenesená",J153,0) -> 0 | BI153: =IF(N153="nulová",J153,0) -> 0 | BJ153: 2 | BK153: =ROUND(I153*H153,2) -> 0 | BL153: 4 | BM153: 16
D154: VV | F154: 1,778*5 "Prepočítané koeficientom množstva | H154: 8.89 | AT154: VV | AU154: 2 | AV154: 2 | AW154: True | AX154: 0 | AY154: ROZPOCET
D155: VV | F155: Súčet | H155: 8.89 | AT155: VV | AU155: 2 | AV155: 4 | AW155: True | AX155: 1 | AY155: ROZPOCET
C156: 9 | D156: K | E156: 979087213.S | F156: Nakladanie na dopravné prostriedky pre vodorovnú dopravu vybúraných hmôt | G156: t | H156: 1.778 | J156: =ROUND(I156*H156,2) -> 0 | N156: znížená | O156: 0.749 | P156: =O156*H156 -> 1.331722 | Q156: 0 | R156: =Q156*H156 -> 0 | S156: 0 | T156: =S156*H156 -> 0 | AR156: 4 | AT156: K | AU156: 2 | AY156: ROZPOCET | BE156: =IF(N156="základná",J156,0) -> 0 | BF156: =IF(N156="znížená",J156,0) -> 0 | BG156: =IF(N156="zákl. prenesená",J156,0) -> 0 | BH156: =IF(N156="zníž. prenesená",J156,0) -> 0 | BI156: =IF(N156="nulová",J156,0) -> 0 | BJ156: 2 | BK156: =ROUND(I156*H156,2) -> 0 | BL156: 4 | BM156: 18
C157: 10 | D157: K | E157: 979089012.S | F157: Poplatok za skládku - betón, tehly, dlaždice, obkladačky a keramika (17 01), ostatné | G157: t | H157: 1.778 | J157: =ROUND(I157*H157,2) -> 0 | N157: znížená | O157: 0 | P157: =O157*H157 -> 0 | Q157: 0 | R157: =Q157*H157 -> 0 | S157: 0 | T157: =S157*H157 -> 0 | AR157: 4 | AT157: K | AU157: 2 | AY157: ROZPOCET | BE157: =IF(N157="základná",J157,0) -> 0 | BF157: =IF(N157="znížená",J157,0) -> 0 | BG157: =IF(N157="zákl. prenesená",J157,0) -> 0 | BH157: =IF(N157="zníž. prenesená",J157,0) -> 0 | BI157: =IF(N157="nulová",J157,0) -> 0 | BJ157: 2 | BK157: =ROUND(I157*H157,2) -> 0 | BL157: 4 | BM157: 20
C158: 11 | D158: K | E158: 979089712.S | F158: Prenájom kontajneru 5 m3 | G158: ks | H158: 1 | J158: =ROUND(I158*H158,2) -> 0 | N158: znížená | O158: 0 | P158: =O158*H158 -> 0 | Q158: 0 | R158: =Q158*H158 -> 0 | S158: 0 | T158: =S158*H158 -> 0 | AR158: 4 | AT158: K | AU158: 2 | AY158: ROZPOCET | BE158: =IF(N158="základná",J158,0) -> 0 | BF158: =IF(N158="znížená",J158,0) -> 0 | BG158: =IF(N158="zákl. prenesená",J158,0) -> 0 | BH158: =IF(N158="zníž. prenesená",J158,0) -> 0 | BI158: =IF(N158="nulová",J158,0) -> 0 | BJ158: 2 | BK158: =ROUND(I158*H158,2) -> 0 | BL158: 4 | BM158: 22
C159: 12 | D159: K | E159: MV | F159: Murárske výpomoci | G159: % | H159: 1400 | J159: =ROUND(I159*H159,2) -> 0 | N159: znížená | O159: 0 | P159: =O159*H159 -> 0 | Q159: 0 | R159: =Q159*H159 -> 0 | S159: 0 | T159: =S159*H159 -> 0 | AR159: 4 | AT159: K | AU159: 2 | AY159: ROZPOCET | BE159: =IF(N159="základná",J159,0) -> 0 | BF159: =IF(N159="znížená",J159,0) -> 0 | BG159: =IF(N159="zákl. prenesená",J159,0) -> 0 | BH159: =IF(N159="zníž. prenesená",J159,0) -> 0 | BI159: =IF(N159="nulová",J159,0) -> 0 | BJ159: 2 | BK159: =ROUND(I159*H159,2) -> 0 | BL159: 4 | BM159: 24
C160: 13 | D160: K | E160: PPV | F160: Podiel pridružených výkonov | G160: % | H160: 1400 | J160: =ROUND(I160*H160,2) -> 0 | N160: znížená | O160: 0 | P160: =O160*H160 -> 0 | Q160: 0 | R160: =Q160*H160 -> 0 | S160: 0 | T160: =S160*H160 -> 0 | AR160: 4 | AT160: K | AU160: 2 | AY160: ROZPOCET | BE160: =IF(N160="základná",J160,0) -> 0 | BF160: =IF(N160="znížená",J160,0) -> 0 | BG160: =IF(N160="zákl. prenesená",J160,0) -> 0 | BH160: =IF(N160="zníž. prenesená",J160,0) -> 0 | BI160: =IF(N160="nulová",J160,0) -> 0 | BJ160: 2 | BK160: =ROUND(I160*H160,2) -> 0 | BL160: 4 | BM160: 26
D161: D | E161: 99 | F161: Presun hmôt HSV | J161: =BK161 -> 0 | P161: =SUM(P162:P168) -> 0.6381683 | R161: =SUM(R162:R168) -> 0 | T161: =SUM(T162:T168) -> 0 | AR161: 1 | AT161: D | AU161: 1 | AY161: ROZPOCET | BK161: =SUM(BK162:BK168) -> 0
C162: 14 | D162: K | E162: 998009001.S | F162: Presun hmôt lešenia pre budovy s výškou do 3,5 m | G162: t | H162: 0.027 | J162: =ROUND(I162*H162,2) -> 0 | N162: znížená | O162: 1.9163 | P162: =O162*H162 -> 0.0517401 | Q162: 0 | R162: =Q162*H162 -> 0 | S162: 0 | T162: =S162*H162 -> 0 | AR162: 4 | AT162: K | AU162: 2 | AY162: ROZPOCET | BE162: =IF(N162="základná",J162,0) -> 0 | BF162: =IF(N162="znížená",J162,0) -> 0 | BG162: =IF(N162="zákl. prenesená",J162,0) -> 0 | BH162: =IF(N162="zníž. prenesená",J162,0) -> 0 | BI162: =IF(N162="nulová",J162,0) -> 0 | BJ162: 2 | BK162: =ROUND(I162*H162,2) -> 0 | BL162: 4 | BM162: 28
C163: 15 | D163: K | E163: 998009009.S | F163: Príplatok za presun hmôt lešenia pre budovy s výškou do 3,5 m, za k.ď. začatých 3,5 m | G163: t | H163: 0.054 | J163: =ROUND(I163*H163,2) -> 0 | N163: znížená | O163: 0.0698 | P163: =O163*H163 -> 0.0037692 | Q163: 0 | R163: =Q163*H163 -> 0 | S163: 0 | T163: =S163*H163 -> 0 | AR163: 4 | AT163: K | AU163: 2 | AY163: ROZPOCET | BE163: =IF(N163="základná",J163,0) -> 0 | BF163: =IF(N163="znížená",J163,0) -> 0 | BG163: =IF(N163="zákl. prenesená",J163,0) -> 0 | BH163: =IF(N163="zníž. prenesená",J163,0) -> 0 | BI163: =IF(N163="nulová",J163,0) -> 0 | BJ163: 2 | BK163: =ROUND(I163*H163,2) -> 0 | BL163: 4 | BM163: 30
D164: VV | F164: 0,027*2 "Prepočítané koeficientom množstva | H164: 0.054 | AT164: VV | AU164: 2 | AV164: 2 | AW164: True | AX164: 0 | AY164: ROZPOCET
D165: VV | F165: Súčet | H165: 0.054 | AT165: VV | AU165: 2 | AV165: 4 | AW165: True | AX165: 1 | AY165: ROZPOCET
C166: 16 | D166: K | E166: 998011002.S | F166: Presun hmôt pre budovy (801, 803, 812), zvislá konštr. z tehál, tvárnic, z kovu výšky do 12 m | G166: t | H166: 1.771 | J166: =ROUND(I166*H166,2) -> 0 | N166: znížená | O166: 0.329 | P166: =O166*H166 -> 0.582659 | Q166: 0 | R166: =Q166*H166 -> 0 | S166: 0 | T166: =S166*H166 -> 0 | AR166: 4 | AT166: K | AU166: 2 | AY166: ROZPOCET | BE166: =IF(N166="základná",J166,0) -> 0 | BF166: =IF(N166="znížená",J166,0) -> 0 | BG166: =IF(N166="zákl. prenesená",J166,0) -> 0 | BH166: =IF(N166="zníž. prenesená",J166,0) -> 0 | BI166: =IF(N166="nulová",J166,0) -> 0 | BJ166: 2 | BK166: =ROUND(I166*H166,2) -> 0 | BL166: 4 | BM166: 32
...

Sheet 06 - 2.22 Kancelária
L2: >> skryté stĺpce << | AT2: {a710374d-1384-4a40-a1cc-ba918fa2e81f}
AT3: 1
D4: KRYCÍ LIST ROZPOČTU | M4: v --- nižšie sa nachádzajú doplnkové a pomocné údaje k zostavám --- v | AT4: False
D6: Stavba:
E7: ='Rekapitulácia stavby'!K6 -> MHTH_Teplárenská - Rekonštrukcia miestnosti v budove SP 12 na +4,200
D8: Objekt:
E9: 06 - 2.22 Kancelária
D11: JKSO: | I11: ČS:
D12: Miesto: | I12: Dátum: | J12: ='Rekapitulácia stavby'!AN8 -> 16. 9. 2026
D14: Objednávateľ: | I14: IČO: | J14: =IF('Rekapitulácia stavby'!AN10="","",'Rekapitulácia stavby'!AN10)
E15: =IF('Rekapitulácia stavby'!E11="","",'Rekapitulácia stavby'!E11) | I15: IČ DPH: | J15: =IF('Rekapitulácia stavby'!AN11="","",'Rekapitulácia stavby'!AN11)
D17: Zhotoviteľ: | I17: IČO: | J17: ='Rekapitulácia stavby'!AN13
E18: ='Rekapitulácia stavby'!E14 | I18: IČ DPH: | J18: ='Rekapitulácia stavby'!AN14
D20: Projektant: | I20: IČO: | J20: =IF('Rekapitulácia stavby'!AN16="","",'Rekapitulácia stavby'!AN16)
E21: =IF('Rekapitulácia stavby'!E17="","",'Rekapitulácia stavby'!E17) | I21: IČ DPH: | J21: =IF('Rekapitulácia stavby'!AN17="","",'Rekapitulácia stavby'!AN17)
D23: Spracovateľ: | I23: IČO: | J23: =IF('Rekapitulácia stavby'!AN19="","",'Rekapitulácia stavby'!AN19)
E24: =IF('Rekapitulácia stavby'!E20="","",'Rekapitulácia stavby'!E20) | I24: IČ DPH: | J24: =IF('Rekapitulácia stavby'!AN20="","",'Rekapitulácia stavby'!AN20)
D26: Poznámka:
D30: Cena bez DPH | J30: =ROUND(J124, 2) -> 0
F32: Základ dane | I32: Sadzba dane | J32: Výška dane
D33: DPH | E33: základná | F33: =ROUND((SUM(BE124:BE233)), 2) -> 0 | I33: 0.23 | J33: =ROUND(((SUM(BE124:BE233))*I33), 2) -> 0
E34: znížená | F34: =ROUND((SUM(BF124:BF233)), 2) -> 0 | I34: 0.23 | J34: =ROUND(((SUM(BF124:BF233))*I34), 2) -> 0
E35: zákl. prenesená | F35: =ROUND((SUM(BG124:BG233)), 2) -> 0 | I35: 0.23 | J35: =0 -> 0
E36: zníž. prenesená | F36: =ROUND((SUM(BH124:BH233)), 2) -> 0 | I36: 0.23 | J36: =0 -> 0
E37: nulová | F37: =ROUND((SUM(BI124:BI233)), 2) -> 0 | I37: 0 | J37: =0 -> 0
D39: Cena s DPH | G39: v | H39: EUR | J39: =SUM(J30:J37) -> 0
D50: Projektant | G50: Spracovateľ
D61: Dátum a podpis: | F61: Pečiatka | G61: Dátum a podpis: | J61: Pečiatka
D65: Objednávateľ | G65: Zhotoviteľ
D76: Dátum a podpis: | F76: Pečiatka | G76: Dátum a podpis: | J76: Pečiatka
C82: REKAPITULÁCIA ROZPOČTU
C84: Stavba:
E85: =E7 -> MHTH_Teplárenská - Rekonštrukcia miestnosti v budove SP 12 na +4,200
C86: Objekt:
E87: =E9 -> 06 - 2.22 Kancelária
C89: Miesto: | F89: =F12 | I89: Dátum: | J89: =IF(J12="","",J12) -> 16. 9. 2026
C91: Objednávateľ: | F91: =E15 | I91: Projektant: | J91: =E21
C92: Zhotoviteľ: | F92: =IF(E18="","",E18) | I92: Spracovateľ: | J92: =E24
C94: Kód dielu - Popis | J94: Cena celkom [EUR]
C96: Náklady z rozpočtu | J96: =J124 -> 0 | AU96: -1
D97: HSV - Práce a dodávky HSV | J97: =J125 -> 0
D98: 6 - Úpravy povrchov, podlahy, osadenie | J98: =J126 -> 0
D99: 9 - Ostatné konštrukcie a práce-búranie | J99: =J134 -> 0
D100: 99 - Presun hmôt HSV | J100: =J160 -> 0
D101: PSV - Práce a dodávky PSV | J101: =J168 -> 0
D102: 776 - Podlahy povlakové | J102: =J169 -> 0
D103: 784 - Maľby | J103: =J195 -> 0
D104: HZS - Hodinové zúčtovacie sadzby | J104: =J232 -> 0
C111: ROZPOČET
C113: Stavba:
E114: =E7 -> MHTH_Teplárenská - Rekonštrukcia miestnosti v budove SP 12 na +4,200
C115: Objekt:
E116: =E9 -> 06 - 2.22 Kancelária
C118: Miesto: | F118: =F12 | I118: Dátum: | J118: =IF(J12="","",J12) -> 16. 9. 2026
C120: Objednávateľ: | F120: =E15 | I120: Projektant: | J120: =E21
C121: Zhotoviteľ: | F121: =IF(E18="","",E18) | I121: Spracovateľ: | J121: =E24
C123: PČ | D123: Typ | E123: Kód | F123: Popis | G123: MJ | H123: Množstvo | I123: J.cena [EUR] | J123: Cena celkom [EUR] | K123: Cenová sústava | N123: DPH | O123: J. Nh [h] | P123: Nh celkom [h] | Q123: J. hmotnosť [t] | R123: Hmotnosť celkom [t] | S123: J. suť [t] | T123: Suť Celkom [t]
C124: Náklady z rozpočtu | J124: =BK124 -> 0 | P124: =P125+P168+P232 -> 68.065971 | R124: =R125+R168+R232 -> 0.35689551 | T124: =T125+T168+T232 -> 0.1691954 | AT124: D | AU124: -1 | BK124: =BK125+BK168+BK232 -> 0
D125: D | E125: HSV | F125: Práce a dodávky HSV | J125: =BK125 -> 0 | P125: =P126+P134+P160 -> 13.423048 | R125: =R126+R134+R160 -> 0.15951378 | T125: =T126+T134+T160 -> 0.132472 | AR125: 1 | AT125: D | AU125: 0 | AY125: ROZPOCET | BK125: =BK126+BK134+BK160 -> 0
D126: D | E126: 6 | F126: Úpravy povrchov, podlahy, osadenie | J126: =BK126 -> 0 | P126: =SUM(P127:P133) -> 4.4980868 | R126: =SUM(R127:R133) -> 0.13182289 | T126: =SUM(T127:T133) -> 0 | AR126: 1 | AT126: D | AU126: 1 | AY126: ROZPOCET | BK126: =SUM(BK127:BK133) -> 0
C127: 1 | D127: K | E127: 612421231.S | F127: Oprava vnútorných vápenných omietok stien, opravovaná plocha nad 5 do 10 %,štuková | G127: m2 | H127: 33.118 | J127: =ROUND(I127*H127,2) -> 0 | N127: znížená | O127: 0.13582 | P127: =O127*H127 -> 4.4980868 | Q127: 0.0039804 | R127: =Q127*H127 -> 0.13182289 | S127: 0 | T127: =S127*H127 -> 0 | AR127: 4 | AT127: K | AU127: 2 | AY127: ROZPOCET | BE127: =IF(N127="základná",J127,0) -> 0 | BF127: =IF(N127="znížená",J127,0) -> 0 | BG127: =IF(N127="zákl. prenesená",J127,0) -> 0 | BH127: =IF(N127="zníž. prenesená",J127,0) -> 0 | BI127: =IF(N127="nulová",J127,0) -> 0 | BJ127: 2 | BK127: =ROUND(I127*H127,2) -> 0 | BL127: 4 | BM127: 2
D128: VV | F128: (2,875+4,5+2,875+4,5)*2,53 | H128: 37.3175 | AT128: VV | AU128: 2 | AV128: 2 | AW128: True | AX128: 0 | AY128: ROZPOCET
D129: VV | F129: odpočet dverí | AT129: VV | AU129: 2 | AV129: 1 | AW129: True | AX129: 0 | AY129: ROZPOCET
D130: VV | F130: -0,9*2 | H130: -1.8 | AT130: VV | AU130: 2 | AV130: 2 | AW130: True | AX130: 0 | AY130: ROZPOCET
D131: VV | F131: odpočet okna | AT131: VV | AU131: 2 | AV131: 1 | AW131: True | AX131: 0 | AY131: ROZPOCET
D132: VV | F132: -2*1,2 | H132: -2.4 | AT132: VV | AU132: 2 | AV132: 2 | AW132: True | AX132: 0 | AY132: ROZPOCET
D133: VV | F133: Súčet | H133: 33.1175 | AT133: VV | AU133: 2 | AV133: 4 | AW133: True | AX133: 1 | AY133: ROZPOCET
D134: D | E134: 9 | F134: Ostatné konštrukcie a práce-búranie | J134: =BK134 -> 0 | P134: =SUM(P135:P159) -> 8.3302206 | R134: =SUM(R135:R159) -> 0.02769089 | T134: =SUM(T135:T159) -> 0.132472 | AR134: 1 | AT134: D | AU134: 1 | AY134: ROZPOCET | BK134: =SUM(BK135:BK159) -> 0
C135: 2 | D135: K | E135: 941955001.S | F135: Lešenie ľahké pracovné pomocné, s výškou lešeňovej podlahy do 1,20 m | G135: m2 | H135: 17.7 | J135: =ROUND(I135*H135,2) -> 0 | N135: znížená | O135: 0.09921 | P135: =O135*H135 -> 1.756017 | Q135: 0.00152864 | R135: =Q135*H135 -> 0.027056928 | S135: 0 | T135: =S135*H135 -> 0 | AR135: 4 | AT135: K | AU135: 2 | AY135: ROZPOCET | BE135: =IF(N135="základná",J135,0) -> 0 | BF135: =IF(N135="znížená",J135,0) -> 0 | BG135: =IF(N135="zákl. prenesená",J135,0) -> 0 | BH135: =IF(N135="zníž. prenesená",J135,0) -> 0 | BI135: =IF(N135="nulová",J135,0) -> 0 | BJ135: 2 | BK135: =ROUND(I135*H135,2) -> 0 | BL135: 4 | BM135: 4
D136: VV | F136: Pre steny | AT136: VV | AU136: 2 | AV136: 1 | AW136: True | AX136: 0 | AY136: ROZPOCET
D137: VV | F137: (2,875+4,5+2,875+4,5)*1,2 | H137: 17.7 | AT137: VV | AU137: 2 | AV137: 2 | AW137: True | AX137: 0 | AY137: ROZPOCET
D138: VV | F138: Súčet | H138: 17.7 | AT138: VV | AU138: 2 | AV138: 4 | AW138: True | AX138: 1 | AY138: ROZPOCET
C139: 3 | D139: K | E139: 952901111.S | F139: Vyčistenie budov pri výške podlaží do 4 m | G139: m2 | H139: 12.938 | J139: =ROUND(I139*H139,2) -> 0 | N139: znížená | O139: 0.32401 | P139: =O139*H139 -> 4.1920414 | Q139: 4.9e-05 | R139: =Q139*H139 -> 0.000633962 | S139: 0 | T139: =S139*H139 -> 0 | AR139: 4 | AT139: K | AU139: 2 | AY139: ROZPOCET | BE139: =IF(N139="základná",J139,0) -> 0 | BF139: =IF(N139="znížená",J139,0) -> 0 | BG139: =IF(N139="zákl. prenesená",J139,0) -> 0 | BH139: =IF(N139="zníž. prenesená",J139,0) -> 0 | BI139: =IF(N139="nulová",J139,0) -> 0 | BJ139: 2 | BK139: =ROUND(I139*H139,2) -> 0 | BL139: 4 | BM139: 6
C140: 4 | D140: K | E140: 978013121.S | F140: Otlčenie omietok stien vnútorných vápenných alebo vápennocementových v rozsahu do 10 %, -0,00400t | G140: m2 | H140: 33.118 | J140: =ROUND(I140*H140,2) -> 0 | N140: znížená | O140: 0.02929 | P140: =O140*H140 -> 0.97002622 | Q140: 0 | R140: =Q140*H140 -> 0 | S140: 0.004 | T140: =S140*H140 -> 0.132472 | AR140: 4 | AT140: K | AU140: 2 | AY140: ROZPOCET | BE140: =IF(N140="základná",J140,0) -> 0 | BF140: =IF(N140="znížená",J140,0) -> 0 | BG140: =IF(N140="zákl. prenesená",J140,0) -> 0 | BH140: =IF(N140="zníž. prenesená",J140,0) -> 0 | BI140: =IF(N140="nulová",J140,0) -> 0 | BJ140: 2 | BK140: =ROUND(I140*H140,2) -> 0 | BL140: 4 | BM140: 8
D141: VV | F141: (2,875+4,5+2,875+4,5)*2,53 | H141: 37.3175 | AT141: VV | AU141: 2 | AV141: 2 | AW141: True | AX141: 0 | AY141: ROZPOCET
D142: VV | F142: odpočet dverí | AT142: VV | AU142: 2 | AV142: 1 | AW142: True | AX142: 0 | AY142: ROZPOCET
D143: VV | F143: -0,9*2 | H143: -1.8 | AT143: VV | AU143: 2 | AV143: 2 | AW143: True | AX143: 0 | AY143: ROZPOCET
D144: VV | F144: odpočet okna | AT144: VV | AU144: 2 | AV144: 1 | AW144: True | AX144: 0 | AY144: ROZPOCET
D145: VV | F145: -2*1,2 | H145: -2.4 | AT145: VV | AU145: 2 | AV145: 2 | AW145: True | AX145: 0 | AY145: ROZPOCET
D146: VV | F146: Súčet | H146: 33.1175 | AT146: VV | AU146: 2 | AV146: 4 | AW146: True | AX146: 1 | AY146: ROZPOCET
C147: 5 | D147: K | E147: 979011131.S | F147: Zvislá doprava sutiny po schodoch ručne do 3,5 m | G147: t | H147: 0.264 | J147: =ROUND(I147*H147,2) -> 0 | N147: znížená | O147: 1.972 | P147: =O147*H147 -> 0.520608 | Q147: 0 | R147: =Q147*H147 -> 0 | S147: 0 | T147: =S147*H147 -> 0 | AR147: 4 | AT147: K | AU147: 2 | AY147: ROZPOCET | BE147: =IF(N147="základná",J147,0) -> 0 | BF147: =IF(N147="znížená",J147,0) -> 0 | BG147: =IF(N147="zákl. prenesená",J147,0) -> 0 | BH147: =IF(N147="zníž. prenesená",J147,0) -> 0 | BI147: =IF(N147="nulová",J147,0) -> 0 | BJ147: 2 | BK147: =ROUND(I147*H147,2) -> 0 | BL147: 4 | BM147: 10
C148: 6 | D148: K | E148: 979011141.S | F148: Zvislá doprava sutiny po schodoch ručne, príplatok za každých ďalších 3,5 m | G148: t | H148: 0.528 | J148: =ROUND(I148*H148,2) -> 0 | N148: znížená | O148: 0.619 | P148: =O148*H148 -> 0.326832 | Q148: 0 | R148: =Q148*H148 -> 0 | S148: 0 | T148: =S148*H148 -> 0 | AR148: 4 | AT148: K | AU148: 2 | AY148: ROZPOCET | BE148: =IF(N148="základná",J148,0) -> 0 | BF148: =IF(N148="znížená",J148,0) -> 0 | BG148: =IF(N148="zákl. prenesená",J148,0) -> 0 | BH148: =IF(N148="zníž. prenesená",J148,0) -> 0 | BI148: =IF(N148="nulová",J148,0) -> 0 | BJ148: 2 | BK148: =ROUND(I148*H148,2) -> 0 | BL148: 4 | BM148: 12
D149: VV | F149: 0,264*2 "Prepočítané koeficientom množstva | H149: 0.528 | AT149: VV | AU149: 2 | AV149: 2 | AW149: True | AX149: 0 | AY149: ROZPOCET
D150: VV | F150: Súčet | H150: 0.528 | AT150: VV | AU150: 2 | AV150: 4 | AW150: True | AX150: 1 | AY150: ROZPOCET
C151: 7 | D151: K | E151: 979082111.S | F151: Vnútrostavenisková doprava sutiny a vybúraných hmôt do 10 m | G151: t | H151: 0.264 | J151: =ROUND(I151*H151,2) -> 0 | N151: znížená | O151: 0.89 | P151: =O151*H151 -> 0.23496 | Q151: 0 | R151: =Q151*H151 -> 0 | S151: 0 | T151: =S151*H151 -> 0 | AR151: 4 | AT151: K | AU151: 2 | AY151: ROZPOCET | BE151: =IF(N151="základná",J151,0) -> 0 | BF151: =IF(N151="znížená",J151,0) -> 0 | BG151: =IF(N151="zákl. prenesená",J151,0) -> 0 | BH151: =IF(N151="zníž. prenesená",J151,0) -> 0 | BI151: =IF(N151="nulová",J151,0) -> 0 | BJ151: 2 | BK151: =ROUND(I151*H151,2) -> 0 | BL151: 4 | BM151: 14
C152: 8 | D152: K | E152: 979082121.S | F152: Vnútrostavenisková doprava sutiny a vybúraných hmôt za každých ďalších 5 m | G152: t | H152: 1.32 | J152: =ROUND(I152*H152,2) -> 0 | N152: znížená | O152: 0.1 | P152: =O152*H152 -> 0.132 | Q152: 0 | R152: =Q152*H152 -> 0 | S152: 0 | T152: =S152*H152 -> 0 | AR152: 4 | AT152: K | AU152: 2 | AY152: ROZPOCET | BE152: =IF(N152="základná",J152,0) -> 0 | BF152: =IF(N152="znížená",J152,0) -> 0 | BG152: =IF(N152="zákl. prenesená",J152,0) -> 0 | BH152: =IF(N152="zníž. prenesená",J152,0) -> 0 | BI152: =IF(N152="nulová",J152,0) -> 0 | BJ152: 2 | BK152: =ROUND(I152*H152,2) -> 0 | BL152: 4 | BM152: 16
D153: VV | F153: 0,264*5 "Prepočítané koeficientom množstva | H153: 1.32 | AT153: VV | AU153: 2 | AV153: 2 | AW153: True | AX153: 0 | AY153: ROZPOCET
D154: VV | F154: Súčet | H154: 1.32 | AT154: VV | AU154: 2 | AV154: 4 | AW154: True | AX154: 1 | AY154: ROZPOCET
C155: 9 | D155: K | E155: 979087213.S | F155: Nakladanie na dopravné prostriedky pre vodorovnú dopravu vybúraných hmôt | G155: t | H155: 0.264 | J155: =ROUND(I155*H155,2) -> 0 | N155: znížená | O155: 0.749 | P155: =O155*H155 -> 0.197736 | Q155: 0 | R155: =Q155*H155 -> 0 | S155: 0 | T155: =S155*H155 -> 0 | AR155: 4 | AT155: K | AU155: 2 | AY155: ROZPOCET | BE155: =IF(N155="základná",J155,0) -> 0 | BF155: =IF(N155="znížená",J155,0) -> 0 | BG155: =IF(N155="zákl. prenesená",J155,0) -> 0 | BH155: =IF(N155="zníž. prenesená",J155,0) -> 0 | BI155: =IF(N155="nulová",J155,0) -> 0 | BJ155: 2 | BK155: =ROUND(I155*H155,2) -> 0 | BL155: 4 | BM155: 18
C156: 10 | D156: K | E156: 979089012.S | F156: Poplatok za skládku - betón, tehly, dlaždice, obkladačky a keramika (17 01), ostatné | G156: t | H156: 0.264 | J156: =ROUND(I156*H156,2) -> 0 | N156: znížená | O156: 0 | P156: =O156*H156 -> 0 | Q156: 0 | R156: =Q156*H156 -> 0 | S156: 0 | T156: =S156*H156 -> 0 | AR156: 4 | AT156: K | AU156: 2 | AY156: ROZPOCET | BE156: =IF(N156="základná",J156,0) -> 0 | BF156: =IF(N156="znížená",J156,0) -> 0 | BG156: =IF(N156="zákl. prenesená",J156,0) -> 0 | BH156: =IF(N156="zníž. prenesená",J156,0) -> 0 | BI156: =IF(N156="nulová",J156,0) -> 0 | BJ156: 2 | BK156: =ROUND(I156*H156,2) -> 0 | BL156: 4 | BM156: 20
C157: 11 | D157: K | E157: 979089712.S | F157: Prenájom kontajneru 5 m3 | G157: ks | H157: 1 | J157: =ROUND(I157*H157,2) -> 0 | N157: znížená | O157: 0 | P157: =O157*H157 -> 0 | Q157: 0 | R157: =Q157*H157 -> 0 | S157: 0 | T157: =S157*H157 -> 0 | AR157: 4 | AT157: K | AU157: 2 | AY157: ROZPOCET | BE157: =IF(N157="základná",J157,0) -> 0 | BF157: =IF(N157="znížená",J157,0) -> 0 | BG157: =IF(N157="zákl. prenesená",J157,0) -> 0 | BH157: =IF(N157="zníž. prenesená",J157,0) -> 0 | BI157: =IF(N157="nulová",J157,0) -> 0 | BJ157: 2 | BK157: =ROUND(I157*H157,2) -> 0 | BL157: 4 | BM157: 22
C158: 12 | D158: K | E158: MV | F158: Murárske výpomoci | G158: % | H158: 1000 | J158: =ROUND(I158*H158,2) -> 0 | N158: znížená | O158: 0 | P158: =O158*H158 -> 0 | Q158: 0 | R158: =Q158*H158 -> 0 | S158: 0 | T158: =S158*H158 -> 0 | AR158: 4 | AT158: K | AU158: 2 | AY158: ROZPOCET | BE158: =IF(N158="základná",J158,0) -> 0 | BF158: =IF(N158="znížená",J158,0) -> 0 | BG158: =IF(N158="zákl. prenesená",J158,0) -> 0 | BH158: =IF(N158="zníž. prenesená",J158,0) -> 0 | BI158: =IF(N158="nulová",J158,0) -> 0 | BJ158: 2 | BK158: =ROUND(I158*H158,2) -> 0 | BL158: 4 | BM158: 24
C159: 13 | D159: K | E159: PPV | F159: Podiel pridružených výkonov | G159: % | H159: 1000 | J159: =ROUND(I159*H159,2) -> 0 | N159: znížená | O159: 0 | P159: =O159*H159 -> 0 | Q159: 0 | R159: =Q159*H159 -> 0 | S159: 0 | T159: =S159*H159 -> 0 | AR159: 4 | AT159: K | AU159: 2 | AY159: ROZPOCET | BE159: =IF(N159="základná",J159,0) -> 0 | BF159: =IF(N159="znížená",J159,0) -> 0 | BG159: =IF(N159="zákl. prenesená",J159,0) -> 0 | BH159: =IF(N159="zníž. prenesená",J159,0) -> 0 | BI159: =IF(N159="nulová",J159,0) -> 0 | BJ159: 2 | BK159: =ROUND(I159*H159,2) -> 0 | BL159: 4 | BM159: 26
D160: D | E160: 99 | F160: Presun hmôt HSV | J160: =BK160 -> 0 | P160: =SUM(P161:P167) -> 0.5947403 | R160: =SUM(R161:R167) -> 0 | T160: =SUM(T161:T167) -> 0 | AR160: 1 | AT160: D | AU160: 1 | AY160: ROZPOCET | BK160: =SUM(BK161:BK167) -> 0
C161: 14 | D161: K | E161: 998009001.S | F161: Presun hmôt lešenia pre budovy s výškou do 3,5 m | G161: t | H161: 0.027 | J161: =ROUND(I161*H161,2) -> 0 | N161: znížená | O161: 1.9163 | P161: =O161*H161 -> 0.0517401 | Q161: 0 | R161: =Q161*H161 -> 0 | S161: 0 | T161: =S161*H161 -> 0 | AR161: 4 | AT161: K | AU161: 2 | AY161: ROZPOCET | BE161: =IF(N161="základná",J161,0) -> 0 | BF161: =IF(N161="znížená",J161,0) -> 0 | BG161: =IF(N161="zákl. prenesená",J161,0) -> 0 | BH161: =IF(N161="zníž. prenesená",J161,0) -> 0 | BI161: =IF(N161="nulová",J161,0) -> 0 | BJ161: 2 | BK161: =ROUND(I161*H161,2) -> 0 | BL161: 4 | BM161: 28
C162: 15 | D162: K | E162: 998009009.S | F162: Príplatok za presun hmôt lešenia pre budovy s výškou do 3,5 m, za k.ď. začatých 3,5 m | G162: t | H162: 0.054 | J162: =ROUND(I162*H162,2) -> 0 | N162: znížená | O162: 0.0698 | P162: =O162*H162 -> 0.0037692 | Q162: 0 | R162: =Q162*H162 -> 0 | S162: 0 | T162: =S162*H162 -> 0 | AR162: 4 | AT162: K | AU162: 2 | AY162: ROZPOCET | BE162: =IF(N162="základná",J162,0) -> 0 | BF162: =IF(N162="znížená",J162,0) -> 0 | BG162: =IF(N162="zákl. prenesená",J162,0) -> 0 | BH162: =IF(N162="zníž. prenesená",J162,0) -> 0 | BI162: =IF(N162="nulová",J162,0) -> 0 | BJ162: 2 | BK162: =ROUND(I162*H162,2) -> 0 | BL162: 4 | BM162: 30
D163: VV | F163: 0,027*2 "Prepočítané koeficientom množstva | H163: 0.054 | AT163: VV | AU163: 2 | AV163: 2 | AW163: True | AX163: 0 | AY163: ROZPOCET
D164: VV | F164: Súčet | H164: 0.054 | AT164: VV | AU164: 2 | AV164: 4 | AW164: True | AX164: 1 | AY164: ROZPOCET
C165: 16 | D165: K | E165: 998011002.S | F165: Presun hmôt pre budovy (801, 803, 812), zvislá konštr. z tehál, tvárnic, z kovu výšky do 12 m | G165: t | H165: 1.639 | J165: =ROUND(I165*H165,2) -> 0 | N165: znížená | O165: 0.329 | P165: =O165*H165 -> 0.539231 | Q165: 0 | R165: =Q165*H165 -> 0 | S165: 0 | T165: =S165*H165 -> 0 | AR165: 4 | AT165: K | AU165: 2 | AY165: ROZPOCET | BE165: =IF(N165="základná",J165,0) -> 0 | BF165: =IF(N165="znížená",J165,0) -> 0 | BG165: =IF(N165="zákl. prenesená",J165,0) -> 0 | BH165: =IF(N165="zníž. prenesená",J165,0) -> 0 | BI165: =IF(N165="nulová",J165,0) -> 0 | BJ165: 2 | BK165: =ROUND(I165*H165,2) -> 0 | BL165: 4 | BM165: 32
D166: VV | F166: 1,666-0,027 | H166: 1.639 | AT166: VV | AU166: 2 | AV166: 2 | AW166: True | AX166: 0 | AY166: ROZPOCET
...

Sheet 07 - 2.23 Kancelária
L2: >> skryté stĺpce << | AT2: {d5ae8967-42f9-4c06-8562-c9343b022d6c}
AT3: 1
D4: KRYCÍ LIST ROZPOČTU | M4: v --- nižšie sa nachádzajú doplnkové a pomocné údaje k zostavám --- v | AT4: False
D6: Stavba:
E7: ='Rekapitulácia stavby'!K6 -> MHTH_Teplárenská - Rekonštrukcia miestnosti v budove SP 12 na +4,200
D8: Objekt:
E9: 07 - 2.23 Kancelária
D11: JKSO: | I11: ČS:
D12: Miesto: | I12: Dátum: | J12: ='Rekapitulácia stavby'!AN8 -> 16. 9. 2026
D14: Objednávateľ: | I14: IČO: | J14: =IF('Rekapitulácia stavby'!AN10="","",'Rekapitulácia stavby'!AN10)
E15: =IF('Rekapitulácia stavby'!E11="","",'Rekapitulácia stavby'!E11) | I15: IČ DPH: | J15: =IF('Rekapitulácia stavby'!AN11="","",'Rekapitulácia stavby'!AN11)
D17: Zhotoviteľ: | I17: IČO: | J17: ='Rekapitulácia stavby'!AN13
E18: ='Rekapitulácia stavby'!E14 | I18: IČ DPH: | J18: ='Rekapitulácia stavby'!AN14
D20: Projektant: | I20: IČO: | J20: =IF('Rekapitulácia stavby'!AN16="","",'Rekapitulácia stavby'!AN16)
E21: =IF('Rekapitulácia stavby'!E17="","",'Rekapitulácia stavby'!E17) | I21: IČ DPH: | J21: =IF('Rekapitulácia stavby'!AN17="","",'Rekapitulácia stavby'!AN17)
D23: Spracovateľ: | I23: IČO: | J23: =IF('Rekapitulácia stavby'!AN19="","",'Rekapitulácia stavby'!AN19)
E24: =IF('Rekapitulácia stavby'!E20="","",'Rekapitulácia stavby'!E20) | I24: IČ DPH: | J24: =IF('Rekapitulácia stavby'!AN20="","",'Rekapitulácia stavby'!AN20)
D26: Poznámka:
D30: Cena bez DPH | J30: =ROUND(J124, 2) -> 0
F32: Základ dane | I32: Sadzba dane | J32: Výška dane
D33: DPH | E33: základná | F33: =ROUND((SUM(BE124:BE238)), 2) -> 0 | I33: 0.23 | J33: =ROUND(((SUM(BE124:BE238))*I33), 2) -> 0
E34: znížená | F34: =ROUND((SUM(BF124:BF238)), 2) -> 0 | I34: 0.23 | J34: =ROUND(((SUM(BF124:BF238))*I34), 2) -> 0
E35: zákl. prenesená | F35: =ROUND((SUM(BG124:BG238)), 2) -> 0 | I35: 0.23 | J35: =0 -> 0
E36: zníž. prenesená | F36: =ROUND((SUM(BH124:BH238)), 2) -> 0 | I36: 0.23 | J36: =0 -> 0
E37: nulová | F37: =ROUND((SUM(BI124:BI238)), 2) -> 0 | I37: 0 | J37: =0 -> 0
D39: Cena s DPH | G39: v | H39: EUR | J39: =SUM(J30:J37) -> 0
D50: Projektant | G50: Spracovateľ
D61: Dátum a podpis: | F61: Pečiatka | G61: Dátum a podpis: | J61: Pečiatka
D65: Objednávateľ | G65: Zhotoviteľ
D76: Dátum a podpis: | F76: Pečiatka | G76: Dátum a podpis: | J76: Pečiatka
C82: REKAPITULÁCIA ROZPOČTU
C84: Stavba:
E85: =E7 -> MHTH_Teplárenská - Rekonštrukcia miestnosti v budove SP 12 na +4,200
C86: Objekt:
E87: =E9 -> 07 - 2.23 Kancelária
C89: Miesto: | F89: =F12 | I89: Dátum: | J89: =IF(J12="","",J12) -> 16. 9. 2026
C91: Objednávateľ: | F91: =E15 | I91: Projektant: | J91: =E21
C92: Zhotoviteľ: | F92: =IF(E18="","",E18) | I92: Spracovateľ: | J92: =E24
C94: Kód dielu - Popis | J94: Cena celkom [EUR]
C96: Náklady z rozpočtu | J96: =J124 -> 0 | AU96: -1
D97: HSV - Práce a dodávky HSV | J97: =J125 -> 0
D98: 6 - Úpravy povrchov, podlahy, osadenie | J98: =J126 -> 0
D99: 9 - Ostatné konštrukcie a práce-búranie | J99: =J134 -> 0
D100: 99 - Presun hmôt HSV | J100: =J160 -> 0
D101: PSV - Práce a dodávky PSV | J101: =J168 -> 0
D102: 776 - Podlahy povlakové | J102: =J169 -> 0
D103: 784 - Maľby | J103: =J196 -> 0
D104: HZS - Hodinové zúčtovacie sadzby | J104: =J237 -> 0
C111: ROZPOČET
C113: Stavba:
E114: =E7 -> MHTH_Teplárenská - Rekonštrukcia miestnosti v budove SP 12 na +4,200
C115: Objekt:
E116: =E9 -> 07 - 2.23 Kancelária
C118: Miesto: | F118: =F12 | I118: Dátum: | J118: =IF(J12="","",J12) -> 16. 9. 2026
C120: Objednávateľ: | F120: =E15 | I120: Projektant: | J120: =E21
C121: Zhotoviteľ: | F121: =IF(E18="","",E18) | I121: Spracovateľ: | J121: =E24
C123: PČ | D123: Typ | E123: Kód | F123: Popis | G123: MJ | H123: Množstvo | I123: J.cena [EUR] | J123: Cena celkom [EUR] | K123: Cenová sústava | N123: DPH | O123: J. Nh [h] | P123: Nh celkom [h] | Q123: J. hmotnosť [t] | R123: Hmotnosť celkom [t] | S123: J. suť [t] | T123: Suť Celkom [t]
C124: Náklady z rozpočtu | J124: =BK124 -> 0 | P124: =P125+P168+P237 -> 70.363829 | R124: =R125+R168+R237 -> 0.37338906 | T124: =T125+T168+T237 -> 0.184629 | AT124: D | AU124: -1 | BK124: =BK125+BK168+BK237 -> 0
D125: D | E125: HSV | F125: Práce a dodávky HSV | J125: =BK125 -> 0 | P125: =P126+P134+P160 -> 14.192555 | R125: =R126+R134+R160 -> 0.17256143 | T125: =T126+T134+T160 -> 0.14512 | AR125: 1 | AT125: D | AU125: 0 | AY125: ROZPOCET | BK125: =BK126+BK134+BK160 -> 0
D126: D | E126: 6 | F126: Úpravy povrchov, podlahy, osadenie | J126: =BK126 -> 0 | P126: =SUM(P127:P133) -> 4.9275496 | R126: =SUM(R127:R133) -> 0.14440891 | T126: =SUM(T127:T133) -> 0 | AR126: 1 | AT126: D | AU126: 1 | AY126: ROZPOCET | BK126: =SUM(BK127:BK133) -> 0
C127: 1 | D127: K | E127: 612421231.S | F127: Oprava vnútorných vápenných omietok stien, opravovaná plocha nad 5 do 10 %,štuková | G127: m2 | H127: 36.28 | J127: =ROUND(I127*H127,2) -> 0 | N127: znížená | O127: 0.13582 | P127: =O127*H127 -> 4.9275496 | Q127: 0.0039804 | R127: =Q127*H127 -> 0.14440891 | S127: 0 | T127: =S127*H127 -> 0 | AR127: 4 | AT127: K | AU127: 2 | AY127: ROZPOCET | BE127: =IF(N127="základná",J127,0) -> 0 | BF127: =IF(N127="znížená",J127,0) -> 0 | BG127: =IF(N127="zákl. prenesená",J127,0) -> 0 | BH127: =IF(N127="zníž. prenesená",J127,0) -> 0 | BI127: =IF(N127="nulová",J127,0) -> 0 | BJ127: 2 | BK127: =ROUND(I127*H127,2) -> 0 | BL127: 4 | BM127: 2
D128: VV | F128: (3+4,5+3+4,5+0,5+0,5)*2,53 | H128: 40.48 | AT128: VV | AU128: 2 | AV128: 2 | AW128: True | AX128: 0 | AY128: ROZPOCET
D129: VV | F129: odpočet dverí | AT129: VV | AU129: 2 | AV129: 1 | AW129: True | AX129: 0 | AY129: ROZPOCET
D130: VV | F130: -0,9*2 | H130: -1.8 | AT130: VV | AU130: 2 | AV130: 2 | AW130: True | AX130: 0 | AY130: ROZPOCET
D131: VV | F131: odpočet okna | AT131: VV | AU131: 2 | AV131: 1 | AW131: True | AX131: 0 | AY131: ROZPOCET
D132: VV | F132: -2*1,2 | H132: -2.4 | AT132: VV | AU132: 2 | AV132: 2 | AW132: True | AX132: 0 | AY132: ROZPOCET
D133: VV | F133: Súčet | H133: 36.28 | AT133: VV | AU133: 2 | AV133: 4 | AW133: True | AX133: 1 | AY133: ROZPOCET
D134: D | E134: 9 | F134: Ostatné konštrukcie a práce-búranie | J134: =BK134 -> 0 | P134: =SUM(P135:P159) -> 8.6117612 | R134: =SUM(R135:R159) -> 0.02815252 | T134: =SUM(T135:T159) -> 0.14512 | AR134: 1 | AT134: D | AU134: 1 | AY134: ROZPOCET | BK134: =SUM(BK135:BK159) -> 0
C135: 2 | D135: K | E135: 941955001.S | F135: Lešenie ľahké pracovné pomocné, s výškou lešeňovej podlahy do 1,20 m | G135: m2 | H135: 18 | J135: =ROUND(I135*H135,2) -> 0 | N135: znížená | O135: 0.09921 | P135: =O135*H135 -> 1.78578 | Q135: 0.00152864 | R135: =Q135*H135 -> 0.02751552 | S135: 0 | T135: =S135*H135 -> 0 | AR135: 4 | AT135: K | AU135: 2 | AY135: ROZPOCET | BE135: =IF(N135="základná",J135,0) -> 0 | BF135: =IF(N135="znížená",J135,0) -> 0 | BG135: =IF(N135="zákl. prenesená",J135,0) -> 0 | BH135: =IF(N135="zníž. prenesená",J135,0) -> 0 | BI135: =IF(N135="nulová",J135,0) -> 0 | BJ135: 2 | BK135: =ROUND(I135*H135,2) -> 0 | BL135: 4 | BM135: 4
D136: VV | F136: Pre steny | AT136: VV | AU136: 2 | AV136: 1 | AW136: True | AX136: 0 | AY136: ROZPOCET
D137: VV | F137: (3+4,5+3+4,5)*1,2 | H137: 18 | AT137: VV | AU137: 2 | AV137: 2 | AW137: True | AX137: 0 | AY137: ROZPOCET
D138: VV | F138: Súčet | H138: 18 | AT138: VV | AU138: 2 | AV138: 4 | AW138: True | AX138: 1 | AY138: ROZPOCET
C139: 3 | D139: K | E139: 952901111.S | F139: Vyčistenie budov pri výške podlaží do 4 m | G139: m2 | H139: 13 | J139: =ROUND(I139*H139,2) -> 0 | N139: znížená | O139: 0.32401 | P139: =O139*H139 -> 4.21213 | Q139: 4.9e-05 | R139: =Q139*H139 -> 0.000637 | S139: 0 | T139: =S139*H139 -> 0 | AR139: 4 | AT139: K | AU139: 2 | AY139: ROZPOCET | BE139: =IF(N139="základná",J139,0) -> 0 | BF139: =IF(N139="znížená",J139,0) -> 0 | BG139: =IF(N139="zákl. prenesená",J139,0) -> 0 | BH139: =IF(N139="zníž. prenesená",J139,0) -> 0 | BI139: =IF(N139="nulová",J139,0) -> 0 | BJ139: 2 | BK139: =ROUND(I139*H139,2) -> 0 | BL139: 4 | BM139: 6
C140: 4 | D140: K | E140: 978013121.S | F140: Otlčenie omietok stien vnútorných vápenných alebo vápennocementových v rozsahu do 10 %, -0,00400t | G140: m2 | H140: 36.28 | J140: =ROUND(I140*H140,2) -> 0 | N140: znížená | O140: 0.02929 | P140: =O140*H140 -> 1.0626412 | Q140: 0 | R140: =Q140*H140 -> 0 | S140: 0.004 | T140: =S140*H140 -> 0.14512 | AR140: 4 | AT140: K | AU140: 2 | AY140: ROZPOCET | BE140: =IF(N140="základná",J140,0) -> 0 | BF140: =IF(N140="znížená",J140,0) -> 0 | BG140: =IF(N140="zákl. prenesená",J140,0) -> 0 | BH140: =IF(N140="zníž. prenesená",J140,0) -> 0 | BI140: =IF(N140="nulová",J140,0) -> 0 | BJ140: 2 | BK140: =ROUND(I140*H140,2) -> 0 | BL140: 4 | BM140: 8
D141: VV | F141: (3+4,5+3+4,5+0,5+0,5)*2,53 | H141: 40.48 | AT141: VV | AU141: 2 | AV141: 2 | AW141: True | AX141: 0 | AY141: ROZPOCET
D142: VV | F142: odpočet dverí | AT142: VV | AU142: 2 | AV142: 1 | AW142: True | AX142: 0 | AY142: ROZPOCET
D143: VV | F143: -0,9*2 | H143: -1.8 | AT143: VV | AU143: 2 | AV143: 2 | AW143: True | AX143: 0 | AY143: ROZPOCET
D144: VV | F144: odpočet okna | AT144: VV | AU144: 2 | AV144: 1 | AW144: True | AX144: 0 | AY144: ROZPOCET
D145: VV | F145: -2*1,2 | H145: -2.4 | AT145: VV | AU145: 2 | AV145: 2 | AW145: True | AX145: 0 | AY145: ROZPOCET
D146: VV | F146: Súčet | H146: 36.28 | AT146: VV | AU146: 2 | AV146: 4 | AW146: True | AX146: 1 | AY146: ROZPOCET
C147: 5 | D147: K | E147: 979011131.S | F147: Zvislá doprava sutiny po schodoch ručne do 3,5 m | G147: t | H147: 0.29 | J147: =ROUND(I147*H147,2) -> 0 | N147: znížená | O147: 1.972 | P147: =O147*H147 -> 0.57188 | Q147: 0 | R147: =Q147*H147 -> 0 | S147: 0 | T147: =S147*H147 -> 0 | AR147: 4 | AT147: K | AU147: 2 | AY147: ROZPOCET | BE147: =IF(N147="základná",J147,0) -> 0 | BF147: =IF(N147="znížená",J147,0) -> 0 | BG147: =IF(N147="zákl. prenesená",J147,0) -> 0 | BH147: =IF(N147="zníž. prenesená",J147,0) -> 0 | BI147: =IF(N147="nulová",J147,0) -> 0 | BJ147: 2 | BK147: =ROUND(I147*H147,2) -> 0 | BL147: 4 | BM147: 10
C148: 6 | D148: K | E148: 979011141.S | F148: Zvislá doprava sutiny po schodoch ručne, príplatok za každých ďalších 3,5 m | G148: t | H148: 0.58 | J148: =ROUND(I148*H148,2) -> 0 | N148: znížená | O148: 0.619 | P148: =O148*H148 -> 0.35902 | Q148: 0 | R148: =Q148*H148 -> 0 | S148: 0 | T148: =S148*H148 -> 0 | AR148: 4 | AT148: K | AU148: 2 | AY148: ROZPOCET | BE148: =IF(N148="základná",J148,0) -> 0 | BF148: =IF(N148="znížená",J148,0) -> 0 | BG148: =IF(N148="zákl. prenesená",J148,0) -> 0 | BH148: =IF(N148="zníž. prenesená",J148,0) -> 0 | BI148: =IF(N148="nulová",J148,0) -> 0 | BJ148: 2 | BK148: =ROUND(I148*H148,2) -> 0 | BL148: 4 | BM148: 12
D149: VV | F149: 0,290*2 "Prepočítané koeficientom množstva | H149: 0.58 | AT149: VV | AU149: 2 | AV149: 2 | AW149: True | AX149: 0 | AY149: ROZPOCET
D150: VV | F150: Súčet | H150: 0.58 | AT150: VV | AU150: 2 | AV150: 4 | AW150: True | AX150: 1 | AY150: ROZPOCET
C151: 7 | D151: K | E151: 979082111.S | F151: Vnútrostavenisková doprava sutiny a vybúraných hmôt do 10 m | G151: t | H151: 0.29 | J151: =ROUND(I151*H151,2) -> 0 | N151: znížená | O151: 0.89 | P151: =O151*H151 -> 0.2581 | Q151: 0 | R151: =Q151*H151 -> 0 | S151: 0 | T151: =S151*H151 -> 0 | AR151: 4 | AT151: K | AU151: 2 | AY151: ROZPOCET | BE151: =IF(N151="základná",J151,0) -> 0 | BF151: =IF(N151="znížená",J151,0) -> 0 | BG151: =IF(N151="zákl. prenesená",J151,0) -> 0 | BH151: =IF(N151="zníž. prenesená",J151,0) -> 0 | BI151: =IF(N151="nulová",J151,0) -> 0 | BJ151: 2 | BK151: =ROUND(I151*H151,2) -> 0 | BL151: 4 | BM151: 14
C152: 8 | D152: K | E152: 979082121.S | F152: Vnútrostavenisková doprava sutiny a vybúraných hmôt za každých ďalších 5 m | G152: t | H152: 1.45 | J152: =ROUND(I152*H152,2) -> 0 | N152: znížená | O152: 0.1 | P152: =O152*H152 -> 0.145 | Q152: 0 | R152: =Q152*H152 -> 0 | S152: 0 | T152: =S152*H152 -> 0 | AR152: 4 | AT152: K | AU152: 2 | AY152: ROZPOCET | BE152: =IF(N152="základná",J152,0) -> 0 | BF152: =IF(N152="znížená",J152,0) -> 0 | BG152: =IF(N152="zákl. prenesená",J152,0) -> 0 | BH152: =IF(N152="zníž. prenesená",J152,0) -> 0 | BI152: =IF(N152="nulová",J152,0) -> 0 | BJ152: 2 | BK152: =ROUND(I152*H152,2) -> 0 | BL152: 4 | BM152: 16
D153: VV | F153: 0,290*5 "Prepočítané koeficientom množstva | H153: 1.45 | AT153: VV | AU153: 2 | AV153: 2 | AW153: True | AX153: 0 | AY153: ROZPOCET
D154: VV | F154: Súčet | H154: 1.45 | AT154: VV | AU154: 2 | AV154: 4 | AW154: True | AX154: 1 | AY154: ROZPOCET
C155: 9 | D155: K | E155: 979087213.S | F155: Nakladanie na dopravné prostriedky pre vodorovnú dopravu vybúraných hmôt | G155: t | H155: 0.29 | J155: =ROUND(I155*H155,2) -> 0 | N155: znížená | O155: 0.749 | P155: =O155*H155 -> 0.21721 | Q155: 0 | R155: =Q155*H155 -> 0 | S155: 0 | T155: =S155*H155 -> 0 | AR155: 4 | AT155: K | AU155: 2 | AY155: ROZPOCET | BE155: =IF(N155="základná",J155,0) -> 0 | BF155: =IF(N155="znížená",J155,0) -> 0 | BG155: =IF(N155="zákl. prenesená",J155,0) -> 0 | BH155: =IF(N155="zníž. prenesená",J155,0) -> 0 | BI155: =IF(N155="nulová",J155,0) -> 0 | BJ155: 2 | BK155: =ROUND(I155*H155,2) -> 0 | BL155: 4 | BM155: 18
C156: 10 | D156: K | E156: 979089012.S | F156: Poplatok za skládku - betón, tehly, dlaždice, obkladačky a keramika (17 01), ostatné | G156: t | H156: 0.29 | J156: =ROUND(I156*H156,2) -> 0 | N156: znížená | O156: 0 | P156: =O156*H156 -> 0 | Q156: 0 | R156: =Q156*H156 -> 0 | S156: 0 | T156: =S156*H156 -> 0 | AR156: 4 | AT156: K | AU156: 2 | AY156: ROZPOCET | BE156: =IF(N156="základná",J156,0) -> 0 | BF156: =IF(N156="znížená",J156,0) -> 0 | BG156: =IF(N156="zákl. prenesená",J156,0) -> 0 | BH156: =IF(N156="zníž. prenesená",J156,0) -> 0 | BI156: =IF(N156="nulová",J156,0) -> 0 | BJ156: 2 | BK156: =ROUND(I156*H156,2) -> 0 | BL156: 4 | BM156: 20
C157: 11 | D157: K | E157: 979089712.S | F157: Prenájom kontajneru 5 m3 | G157: ks | H157: 1 | J157: =ROUND(I157*H157,2) -> 0 | N157: znížená | O157: 0 | P157: =O157*H157 -> 0 | Q157: 0 | R157: =Q157*H157 -> 0 | S157: 0 | T157: =S157*H157 -> 0 | AR157: 4 | AT157: K | AU157: 2 | AY157: ROZPOCET | BE157: =IF(N157="základná",J157,0) -> 0 | BF157: =IF(N157="znížená",J157,0) -> 0 | BG157: =IF(N157="zákl. prenesená",J157,0) -> 0 | BH157: =IF(N157="zníž. prenesená",J157,0) -> 0 | BI157: =IF(N157="nulová",J157,0) -> 0 | BJ157: 2 | BK157: =ROUND(I157*H157,2) -> 0 | BL157: 4 | BM157: 22
C158: 12 | D158: K | E158: MV | F158: Murárske výpomoci | G158: % | H158: 1075 | J158: =ROUND(I158*H158,2) -> 0 | N158: znížená | O158: 0 | P158: =O158*H158 -> 0 | Q158: 0 | R158: =Q158*H158 -> 0 | S158: 0 | T158: =S158*H158 -> 0 | AR158: 4 | AT158: K | AU158: 2 | AY158: ROZPOCET | BE158: =IF(N158="základná",J158,0) -> 0 | BF158: =IF(N158="znížená",J158,0) -> 0 | BG158: =IF(N158="zákl. prenesená",J158,0) -> 0 | BH158: =IF(N158="zníž. prenesená",J158,0) -> 0 | BI158: =IF(N158="nulová",J158,0) -> 0 | BJ158: 2 | BK158: =ROUND(I158*H158,2) -> 0 | BL158: 4 | BM158: 24
C159: 13 | D159: K | E159: PPV | F159: Podiel pridružených výkonov | G159: % | H159: 1075 | J159: =ROUND(I159*H159,2) -> 0 | N159: znížená | O159: 0 | P159: =O159*H159 -> 0 | Q159: 0 | R159: =Q159*H159 -> 0 | S159: 0 | T159: =S159*H159 -> 0 | AR159: 4 | AT159: K | AU159: 2 | AY159: ROZPOCET | BE159: =IF(N159="základná",J159,0) -> 0 | BF159: =IF(N159="znížená",J159,0) -> 0 | BG159: =IF(N159="zákl. prenesená",J159,0) -> 0 | BH159: =IF(N159="zníž. prenesená",J159,0) -> 0 | BI159: =IF(N159="nulová",J159,0) -> 0 | BJ159: 2 | BK159: =ROUND(I159*H159,2) -> 0 | BL159: 4 | BM159: 26
D160: D | E160: 99 | F160: Presun hmôt HSV | J160: =BK160 -> 0 | P160: =SUM(P161:P167) -> 0.6532446 | R160: =SUM(R161:R167) -> 0 | T160: =SUM(T161:T167) -> 0 | AR160: 1 | AT160: D | AU160: 1 | AY160: ROZPOCET | BK160: =SUM(BK161:BK167) -> 0
C161: 14 | D161: K | E161: 998009001.S | F161: Presun hmôt lešenia pre budovy s výškou do 3,5 m | G161: t | H161: 0.028 | J161: =ROUND(I161*H161,2) -> 0 | N161: znížená | O161: 1.9163 | P161: =O161*H161 -> 0.0536564 | Q161: 0 | R161: =Q161*H161 -> 0 | S161: 0 | T161: =S161*H161 -> 0 | AR161: 4 | AT161: K | AU161: 2 | AY161: ROZPOCET | BE161: =IF(N161="základná",J161,0) -> 0 | BF161: =IF(N161="znížená",J161,0) -> 0 | BG161: =IF(N161="zákl. prenesená",J161,0) -> 0 | BH161: =IF(N161="zníž. prenesená",J161,0) -> 0 | BI161: =IF(N161="nulová",J161,0) -> 0 | BJ161: 2 | BK161: =ROUND(I161*H161,2) -> 0 | BL161: 4 | BM161: 28
C162: 15 | D162: K | E162: 998009009.S | F162: Príplatok za presun hmôt lešenia pre budovy s výškou do 3,5 m, za k.ď. začatých 3,5 m | G162: t | H162: 0.054 | J162: =ROUND(I162*H162,2) -> 0 | N162: znížená | O162: 0.0698 | P162: =O162*H162 -> 0.0037692 | Q162: 0 | R162: =Q162*H162 -> 0 | S162: 0 | T162: =S162*H162 -> 0 | AR162: 4 | AT162: K | AU162: 2 | AY162: ROZPOCET | BE162: =IF(N162="základná",J162,0) -> 0 | BF162: =IF(N162="znížená",J162,0) -> 0 | BG162: =IF(N162="zákl. prenesená",J162,0) -> 0 | BH162: =IF(N162="zníž. prenesená",J162,0) -> 0 | BI162: =IF(N162="nulová",J162,0) -> 0 | BJ162: 2 | BK162: =ROUND(I162*H162,2) -> 0 | BL162: 4 | BM162: 30
D163: VV | F163: 0,027*2 "Prepočítané koeficientom množstva | H163: 0.054 | AT163: VV | AU163: 2 | AV163: 2 | AW163: True | AX163: 0 | AY163: ROZPOCET
D164: VV | F164: Súčet | H164: 0.054 | AT164: VV | AU164: 2 | AV164: 4 | AW164: True | AX164: 1 | AY164: ROZPOCET
C165: 16 | D165: K | E165: 998011002.S | F165: Presun hmôt pre budovy (801, 803, 812), zvislá konštr. z tehál, tvárnic, z kovu výšky do 12 m | G165: t | H165: 1.811 | J165: =ROUND(I165*H165,2) -> 0 | N165: znížená | O165: 0.329 | P165: =O165*H165 -> 0.595819 | Q165: 0 | R165: =Q165*H165 -> 0 | S165: 0 | T165: =S165*H165 -> 0 | AR165: 4 | AT165: K | AU165: 2 | AY165: ROZPOCET | BE165: =IF(N165="základná",J165,0) -> 0 | BF165: =IF(N165="znížená",J165,0) -> 0 | BG165: =IF(N165="zákl. prenesená",J165,0) -> 0 | BH165: =IF(N165="zníž. prenesená",J165,0) -> 0 | BI165: =IF(N165="nulová",J165,0) -> 0 | BJ165: 2 | BK165: =ROUND(I165*H165,2) -> 0 | BL165: 4 | BM165: 32
D166: VV | F166: 1,838-0,027 | H166: 1.811 | AT166: VV | AU166: 2 | AV166: 2 | AW166: True | AX166: 0 | AY166: ROZPOCET
...

Sheet 08 - 2.26 Zasadačka
L2: >> skryté stĺpce << | AT2: {d262396e-d167-414b-b700-287520ddb0f6}
AT3: 1
D4: KRYCÍ LIST ROZPOČTU | M4: v --- nižšie sa nachádzajú doplnkové a pomocné údaje k zostavám --- v | AT4: False
D6: Stavba:
E7: ='Rekapitulácia stavby'!K6 -> MHTH_Teplárenská - Rekonštrukcia miestnosti v budove SP 12 na +4,200
D8: Objekt:
E9: 08 - 2.26 Zasadačka
D11: JKSO: | I11: ČS:
D12: Miesto: | I12: Dátum: | J12: ='Rekapitulácia stavby'!AN8 -> 16. 9. 2026
D14: Objednávateľ: | I14: IČO: | J14: =IF('Rekapitulácia stavby'!AN10="","",'Rekapitulácia stavby'!AN10)
E15: =IF('Rekapitulácia stavby'!E11="","",'Rekapitulácia stavby'!E11) | I15: IČ DPH: | J15: =IF('Rekapitulácia stavby'!AN11="","",'Rekapitulácia stavby'!AN11)
D17: Zhotoviteľ: | I17: IČO: | J17: ='Rekapitulácia stavby'!AN13
E18: ='Rekapitulácia stavby'!E14 | I18: IČ DPH: | J18: ='Rekapitulácia stavby'!AN14
D20: Projektant: | I20: IČO: | J20: =IF('Rekapitulácia stavby'!AN16="","",'Rekapitulácia stavby'!AN16)
E21: =IF('Rekapitulácia stavby'!E17="","",'Rekapitulácia stavby'!E17) | I21: IČ DPH: | J21: =IF('Rekapitulácia stavby'!AN17="","",'Rekapitulácia stavby'!AN17)
D23: Spracovateľ: | I23: IČO: | J23: =IF('Rekapitulácia stavby'!AN19="","",'Rekapitulácia stavby'!AN19)
E24: =IF('Rekapitulácia stavby'!E20="","",'Rekapitulácia stavby'!E20) | I24: IČ DPH: | J24: =IF('Rekapitulácia stavby'!AN20="","",'Rekapitulácia stavby'!AN20)
D26: Poznámka:
D30: Cena bez DPH | J30: =ROUND(J124, 2) -> 0
F32: Základ dane | I32: Sadzba dane | J32: Výška dane
D33: DPH | E33: základná | F33: =ROUND((SUM(BE124:BE221)), 2) -> 0 | I33: 0.23 | J33: =ROUND(((SUM(BE124:BE221))*I33), 2) -> 0
E34: znížená | F34: =ROUND((SUM(BF124:BF221)), 2) -> 0 | I34: 0.23 | J34: =ROUND(((SUM(BF124:BF221))*I34), 2) -> 0
E35: zákl. prenesená | F35: =ROUND((SUM(BG124:BG221)), 2) -> 0 | I35: 0.23 | J35: =0 -> 0
E36: zníž. prenesená | F36: =ROUND((SUM(BH124:BH221)), 2) -> 0 | I36: 0.23 | J36: =0 -> 0
E37: nulová | F37: =ROUND((SUM(BI124:BI221)), 2) -> 0 | I37: 0 | J37: =0 -> 0
D39: Cena s DPH | G39: v | H39: EUR | J39: =SUM(J30:J37) -> 0
D50: Projektant | G50: Spracovateľ
D61: Dátum a podpis: | F61: Pečiatka | G61: Dátum a podpis: | J61: Pečiatka
D65: Objednávateľ | G65: Zhotoviteľ
D76: Dátum a podpis: | F76: Pečiatka | G76: Dátum a podpis: | J76: Pečiatka
C82: REKAPITULÁCIA ROZPOČTU
C84: Stavba:
E85: =E7 -> MHTH_Teplárenská - Rekonštrukcia miestnosti v budove SP 12 na +4,200
C86: Objekt:
E87: =E9 -> 08 - 2.26 Zasadačka
C89: Miesto: | F89: =F12 | I89: Dátum: | J89: =IF(J12="","",J12) -> 16. 9. 2026
C91: Objednávateľ: | F91: =E15 | I91: Projektant: | J91: =E21
C92: Zhotoviteľ: | F92: =IF(E18="","",E18) | I92: Spracovateľ: | J92: =E24
C94: Kód dielu - Popis | J94: Cena celkom [EUR]
C96: Náklady z rozpočtu | J96: =J124 -> 0 | AU96: -1
D97: HSV - Práce a dodávky HSV | J97: =J125 -> 0
D98: 6 - Úpravy povrchov, podlahy, osadenie | J98: =J126 -> 0
D99: 9 - Ostatné konštrukcie a práce-búranie | J99: =J132 -> 0
D100: 99 - Presun hmôt HSV | J100: =J156 -> 0
D101: PSV - Práce a dodávky PSV | J101: =J164 -> 0
D102: 776 - Podlahy povlakové | J102: =J165 -> 0
D103: 784 - Maľby | J103: =J191 -> 0
D104: HZS - Hodinové zúčtovacie sadzby | J104: =J220 -> 0
C111: ROZPOČET
C113: Stavba:
E114: =E7 -> MHTH_Teplárenská - Rekonštrukcia miestnosti v budove SP 12 na +4,200
C115: Objekt:
E116: =E9 -> 08 - 2.26 Zasadačka
C118: Miesto: | F118: =F12 | I118: Dátum: | J118: =IF(J12="","",J12) -> 16. 9. 2026
C120: Objednávateľ: | F120: =E15 | I120: Projektant: | J120: =E21
C121: Zhotoviteľ: | F121: =IF(E18="","",E18) | I121: Spracovateľ: | J121: =E24
C123: PČ | D123: Typ | E123: Kód | F123: Popis | G123: MJ | H123: Množstvo | I123: J.cena [EUR] | J123: Cena celkom [EUR] | K123: Cenová sústava | N123: DPH | O123: J. Nh [h] | P123: Nh celkom [h] | Q123: J. hmotnosť [t] | R123: Hmotnosť celkom [t] | S123: J. suť [t] | T123: Suť Celkom [t]
C124: Náklady z rozpočtu | J124: =BK124 -> 0 | P124: =P125+P164+P220 -> 85.235224 | R124: =R125+R164+R220 -> 0.47507464 | T124: =T125+T164+T220 -> 0.2168947 | AT124: D | AU124: -1 | BK124: =BK125+BK164+BK220 -> 0
D125: D | E125: HSV | F125: Práce a dodávky HSV | J125: =BK125 -> 0 | P125: =P126+P132+P156 -> 17.603494 | R125: =R126+R132+R156 -> 0.20146964 | T125: =T126+T132+T156 -> 0.169396 | AR125: 1 | AT125: D | AU125: 0 | AY125: ROZPOCET | BK125: =BK126+BK132+BK156 -> 0
D126: D | E126: 6 | F126: Úpravy povrchov, podlahy, osadenie | J126: =BK126 -> 0 | P126: =SUM(P127:P131) -> 5.7518412 | R126: =SUM(R127:R131) -> 0.16856596 | T126: =SUM(T127:T131) -> 0 | AR126: 1 | AT126: D | AU126: 1 | AY126: ROZPOCET | BK126: =SUM(BK127:BK131) -> 0
C127: 1 | D127: K | E127: 612421231.S | F127: Oprava vnútorných vápenných omietok stien, opravovaná plocha nad 5 do 10 %,štuková | G127: m2 | H127: 42.349 | J127: =ROUND(I127*H127,2) -> 0 | N127: znížená | O127: 0.13582 | P127: =O127*H127 -> 5.7518412 | Q127: 0.0039804 | R127: =Q127*H127 -> 0.16856596 | S127: 0 | T127: =S127*H127 -> 0 | AR127: 4 | AT127: K | AU127: 2 | AY127: ROZPOCET | BE127: =IF(N127="základná",J127,0) -> 0 | BF127: =IF(N127="znížená",J127,0) -> 0 | BG127: =IF(N127="zákl. prenesená",J127,0) -> 0 | BH127: =IF(N127="zníž. prenesená",J127,0) -> 0 | BI127: =IF(N127="nulová",J127,0) -> 0 | BJ127: 2 | BK127: =ROUND(I127*H127,2) -> 0 | BL127: 4 | BM127: 2
D128: VV | F128: (5,25+3,475+5,25+3,475)*2,53 | H128: 44.1485 | AT128: VV | AU128: 2 | AV128: 2 | AW128: True | AX128: 0 | AY128: ROZPOCET
D129: VV | F129: odpočet dverí | AT129: VV | AU129: 2 | AV129: 1 | AW129: True | AX129: 0 | AY129: ROZPOCET
D130: VV | F130: -0,9*2 | H130: -1.8 | AT130: VV | AU130: 2 | AV130: 2 | AW130: True | AX130: 0 | AY130: ROZPOCET
D131: VV | F131: Súčet | H131: 42.3485 | AT131: VV | AU131: 2 | AV131: 4 | AW131: True | AX131: 1 | AY131: ROZPOCET
D132: D | E132: 9 | F132: Ostatné konštrukcie a práce-búranie | J132: =BK132 -> 0 | P132: =SUM(P133:P155) -> 11.03706 | R132: =SUM(R133:R155) -> 0.032903678 | T132: =SUM(T133:T155) -> 0.169396 | AR132: 1 | AT132: D | AU132: 1 | AY132: ROZPOCET | BK132: =SUM(BK133:BK155) -> 0
C133: 2 | D133: K | E133: 941955001.S | F133: Lešenie ľahké pracovné pomocné, s výškou lešeňovej podlahy do 1,20 m | G133: m2 | H133: 20.94 | J133: =ROUND(I133*H133,2) -> 0 | N133: znížená | O133: 0.09921 | P133: =O133*H133 -> 2.0774574 | Q133: 0.00152864 | R133: =Q133*H133 -> 0.032009722 | S133: 0 | T133: =S133*H133 -> 0 | AR133: 4 | AT133: K | AU133: 2 | AY133: ROZPOCET | BE133: =IF(N133="základná",J133,0) -> 0 | BF133: =IF(N133="znížená",J133,0) -> 0 | BG133: =IF(N133="zákl. prenesená",J133,0) -> 0 | BH133: =IF(N133="zníž. prenesená",J133,0) -> 0 | BI133: =IF(N133="nulová",J133,0) -> 0 | BJ133: 2 | BK133: =ROUND(I133*H133,2) -> 0 | BL133: 4 | BM133: 4
D134: VV | F134: Pre steny | AT134: VV | AU134: 2 | AV134: 1 | AW134: True | AX134: 0 | AY134: ROZPOCET
D135: VV | F135: (5,25+3,475+5,25+3,475)*1,2 | H135: 20.94 | AT135: VV | AU135: 2 | AV135: 2 | AW135: True | AX135: 0 | AY135: ROZPOCET
D136: VV | F136: Súčet | H136: 20.94 | AT136: VV | AU136: 2 | AV136: 4 | AW136: True | AX136: 1 | AY136: ROZPOCET
C137: 3 | D137: K | E137: 952901111.S | F137: Vyčistenie budov pri výške podlaží do 4 m | G137: m2 | H137: 18.244 | J137: =ROUND(I137*H137,2) -> 0 | N137: znížená | O137: 0.32401 | P137: =O137*H137 -> 5.9112384 | Q137: 4.9e-05 | R137: =Q137*H137 -> 0.000893956 | S137: 0 | T137: =S137*H137 -> 0 | AR137: 4 | AT137: K | AU137: 2 | AY137: ROZPOCET | BE137: =IF(N137="základná",J137,0) -> 0 | BF137: =IF(N137="znížená",J137,0) -> 0 | BG137: =IF(N137="zákl. prenesená",J137,0) -> 0 | BH137: =IF(N137="zníž. prenesená",J137,0) -> 0 | BI137: =IF(N137="nulová",J137,0) -> 0 | BJ137: 2 | BK137: =ROUND(I137*H137,2) -> 0 | BL137: 4 | BM137: 6
C138: 4 | D138: K | E138: 978013121.S | F138: Otlčenie omietok stien vnútorných vápenných alebo vápennocementových v rozsahu do 10 %, -0,00400t | G138: m2 | H138: 42.349 | J138: =ROUND(I138*H138,2) -> 0 | N138: znížená | O138: 0.02929 | P138: =O138*H138 -> 1.2404022 | Q138: 0 | R138: =Q138*H138 -> 0 | S138: 0.004 | T138: =S138*H138 -> 0.169396 | AR138: 4 | AT138: K | AU138: 2 | AY138: ROZPOCET | BE138: =IF(N138="základná",J138,0) -> 0 | BF138: =IF(N138="znížená",J138,0) -> 0 | BG138: =IF(N138="zákl. prenesená",J138,0) -> 0 | BH138: =IF(N138="zníž. prenesená",J138,0) -> 0 | BI138: =IF(N138="nulová",J138,0) -> 0 | BJ138: 2 | BK138: =ROUND(I138*H138,2) -> 0 | BL138: 4 | BM138: 8
D139: VV | F139: (5,25+3,475+5,25+3,475)*2,53 | H139: 44.1485 | AT139: VV | AU139: 2 | AV139: 2 | AW139: True | AX139: 0 | AY139: ROZPOCET
D140: VV | F140: odpočet dverí | AT140: VV | AU140: 2 | AV140: 1 | AW140: True | AX140: 0 | AY140: ROZPOCET
D141: VV | F141: -0,9*2 | H141: -1.8 | AT141: VV | AU141: 2 | AV141: 2 | AW141: True | AX141: 0 | AY141: ROZPOCET
D142: VV | F142: Súčet | H142: 42.3485 | AT142: VV | AU142: 2 | AV142: 4 | AW142: True | AX142: 1 | AY142: ROZPOCET
C143: 5 | D143: K | E143: 979011131.S | F143: Zvislá doprava sutiny po schodoch ručne do 3,5 m | G143: t | H143: 0.338 | J143: =ROUND(I143*H143,2) -> 0 | N143: znížená | O143: 1.972 | P143: =O143*H143 -> 0.666536 | Q143: 0 | R143: =Q143*H143 -> 0 | S143: 0 | T143: =S143*H143 -> 0 | AR143: 4 | AT143: K | AU143: 2 | AY143: ROZPOCET | BE143: =IF(N143="základná",J143,0) -> 0 | BF143: =IF(N143="znížená",J143,0) -> 0 | BG143: =IF(N143="zákl. prenesená",J143,0) -> 0 | BH143: =IF(N143="zníž. prenesená",J143,0) -> 0 | BI143: =IF(N143="nulová",J143,0) -> 0 | BJ143: 2 | BK143: =ROUND(I143*H143,2) -> 0 | BL143: 4 | BM143: 10
C144: 6 | D144: K | E144: 979011141.S | F144: Zvislá doprava sutiny po schodoch ručne, príplatok za každých ďalších 3,5 m | G144: t | H144: 0.676 | J144: =ROUND(I144*H144,2) -> 0 | N144: znížená | O144: 0.619 | P144: =O144*H144 -> 0.418444 | Q144: 0 | R144: =Q144*H144 -> 0 | S144: 0 | T144: =S144*H144 -> 0 | AR144: 4 | AT144: K | AU144: 2 | AY144: ROZPOCET | BE144: =IF(N144="základná",J144,0) -> 0 | BF144: =IF(N144="znížená",J144,0) -> 0 | BG144: =IF(N144="zákl. prenesená",J144,0) -> 0 | BH144: =IF(N144="zníž. prenesená",J144,0) -> 0 | BI144: =IF(N144="nulová",J144,0) -> 0 | BJ144: 2 | BK144: =ROUND(I144*H144,2) -> 0 | BL144: 4 | BM144: 12
D145: VV | F145: 0,338*2 "Prepočítané koeficientom množstva | H145: 0.676 | AT145: VV | AU145: 2 | AV145: 2 | AW145: True | AX145: 0 | AY145: ROZPOCET
D146: VV | F146: Súčet | H146: 0.676 | AT146: VV | AU146: 2 | AV146: 4 | AW146: True | AX146: 1 | AY146: ROZPOCET
C147: 7 | D147: K | E147: 979082111.S | F147: Vnútrostavenisková doprava sutiny a vybúraných hmôt do 10 m | G147: t | H147: 0.338 | J147: =ROUND(I147*H147,2) -> 0 | N147: znížená | O147: 0.89 | P147: =O147*H147 -> 0.30082 | Q147: 0 | R147: =Q147*H147 -> 0 | S147: 0 | T147: =S147*H147 -> 0 | AR147: 4 | AT147: K | AU147: 2 | AY147: ROZPOCET | BE147: =IF(N147="základná",J147,0) -> 0 | BF147: =IF(N147="znížená",J147,0) -> 0 | BG147: =IF(N147="zákl. prenesená",J147,0) -> 0 | BH147: =IF(N147="zníž. prenesená",J147,0) -> 0 | BI147: =IF(N147="nulová",J147,0) -> 0 | BJ147: 2 | BK147: =ROUND(I147*H147,2) -> 0 | BL147: 4 | BM147: 14
C148: 8 | D148: K | E148: 979082121.S | F148: Vnútrostavenisková doprava sutiny a vybúraných hmôt za každých ďalších 5 m | G148: t | H148: 1.69 | J148: =ROUND(I148*H148,2) -> 0 | N148: znížená | O148: 0.1 | P148: =O148*H148 -> 0.169 | Q148: 0 | R148: =Q148*H148 -> 0 | S148: 0 | T148: =S148*H148 -> 0 | AR148: 4 | AT148: K | AU148: 2 | AY148: ROZPOCET | BE148: =IF(N148="základná",J148,0) -> 0 | BF148: =IF(N148="znížená",J148,0) -> 0 | BG148: =IF(N148="zákl. prenesená",J148,0) -> 0 | BH148: =IF(N148="zníž. prenesená",J148,0) -> 0 | BI148: =IF(N148="nulová",J148,0) -> 0 | BJ148: 2 | BK148: =ROUND(I148*H148,2) -> 0 | BL148: 4 | BM148: 16
D149: VV | F149: 0,338*5 "Prepočítané koeficientom množstva | H149: 1.69 | AT149: VV | AU149: 2 | AV149: 2 | AW149: True | AX149: 0 | AY149: ROZPOCET
D150: VV | F150: Súčet | H150: 1.69 | AT150: VV | AU150: 2 | AV150: 4 | AW150: True | AX150: 1 | AY150: ROZPOCET
C151: 9 | D151: K | E151: 979087213.S | F151: Nakladanie na dopravné prostriedky pre vodorovnú dopravu vybúraných hmôt | G151: t | H151: 0.338 | J151: =ROUND(I151*H151,2) -> 0 | N151: znížená | O151: 0.749 | P151: =O151*H151 -> 0.253162 | Q151: 0 | R151: =Q151*H151 -> 0 | S151: 0 | T151: =S151*H151 -> 0 | AR151: 4 | AT151: K | AU151: 2 | AY151: ROZPOCET | BE151: =IF(N151="základná",J151,0) -> 0 | BF151: =IF(N151="znížená",J151,0) -> 0 | BG151: =IF(N151="zákl. prenesená",J151,0) -> 0 | BH151: =IF(N151="zníž. prenesená",J151,0) -> 0 | BI151: =IF(N151="nulová",J151,0) -> 0 | BJ151: 2 | BK151: =ROUND(I151*H151,2) -> 0 | BL151: 4 | BM151: 18
C152: 10 | D152: K | E152: 979089012.S | F152: Poplatok za skládku - betón, tehly, dlaždice, obkladačky a keramika (17 01), ostatné | G152: t | H152: 0.338 | J152: =ROUND(I152*H152,2) -> 0 | N152: znížená | O152: 0 | P152: =O152*H152 -> 0 | Q152: 0 | R152: =Q152*H152 -> 0 | S152: 0 | T152: =S152*H152 -> 0 | AR152: 4 | AT152: K | AU152: 2 | AY152: ROZPOCET | BE152: =IF(N152="základná",J152,0) -> 0 | BF152: =IF(N152="znížená",J152,0) -> 0 | BG152: =IF(N152="zákl. prenesená",J152,0) -> 0 | BH152: =IF(N152="zníž. prenesená",J152,0) -> 0 | BI152: =IF(N152="nulová",J152,0) -> 0 | BJ152: 2 | BK152: =ROUND(I152*H152,2) -> 0 | BL152: 4 | BM152: 20
C153: 11 | D153: K | E153: 979089712.S | F153: Prenájom kontajneru 5 m3 | G153: ks | H153: 1 | J153: =ROUND(I153*H153,2) -> 0 | N153: znížená | O153: 0 | P153: =O153*H153 -> 0 | Q153: 0 | R153: =Q153*H153 -> 0 | S153: 0 | T153: =S153*H153 -> 0 | AR153: 4 | AT153: K | AU153: 2 | AY153: ROZPOCET | BE153: =IF(N153="základná",J153,0) -> 0 | BF153: =IF(N153="znížená",J153,0) -> 0 | BG153: =IF(N153="zákl. prenesená",J153,0) -> 0 | BH153: =IF(N153="zníž. prenesená",J153,0) -> 0 | BI153: =IF(N153="nulová",J153,0) -> 0 | BJ153: 2 | BK153: =ROUND(I153*H153,2) -> 0 | BL153: 4 | BM153: 22
C154: 12 | D154: K | E154: MV | F154: Murárske výpomoci | G154: % | H154: 1300 | J154: =ROUND(I154*H154,2) -> 0 | N154: znížená | O154: 0 | P154: =O154*H154 -> 0 | Q154: 0 | R154: =Q154*H154 -> 0 | S154: 0 | T154: =S154*H154 -> 0 | AR154: 4 | AT154: K | AU154: 2 | AY154: ROZPOCET | BE154: =IF(N154="základná",J154,0) -> 0 | BF154: =IF(N154="znížená",J154,0) -> 0 | BG154: =IF(N154="zákl. prenesená",J154,0) -> 0 | BH154: =IF(N154="zníž. prenesená",J154,0) -> 0 | BI154: =IF(N154="nulová",J154,0) -> 0 | BJ154: 2 | BK154: =ROUND(I154*H154,2) -> 0 | BL154: 4 | BM154: 24
C155: 13 | D155: K | E155: PPV | F155: Podiel pridružených výkonov | G155: % | H155: 1300 | J155: =ROUND(I155*H155,2) -> 0 | N155: znížená | O155: 0 | P155: =O155*H155 -> 0 | Q155: 0 | R155: =Q155*H155 -> 0 | S155: 0 | T155: =S155*H155 -> 0 | AR155: 4 | AT155: K | AU155: 2 | AY155: ROZPOCET | BE155: =IF(N155="základná",J155,0) -> 0 | BF155: =IF(N155="znížená",J155,0) -> 0 | BG155: =IF(N155="zákl. prenesená",J155,0) -> 0 | BH155: =IF(N155="zníž. prenesená",J155,0) -> 0 | BI155: =IF(N155="nulová",J155,0) -> 0 | BJ155: 2 | BK155: =ROUND(I155*H155,2) -> 0 | BL155: 4 | BM155: 26
D156: D | E156: 99 | F156: Presun hmôt HSV | J156: =BK156 -> 0 | P156: =SUM(P157:P163) -> 0.8145928 | R156: =SUM(R157:R163) -> 0 | T156: =SUM(T157:T163) -> 0 | AR156: 1 | AT156: D | AU156: 1 | AY156: ROZPOCET | BK156: =SUM(BK157:BK163) -> 0
C157: 14 | D157: K | E157: 998009001.S | F157: Presun hmôt lešenia pre budovy s výškou do 3,5 m | G157: t | H157: 0.032 | J157: =ROUND(I157*H157,2) -> 0 | N157: znížená | O157: 1.9163 | P157: =O157*H157 -> 0.0613216 | Q157: 0 | R157: =Q157*H157 -> 0 | S157: 0 | T157: =S157*H157 -> 0 | AR157: 4 | AT157: K | AU157: 2 | AY157: ROZPOCET | BE157: =IF(N157="základná",J157,0) -> 0 | BF157: =IF(N157="znížená",J157,0) -> 0 | BG157: =IF(N157="zákl. prenesená",J157,0) -> 0 | BH157: =IF(N157="zníž. prenesená",J157,0) -> 0 | BI157: =IF(N157="nulová",J157,0) -> 0 | BJ157: 2 | BK157: =ROUND(I157*H157,2) -> 0 | BL157: 4 | BM157: 28
C158: 15 | D158: K | E158: 998009009.S | F158: Príplatok za presun hmôt lešenia pre budovy s výškou do 3,5 m, za k.ď. začatých 3,5 m | G158: t | H158: 0.064 | J158: =ROUND(I158*H158,2) -> 0 | N158: znížená | O158: 0.0698 | P158: =O158*H158 -> 0.0044672 | Q158: 0 | R158: =Q158*H158 -> 0 | S158: 0 | T158: =S158*H158 -> 0 | AR158: 4 | AT158: K | AU158: 2 | AY158: ROZPOCET | BE158: =IF(N158="základná",J158,0) -> 0 | BF158: =IF(N158="znížená",J158,0) -> 0 | BG158: =IF(N158="zákl. prenesená",J158,0) -> 0 | BH158: =IF(N158="zníž. prenesená",J158,0) -> 0 | BI158: =IF(N158="nulová",J158,0) -> 0 | BJ158: 2 | BK158: =ROUND(I158*H158,2) -> 0 | BL158: 4 | BM158: 30
D159: VV | F159: 0,032*2 "Prepočítané koeficientom množstva | H159: 0.064 | AT159: VV | AU159: 2 | AV159: 2 | AW159: True | AX159: 0 | AY159: ROZPOCET
D160: VV | F160: Súčet | H160: 0.064 | AT160: VV | AU160: 2 | AV160: 4 | AW160: True | AX160: 1 | AY160: ROZPOCET
C161: 16 | D161: K | E161: 998011002.S | F161: Presun hmôt pre budovy (801, 803, 812), zvislá konštr. z tehál, tvárnic, z kovu výšky do 12 m | G161: t | H161: 2.276 | J161: =ROUND(I161*H161,2) -> 0 | N161: znížená | O161: 0.329 | P161: =O161*H161 -> 0.748804 | Q161: 0 | R161: =Q161*H161 -> 0 | S161: 0 | T161: =S161*H161 -> 0 | AR161: 4 | AT161: K | AU161: 2 | AY161: ROZPOCET | BE161: =IF(N161="základná",J161,0) -> 0 | BF161: =IF(N161="znížená",J161,0) -> 0 | BG161: =IF(N161="zákl. prenesená",J161,0) -> 0 | BH161: =IF(N161="zníž. prenesená",J161,0) -> 0 | BI161: =IF(N161="nulová",J161,0) -> 0 | BJ161: 2 | BK161: =ROUND(I161*H161,2) -> 0 | BL161: 4 | BM161: 32
D162: VV | F162: 2,308-0,032 | H162: 2.276 | AT162: VV | AU162: 2 | AV162: 2 | AW162: True | AX162: 0 | AY162: ROZPOCET
D163: VV | F163: Súčet | H163: 2.276 | AT163: VV | AU163: 2 | AV163: 4 | AW163: True | AX163: 1 | AY163: ROZPOCET
D164: D | E164: PSV | F164: Práce a dodávky PSV | J164: =BK164 -> 0 | P164: =P165+P191 -> 50.67173 | R164: =R165+R191 -> 0.273605 | T164: =T165+T191 -> 0.0474987 | AR164: 2 | AT164: D | AU164: 0 | AY164: ROZPOCET | BK164: =BK165+BK191 -> 0
D165: D | E165: 776 | F165: Podlahy povlakové | J165: =BK165 -> 0 | P165: =SUM(P166:P190) -> 40.403346 | R165: =SUM(R166:R190) -> 0.24973007 | T165: =SUM(T166:T190) -> 0.034794 | AR165: 2 | AT165: D | AU165: 1 | AY165: ROZPOCET | BK165: =SUM(BK166:BK190) -> 0
C166: 17 | D166: K | E166: 776401800.S | F166: Demontáž soklíkov alebo líšt | G166: m | H166: 16.55 | J166: =ROUND(I166*H166,2) -> 0 | N166: znížená | O166: 0.095 | P166: =O166*H166 -> 1.57225 | Q166: 0 | R166: =Q166*H166 -> 0 | S166: 0.001 | T166: =S166*H166 -> 0.01655 | AR166: 16 | AT166: K | AU166: 2 | AY166: ROZPOCET | BE166: =IF(N166="základná",J166,0) -> 0 | BF166: =IF(N166="znížená",J166,0) -> 0 | BG166: =IF(N166="zákl. prenesená",J166,0) -> 0 | BH166: =IF(N166="zníž. prenesená",J166,0) -> 0 | BI166: =IF(N166="nulová",J166,0) -> 0 | BJ166: 2 | BK166: =ROUND(I166*H166,2) -> 0 | BL166: 16 | BM166: 34
...

Sheet 09 - 2.05 WC
L2: >> skryté stĺpce << | AT2: {39e0cc89-dec2-479f-9acc-d0f58f33d7cf}
AT3: 1
D4: KRYCÍ LIST ROZPOČTU | M4: v --- nižšie sa nachádzajú doplnkové a pomocné údaje k zostavám --- v | AT4: False
D6: Stavba:
E7: ='Rekapitulácia stavby'!K6 -> MHTH_Teplárenská - Rekonštrukcia miestnosti v budove SP 12 na +4,200
D8: Objekt:
E9: 09 - 2.05 WC
D11: JKSO: | I11: ČS:
D12: Miesto: | I12: Dátum: | J12: ='Rekapitulácia stavby'!AN8 -> 16. 9. 2026
D14: Objednávateľ: | I14: IČO: | J14: =IF('Rekapitulácia stavby'!AN10="","",'Rekapitulácia stavby'!AN10)
E15: =IF('Rekapitulácia stavby'!E11="","",'Rekapitulácia stavby'!E11) | I15: IČ DPH: | J15: =IF('Rekapitulácia stavby'!AN11="","",'Rekapitulácia stavby'!AN11)
D17: Zhotoviteľ: | I17: IČO: | J17: ='Rekapitulácia stavby'!AN13
E18: ='Rekapitulácia stavby'!E14 | I18: IČ DPH: | J18: ='Rekapitulácia stavby'!AN14
D20: Projektant: | I20: IČO: | J20: =IF('Rekapitulácia stavby'!AN16="","",'Rekapitulácia stavby'!AN16)
E21: =IF('Rekapitulácia stavby'!E17="","",'Rekapitulácia stavby'!E17) | I21: IČ DPH: | J21: =IF('Rekapitulácia stavby'!AN17="","",'Rekapitulácia stavby'!AN17)
D23: Spracovateľ: | I23: IČO: | J23: =IF('Rekapitulácia stavby'!AN19="","",'Rekapitulácia stavby'!AN19)
E24: =IF('Rekapitulácia stavby'!E20="","",'Rekapitulácia stavby'!E20) | I24: IČ DPH: | J24: =IF('Rekapitulácia stavby'!AN20="","",'Rekapitulácia stavby'!AN20)
D26: Poznámka:
D30: Cena bez DPH | J30: =ROUND(J123, 2) -> 0
F32: Základ dane | I32: Sadzba dane | J32: Výška dane
D33: DPH | E33: základná | F33: =ROUND((SUM(BE123:BE195)), 2) -> 0 | I33: 0.23 | J33: =ROUND(((SUM(BE123:BE195))*I33), 2) -> 0
E34: znížená | F34: =ROUND((SUM(BF123:BF195)), 2) -> 0 | I34: 0.23 | J34: =ROUND(((SUM(BF123:BF195))*I34), 2) -> 0
E35: zákl. prenesená | F35: =ROUND((SUM(BG123:BG195)), 2) -> 0 | I35: 0.23 | J35: =0 -> 0
E36: zníž. prenesená | F36: =ROUND((SUM(BH123:BH195)), 2) -> 0 | I36: 0.23 | J36: =0 -> 0
E37: nulová | F37: =ROUND((SUM(BI123:BI195)), 2) -> 0 | I37: 0 | J37: =0 -> 0
D39: Cena s DPH | G39: v | H39: EUR | J39: =SUM(J30:J37) -> 0
D50: Projektant | G50: Spracovateľ
D61: Dátum a podpis: | F61: Pečiatka | G61: Dátum a podpis: | J61: Pečiatka
D65: Objednávateľ | G65: Zhotoviteľ
D76: Dátum a podpis: | F76: Pečiatka | G76: Dátum a podpis: | J76: Pečiatka
C82: REKAPITULÁCIA ROZPOČTU
C84: Stavba:
E85: =E7 -> MHTH_Teplárenská - Rekonštrukcia miestnosti v budove SP 12 na +4,200
C86: Objekt:
E87: =E9 -> 09 - 2.05 WC
C89: Miesto: | F89: =F12 | I89: Dátum: | J89: =IF(J12="","",J12) -> 16. 9. 2026
C91: Objednávateľ: | F91: =E15 | I91: Projektant: | J91: =E21
C92: Zhotoviteľ: | F92: =IF(E18="","",E18) | I92: Spracovateľ: | J92: =E24
C94: Kód dielu - Popis | J94: Cena celkom [EUR]
C96: Náklady z rozpočtu | J96: =J123 -> 0 | AU96: -1
D97: HSV - Práce a dodávky HSV | J97: =J124 -> 0
D98: 6 - Úpravy povrchov, podlahy, osadenie | J98: =J125 -> 0
D99: 9 - Ostatné konštrukcie a práce-búranie | J99: =J130 -> 0
D100: 99 - Presun hmôt HSV | J100: =J154 -> 0
D101: PSV - Práce a dodávky PSV | J101: =J162 -> 0
D102: 784 - Maľby | J102: =J163 -> 0
D103: HZS - Hodinové zúčtovacie sadzby | J103: =J194 -> 0
C110: ROZPOČET
C112: Stavba:
E113: =E7 -> MHTH_Teplárenská - Rekonštrukcia miestnosti v budove SP 12 na +4,200
C114: Objekt:
E115: =E9 -> 09 - 2.05 WC
C117: Miesto: | F117: =F12 | I117: Dátum: | J117: =IF(J12="","",J12) -> 16. 9. 2026
C119: Objednávateľ: | F119: =E15 | I119: Projektant: | J119: =E21
C120: Zhotoviteľ: | F120: =IF(E18="","",E18) | I120: Spracovateľ: | J120: =E24
C122: PČ | D122: Typ | E122: Kód | F122: Popis | G122: MJ | H122: Množstvo | I122: J.cena [EUR] | J122: Cena celkom [EUR] | K122: Cenová sústava | N122: DPH | O122: J. Nh [h] | P122: Nh celkom [h] | Q122: J. hmotnosť [t] | R122: Hmotnosť celkom [t] | S122: J. suť [t] | T122: Suť Celkom [t]
C123: Náklady z rozpočtu | J123: =BK123 -> 0 | P123: =P124+P162+P194 -> 22.266456 | R123: =R124+R162+R194 -> 0.10020374 | T123: =T124+T162+T194 -> 0.0495575 | AT123: D | AU123: -1 | BK123: =BK124+BK162+BK194 -> 0
D124: D | E124: HSV | F124: Práce a dodávky HSV | J124: =BK124 -> 0 | P124: =P125+P130+P154 -> 9.2315238 | R124: =R125+R130+R154 -> 0.088649379 | T124: =T125+T130+T154 -> 0.0461 | AR124: 1 | AT124: D | AU124: 0 | AY124: ROZPOCET | BK124: =BK125+BK130+BK154 -> 0
D125: D | E125: 6 | F125: Úpravy povrchov, podlahy, osadenie | J125: =BK125 -> 0 | P125: =SUM(P126:P129) -> 1.5653255 | R125: =SUM(R126:R129) -> 0.04587411 | T125: =SUM(T126:T129) -> 0 | AR125: 1 | AT125: D | AU125: 1 | AY125: ROZPOCET | BK125: =SUM(BK126:BK129) -> 0
C126: 1 | D126: K | E126: 612421231.S | F126: Oprava vnútorných vápenných omietok stien, opravovaná plocha nad 5 do 10 %,štuková | G126: m2 | H126: 11.525 | J126: =ROUND(I126*H126,2) -> 0 | N126: znížená | O126: 0.13582 | P126: =O126*H126 -> 1.5653255 | Q126: 0.0039804 | R126: =Q126*H126 -> 0.04587411 | S126: 0 | T126: =S126*H126 -> 0 | AR126: 4 | AT126: K | AU126: 2 | AY126: ROZPOCET | BE126: =IF(N126="základná",J126,0) -> 0 | BF126: =IF(N126="znížená",J126,0) -> 0 | BG126: =IF(N126="zákl. prenesená",J126,0) -> 0 | BH126: =IF(N126="zníž. prenesená",J126,0) -> 0 | BI126: =IF(N126="nulová",J126,0) -> 0 | BJ126: 2 | BK126: =ROUND(I126*H126,2) -> 0 | BL126: 4 | BM126: 2
D127: VV | F127: (1,875+0,125+1,5+2,875+1,875+0,125+1,5+2,875)*0,5 "steny v predsieni a pri pisoároch | H127: 6.375 | AT127: VV | AU127: 2 | AV127: 2 | AW127: True | AX127: 0 | AY127: ROZPOCET
D128: VV | F128: (1,675+0,9+1,675+0,9)*0,5*2 "steny v dvoch WC kabínkach | H128: 5.15 | AT128: VV | AU128: 2 | AV128: 2 | AW128: True | AX128: 0 | AY128: ROZPOCET
D129: VV | F129: Súčet | H129: 11.525 | AT129: VV | AU129: 2 | AV129: 4 | AW129: True | AX129: 1 | AY129: ROZPOCET
D130: D | E130: 9 | F130: Ostatné konštrukcie a práce-búranie | J130: =BK130 -> 0 | P130: =SUM(P131:P153) -> 6.8343365 | R130: =SUM(R131:R153) -> 0.042775269 | T130: =SUM(T131:T153) -> 0.0461 | AR130: 1 | AT130: D | AU130: 1 | AY130: ROZPOCET | BK130: =SUM(BK131:BK153) -> 0
C131: 2 | D131: K | E131: 941955001.S | F131: Lešenie ľahké pracovné pomocné, s výškou lešeňovej podlahy do 1,20 m | G131: m2 | H131: 27.66 | J131: =ROUND(I131*H131,2) -> 0 | N131: znížená | O131: 0.09921 | P131: =O131*H131 -> 2.7441486 | Q131: 0.00152864 | R131: =Q131*H131 -> 0.042282182 | S131: 0 | T131: =S131*H131 -> 0 | AR131: 4 | AT131: K | AU131: 2 | AY131: ROZPOCET | BE131: =IF(N131="základná",J131,0) -> 0 | BF131: =IF(N131="znížená",J131,0) -> 0 | BG131: =IF(N131="zákl. prenesená",J131,0) -> 0 | BH131: =IF(N131="zníž. prenesená",J131,0) -> 0 | BI131: =IF(N131="nulová",J131,0) -> 0 | BJ131: 2 | BK131: =ROUND(I131*H131,2) -> 0 | BL131: 4 | BM131: 4
D132: VV | F132: Pre steny | AT132: VV | AU132: 2 | AV132: 1 | AW132: True | AX132: 0 | AY132: ROZPOCET
D133: VV | F133: (1,875+0,125+1,5+2,875+1,875+0,125+1,5+2,875)*1,2 "steny v predsieni a pri pisoároch | H133: 15.3 | AT133: VV | AU133: 2 | AV133: 2 | AW133: True | AX133: 0 | AY133: ROZPOCET
D134: VV | F134: (1,675+0,9+1,675+0,9)*1,2*2 "steny v dvoch WC kabínkach | H134: 12.36 | AT134: VV | AU134: 2 | AV134: 2 | AW134: True | AX134: 0 | AY134: ROZPOCET
D135: VV | F135: Súčet | H135: 27.66 | AT135: VV | AU135: 2 | AV135: 4 | AW135: True | AX135: 1 | AY135: ROZPOCET
C136: 3 | D136: K | E136: 952901111.S | F136: Vyčistenie budov pri výške podlaží do 4 m | G136: m2 | H136: 10.063 | J136: =ROUND(I136*H136,2) -> 0 | N136: znížená | O136: 0.32401 | P136: =O136*H136 -> 3.2605126 | Q136: 4.9e-05 | R136: =Q136*H136 -> 0.000493087 | S136: 0 | T136: =S136*H136 -> 0 | AR136: 4 | AT136: K | AU136: 2 | AY136: ROZPOCET | BE136: =IF(N136="základná",J136,0) -> 0 | BF136: =IF(N136="znížená",J136,0) -> 0 | BG136: =IF(N136="zákl. prenesená",J136,0) -> 0 | BH136: =IF(N136="zníž. prenesená",J136,0) -> 0 | BI136: =IF(N136="nulová",J136,0) -> 0 | BJ136: 2 | BK136: =ROUND(I136*H136,2) -> 0 | BL136: 4 | BM136: 6
C137: 4 | D137: K | E137: 978013121.S | F137: Otlčenie omietok stien vnútorných vápenných alebo vápennocementových v rozsahu do 10 %, -0,00400t | G137: m2 | H137: 11.525 | J137: =ROUND(I137*H137,2) -> 0 | N137: znížená | O137: 0.02929 | P137: =O137*H137 -> 0.33756725 | Q137: 0 | R137: =Q137*H137 -> 0 | S137: 0.004 | T137: =S137*H137 -> 0.0461 | AR137: 4 | AT137: K | AU137: 2 | AY137: ROZPOCET | BE137: =IF(N137="základná",J137,0) -> 0 | BF137: =IF(N137="znížená",J137,0) -> 0 | BG137: =IF(N137="zákl. prenesená",J137,0) -> 0 | BH137: =IF(N137="zníž. prenesená",J137,0) -> 0 | BI137: =IF(N137="nulová",J137,0) -> 0 | BJ137: 2 | BK137: =ROUND(I137*H137,2) -> 0 | BL137: 4 | BM137: 8
D138: VV | F138: (1,875+0,125+1,5+2,875+1,875+0,125+1,5+2,875)*0,5 "steny | H138: 6.375 | AT138: VV | AU138: 2 | AV138: 2 | AW138: True | AX138: 0 | AY138: ROZPOCET
D139: VV | F139: (1,675+0,9+1,675+0,9)*0,5*2 "steny v dvoch WC kabínkach | H139: 5.15 | AT139: VV | AU139: 2 | AV139: 2 | AW139: True | AX139: 0 | AY139: ROZPOCET
D140: VV | F140: Súčet | H140: 11.525 | AT140: VV | AU140: 2 | AV140: 4 | AW140: True | AX140: 1 | AY140: ROZPOCET
C141: 5 | D141: K | E141: 979011131.S | F141: Zvislá doprava sutiny po schodoch ručne do 3,5 m | G141: t | H141: 0.092 | J141: =ROUND(I141*H141,2) -> 0 | N141: znížená | O141: 1.972 | P141: =O141*H141 -> 0.181424 | Q141: 0 | R141: =Q141*H141 -> 0 | S141: 0 | T141: =S141*H141 -> 0 | AR141: 4 | AT141: K | AU141: 2 | AY141: ROZPOCET | BE141: =IF(N141="základná",J141,0) -> 0 | BF141: =IF(N141="znížená",J141,0) -> 0 | BG141: =IF(N141="zákl. prenesená",J141,0) -> 0 | BH141: =IF(N141="zníž. prenesená",J141,0) -> 0 | BI141: =IF(N141="nulová",J141,0) -> 0 | BJ141: 2 | BK141: =ROUND(I141*H141,2) -> 0 | BL141: 4 | BM141: 10
C142: 6 | D142: K | E142: 979011141.S | F142: Zvislá doprava sutiny po schodoch ručne, príplatok za každých ďalších 3,5 m | G142: t | H142: 0.184 | J142: =ROUND(I142*H142,2) -> 0 | N142: znížená | O142: 0.619 | P142: =O142*H142 -> 0.113896 | Q142: 0 | R142: =Q142*H142 -> 0 | S142: 0 | T142: =S142*H142 -> 0 | AR142: 4 | AT142: K | AU142: 2 | AY142: ROZPOCET | BE142: =IF(N142="základná",J142,0) -> 0 | BF142: =IF(N142="znížená",J142,0) -> 0 | BG142: =IF(N142="zákl. prenesená",J142,0) -> 0 | BH142: =IF(N142="zníž. prenesená",J142,0) -> 0 | BI142: =IF(N142="nulová",J142,0) -> 0 | BJ142: 2 | BK142: =ROUND(I142*H142,2) -> 0 | BL142: 4 | BM142: 12
D143: VV | F143: 0,092*2 "Prepočítané koeficientom množstva | H143: 0.184 | AT143: VV | AU143: 2 | AV143: 2 | AW143: True | AX143: 0 | AY143: ROZPOCET
D144: VV | F144: Súčet | H144: 0.184 | AT144: VV | AU144: 2 | AV144: 4 | AW144: True | AX144: 1 | AY144: ROZPOCET
C145: 7 | D145: K | E145: 979082111.S | F145: Vnútrostavenisková doprava sutiny a vybúraných hmôt do 10 m | G145: t | H145: 0.092 | J145: =ROUND(I145*H145,2) -> 0 | N145: znížená | O145: 0.89 | P145: =O145*H145 -> 0.08188 | Q145: 0 | R145: =Q145*H145 -> 0 | S145: 0 | T145: =S145*H145 -> 0 | AR145: 4 | AT145: K | AU145: 2 | AY145: ROZPOCET | BE145: =IF(N145="základná",J145,0) -> 0 | BF145: =IF(N145="znížená",J145,0) -> 0 | BG145: =IF(N145="zákl. prenesená",J145,0) -> 0 | BH145: =IF(N145="zníž. prenesená",J145,0) -> 0 | BI145: =IF(N145="nulová",J145,0) -> 0 | BJ145: 2 | BK145: =ROUND(I145*H145,2) -> 0 | BL145: 4 | BM145: 14
C146: 8 | D146: K | E146: 979082121.S | F146: Vnútrostavenisková doprava sutiny a vybúraných hmôt za každých ďalších 5 m | G146: t | H146: 0.46 | J146: =ROUND(I146*H146,2) -> 0 | N146: znížená | O146: 0.1 | P146: =O146*H146 -> 0.046 | Q146: 0 | R146: =Q146*H146 -> 0 | S146: 0 | T146: =S146*H146 -> 0 | AR146: 4 | AT146: K | AU146: 2 | AY146: ROZPOCET | BE146: =IF(N146="základná",J146,0) -> 0 | BF146: =IF(N146="znížená",J146,0) -> 0 | BG146: =IF(N146="zákl. prenesená",J146,0) -> 0 | BH146: =IF(N146="zníž. prenesená",J146,0) -> 0 | BI146: =IF(N146="nulová",J146,0) -> 0 | BJ146: 2 | BK146: =ROUND(I146*H146,2) -> 0 | BL146: 4 | BM146: 16
D147: VV | F147: 0,092*5 "Prepočítané koeficientom množstva | H147: 0.46 | AT147: VV | AU147: 2 | AV147: 2 | AW147: True | AX147: 0 | AY147: ROZPOCET
D148: VV | F148: Súčet | H148: 0.46 | AT148: VV | AU148: 2 | AV148: 4 | AW148: True | AX148: 1 | AY148: ROZPOCET
C149: 9 | D149: K | E149: 979087213.S | F149: Nakladanie na dopravné prostriedky pre vodorovnú dopravu vybúraných hmôt | G149: t | H149: 0.092 | J149: =ROUND(I149*H149,2) -> 0 | N149: znížená | O149: 0.749 | P149: =O149*H149 -> 0.068908 | Q149: 0 | R149: =Q149*H149 -> 0 | S149: 0 | T149: =S149*H149 -> 0 | AR149: 4 | AT149: K | AU149: 2 | AY149: ROZPOCET | BE149: =IF(N149="základná",J149,0) -> 0 | BF149: =IF(N149="znížená",J149,0) -> 0 | BG149: =IF(N149="zákl. prenesená",J149,0) -> 0 | BH149: =IF(N149="zníž. prenesená",J149,0) -> 0 | BI149: =IF(N149="nulová",J149,0) -> 0 | BJ149: 2 | BK149: =ROUND(I149*H149,2) -> 0 | BL149: 4 | BM149: 18
C150: 10 | D150: K | E150: 979089012.S | F150: Poplatok za skládku - betón, tehly, dlaždice, obkladačky a keramika (17 01), ostatné | G150: t | H150: 0.092 | J150: =ROUND(I150*H150,2) -> 0 | N150: znížená | O150: 0 | P150: =O150*H150 -> 0 | Q150: 0 | R150: =Q150*H150 -> 0 | S150: 0 | T150: =S150*H150 -> 0 | AR150: 4 | AT150: K | AU150: 2 | AY150: ROZPOCET | BE150: =IF(N150="základná",J150,0) -> 0 | BF150: =IF(N150="znížená",J150,0) -> 0 | BG150: =IF(N150="zákl. prenesená",J150,0) -> 0 | BH150: =IF(N150="zníž. prenesená",J150,0) -> 0 | BI150: =IF(N150="nulová",J150,0) -> 0 | BJ150: 2 | BK150: =ROUND(I150*H150,2) -> 0 | BL150: 4 | BM150: 20
C151: 11 | D151: K | E151: 979089712.S | F151: Prenájom kontajneru 5 m3 | G151: ks | H151: 1 | J151: =ROUND(I151*H151,2) -> 0 | N151: znížená | O151: 0 | P151: =O151*H151 -> 0 | Q151: 0 | R151: =Q151*H151 -> 0 | S151: 0 | T151: =S151*H151 -> 0 | AR151: 4 | AT151: K | AU151: 2 | AY151: ROZPOCET | BE151: =IF(N151="základná",J151,0) -> 0 | BF151: =IF(N151="znížená",J151,0) -> 0 | BG151: =IF(N151="zákl. prenesená",J151,0) -> 0 | BH151: =IF(N151="zníž. prenesená",J151,0) -> 0 | BI151: =IF(N151="nulová",J151,0) -> 0 | BJ151: 2 | BK151: =ROUND(I151*H151,2) -> 0 | BL151: 4 | BM151: 22
C152: 12 | D152: K | E152: MV | F152: Murárske výpomoci | G152: % | H152: 800 | J152: =ROUND(I152*H152,2) -> 0 | N152: znížená | O152: 0 | P152: =O152*H152 -> 0 | Q152: 0 | R152: =Q152*H152 -> 0 | S152: 0 | T152: =S152*H152 -> 0 | AR152: 4 | AT152: K | AU152: 2 | AY152: ROZPOCET | BE152: =IF(N152="základná",J152,0) -> 0 | BF152: =IF(N152="znížená",J152,0) -> 0 | BG152: =IF(N152="zákl. prenesená",J152,0) -> 0 | BH152: =IF(N152="zníž. prenesená",J152,0) -> 0 | BI152: =IF(N152="nulová",J152,0) -> 0 | BJ152: 2 | BK152: =ROUND(I152*H152,2) -> 0 | BL152: 4 | BM152: 24
C153: 13 | D153: K | E153: PPV | F153: Podiel pridružených výkonov | G153: % | H153: 800 | J153: =ROUND(I153*H153,2) -> 0 | N153: znížená | O153: 0 | P153: =O153*H153 -> 0 | Q153: 0 | R153: =Q153*H153 -> 0 | S153: 0 | T153: =S153*H153 -> 0 | AR153: 4 | AT153: K | AU153: 2 | AY153: ROZPOCET | BE153: =IF(N153="základná",J153,0) -> 0 | BF153: =IF(N153="znížená",J153,0) -> 0 | BG153: =IF(N153="zákl. prenesená",J153,0) -> 0 | BH153: =IF(N153="zníž. prenesená",J153,0) -> 0 | BI153: =IF(N153="nulová",J153,0) -> 0 | BJ153: 2 | BK153: =ROUND(I153*H153,2) -> 0 | BL153: 4 | BM153: 26
D154: D | E154: 99 | F154: Presun hmôt HSV | J154: =BK154 -> 0 | P154: =SUM(P155:P161) -> 0.8318618 | R154: =SUM(R155:R161) -> 0 | T154: =SUM(T155:T161) -> 0 | AR154: 1 | AT154: D | AU154: 1 | AY154: ROZPOCET | BK154: =SUM(BK155:BK161) -> 0
C155: 14 | D155: K | E155: 998009001.S | F155: Presun hmôt lešenia pre budovy s výškou do 3,5 m | G155: t | H155: 0.042 | J155: =ROUND(I155*H155,2) -> 0 | N155: znížená | O155: 1.9163 | P155: =O155*H155 -> 0.0804846 | Q155: 0 | R155: =Q155*H155 -> 0 | S155: 0 | T155: =S155*H155 -> 0 | AR155: 4 | AT155: K | AU155: 2 | AY155: ROZPOCET | BE155: =IF(N155="základná",J155,0) -> 0 | BF155: =IF(N155="znížená",J155,0) -> 0 | BG155: =IF(N155="zákl. prenesená",J155,0) -> 0 | BH155: =IF(N155="zníž. prenesená",J155,0) -> 0 | BI155: =IF(N155="nulová",J155,0) -> 0 | BJ155: 2 | BK155: =ROUND(I155*H155,2) -> 0 | BL155: 4 | BM155: 28
C156: 15 | D156: K | E156: 998009009.S | F156: Príplatok za presun hmôt lešenia pre budovy s výškou do 3,5 m, za k.ď. začatých 3,5 m | G156: t | H156: 0.084 | J156: =ROUND(I156*H156,2) -> 0 | N156: znížená | O156: 0.0698 | P156: =O156*H156 -> 0.0058632 | Q156: 0 | R156: =Q156*H156 -> 0 | S156: 0 | T156: =S156*H156 -> 0 | AR156: 4 | AT156: K | AU156: 2 | AY156: ROZPOCET | BE156: =IF(N156="základná",J156,0) -> 0 | BF156: =IF(N156="znížená",J156,0) -> 0 | BG156: =IF(N156="zákl. prenesená",J156,0) -> 0 | BH156: =IF(N156="zníž. prenesená",J156,0) -> 0 | BI156: =IF(N156="nulová",J156,0) -> 0 | BJ156: 2 | BK156: =ROUND(I156*H156,2) -> 0 | BL156: 4 | BM156: 30
D157: VV | F157: 0,042*2 "Prepočítané koeficientom množstva | H157: 0.084 | AT157: VV | AU157: 2 | AV157: 2 | AW157: True | AX157: 0 | AY157: ROZPOCET
D158: VV | F158: Súčet | H158: 0.084 | AT158: VV | AU158: 2 | AV158: 4 | AW158: True | AX158: 1 | AY158: ROZPOCET
C159: 16 | D159: K | E159: 998011002.S | F159: Presun hmôt pre budovy (801, 803, 812), zvislá konštr. z tehál, tvárnic, z kovu výšky do 12 m | G159: t | H159: 2.266 | J159: =ROUND(I159*H159,2) -> 0 | N159: znížená | O159: 0.329 | P159: =O159*H159 -> 0.745514 | Q159: 0 | R159: =Q159*H159 -> 0 | S159: 0 | T159: =S159*H159 -> 0 | AR159: 4 | AT159: K | AU159: 2 | AY159: ROZPOCET | BE159: =IF(N159="základná",J159,0) -> 0 | BF159: =IF(N159="znížená",J159,0) -> 0 | BG159: =IF(N159="zákl. prenesená",J159,0) -> 0 | BH159: =IF(N159="zníž. prenesená",J159,0) -> 0 | BI159: =IF(N159="nulová",J159,0) -> 0 | BJ159: 2 | BK159: =ROUND(I159*H159,2) -> 0 | BL159: 4 | BM159: 32
D160: VV | F160: 2,308-0,042 | H160: 2.266 | AT160: VV | AU160: 2 | AV160: 2 | AW160: True | AX160: 0 | AY160: ROZPOCET
D161: VV | F161: Súčet | H161: 2.266 | AT161: VV | AU161: 2 | AV161: 4 | AW161: True | AX161: 1 | AY161: ROZPOCET
D162: D | E162: PSV | F162: Práce a dodávky PSV | J162: =BK162 -> 0 | P162: =P163 -> 4.5549318 | R162: =R163 -> 0.011554364 | T162: =T163 -> 0.0034575 | AR162: 2 | AT162: D | AU162: 0 | AY162: ROZPOCET | BK162: =BK163 -> 0
D163: D | E163: 784 | F163: Maľby | J163: =BK163 -> 0 | P163: =SUM(P164:P193) -> 4.5549318 | R163: =SUM(R164:R193) -> 0.011554364 | T163: =SUM(T164:T193) -> 0.0034575 | AR163: 2 | AT163: D | AU163: 1 | AY163: ROZPOCET | BK163: =SUM(BK164:BK193) -> 0
C164: 17 | D164: K | E164: 784402801.S | F164: Odstránenie malieb oškrabaním, výšky do 3,80 m, -0,0003 t | G164: m2 | H164: 11.525 | J164: =ROUND(I164*H164,2) -> 0 | N164: znížená | O164: 0.058 | P164: =O164*H164 -> 0.66845 | Q164: 3.48e-06 | R164: =Q164*H164 -> 4.0107e-05 | S164: 0.0003 | T164: =S164*H164 -> 0.0034575 | AR164: 16 | AT164: K | AU164: 2 | AY164: ROZPOCET | BE164: =IF(N164="základná",J164,0) -> 0 | BF164: =IF(N164="znížená",J164,0) -> 0 | BG164: =IF(N164="zákl. prenesená",J164,0) -> 0 | BH164: =IF(N164="zníž. prenesená",J164,0) -> 0 | BI164: =IF(N164="nulová",J164,0) -> 0 | BJ164: 2 | BK164: =ROUND(I164*H164,2) -> 0 | BL164: 16 | BM164: 34
D165: VV | F165: (1,875+0,125+1,5+2,875+1,875+0,125+1,5+2,875)*0,5 "steny v predsieni a pri pisoároch | H165: 6.375 | AT165: VV | AU165: 2 | AV165: 2 | AW165: True | AX165: 0 | AY165: ROZPOCET
D166: VV | F166: (1,675+0,9+1,675+0,9)*0,5*2 "steny v dvoch WC kabínkach | H166: 5.15 | AT166: VV | AU166: 2 | AV166: 2 | AW166: True | AX166: 0 | AY166: ROZPOCET
...

Sheet 10 - 2.25 Sklad-Kuchynka
L2: >> skryté stĺpce << | AT2: {a41477ab-b5e0-4c44-8d33-22f03ef2dddc}
AT3: 1
D4: KRYCÍ LIST ROZPOČTU | M4: v --- nižšie sa nachádzajú doplnkové a pomocné údaje k zostavám --- v | AT4: False
D6: Stavba:
E7: ='Rekapitulácia stavby'!K6 -> MHTH_Teplárenská - Rekonštrukcia miestnosti v budove SP 12 na +4,200
D8: Objekt:
E9: 10 - 2.25 Sklad-Kuchynka
D11: JKSO: | I11: ČS:
D12: Miesto: | I12: Dátum: | J12: ='Rekapitulácia stavby'!AN8 -> 16. 9. 2026
D14: Objednávateľ: | I14: IČO: | J14: =IF('Rekapitulácia stavby'!AN10="","",'Rekapitulácia stavby'!AN10)
E15: =IF('Rekapitulácia stavby'!E11="","",'Rekapitulácia stavby'!E11) | I15: IČ DPH: | J15: =IF('Rekapitulácia stavby'!AN11="","",'Rekapitulácia stavby'!AN11)
D17: Zhotoviteľ: | I17: IČO: | J17: ='Rekapitulácia stavby'!AN13
E18: ='Rekapitulácia stavby'!E14 | I18: IČ DPH: | J18: ='Rekapitulácia stavby'!AN14
D20: Projektant: | I20: IČO: | J20: =IF('Rekapitulácia stavby'!AN16="","",'Rekapitulácia stavby'!AN16)
E21: =IF('Rekapitulácia stavby'!E17="","",'Rekapitulácia stavby'!E17) | I21: IČ DPH: | J21: =IF('Rekapitulácia stavby'!AN17="","",'Rekapitulácia stavby'!AN17)
D23: Spracovateľ: | I23: IČO: | J23: =IF('Rekapitulácia stavby'!AN19="","",'Rekapitulácia stavby'!AN19)
E24: =IF('Rekapitulácia stavby'!E20="","",'Rekapitulácia stavby'!E20) | I24: IČ DPH: | J24: =IF('Rekapitulácia stavby'!AN20="","",'Rekapitulácia stavby'!AN20)
D26: Poznámka:
D30: Cena bez DPH | J30: =ROUND(J123, 2) -> 0
F32: Základ dane | I32: Sadzba dane | J32: Výška dane
D33: DPH | E33: základná | F33: =ROUND((SUM(BE123:BE194)), 2) -> 0 | I33: 0.23 | J33: =ROUND(((SUM(BE123:BE194))*I33), 2) -> 0
E34: znížená | F34: =ROUND((SUM(BF123:BF194)), 2) -> 0 | I34: 0.23 | J34: =ROUND(((SUM(BF123:BF194))*I34), 2) -> 0
E35: zákl. prenesená | F35: =ROUND((SUM(BG123:BG194)), 2) -> 0 | I35: 0.23 | J35: =0 -> 0
E36: zníž. prenesená | F36: =ROUND((SUM(BH123:BH194)), 2) -> 0 | I36: 0.23 | J36: =0 -> 0
E37: nulová | F37: =ROUND((SUM(BI123:BI194)), 2) -> 0 | I37: 0 | J37: =0 -> 0
D39: Cena s DPH | G39: v | H39: EUR | J39: =SUM(J30:J37) -> 0
D50: Projektant | G50: Spracovateľ
D61: Dátum a podpis: | F61: Pečiatka | G61: Dátum a podpis: | J61: Pečiatka
D65: Objednávateľ | G65: Zhotoviteľ
D76: Dátum a podpis: | F76: Pečiatka | G76: Dátum a podpis: | J76: Pečiatka
C82: REKAPITULÁCIA ROZPOČTU
C84: Stavba:
E85: =E7 -> MHTH_Teplárenská - Rekonštrukcia miestnosti v budove SP 12 na +4,200
C86: Objekt:
E87: =E9 -> 10 - 2.25 Sklad-Kuchynka
C89: Miesto: | F89: =F12 | I89: Dátum: | J89: =IF(J12="","",J12) -> 16. 9. 2026
C91: Objednávateľ: | F91: =E15 | I91: Projektant: | J91: =E21
C92: Zhotoviteľ: | F92: =IF(E18="","",E18) | I92: Spracovateľ: | J92: =E24
C94: Kód dielu - Popis | J94: Cena celkom [EUR]
C96: Náklady z rozpočtu | J96: =J123 -> 0 | AU96: -1
D97: HSV - Práce a dodávky HSV | J97: =J124 -> 0
D98: 6 - Úpravy povrchov, podlahy, osadenie | J98: =J125 -> 0
D99: 9 - Ostatné konštrukcie a práce-búranie | J99: =J131 -> 0
D100: 99 - Presun hmôt HSV | J100: =J155 -> 0
D101: PSV - Práce a dodávky PSV | J101: =J163 -> 0
D102: 784 - Maľby | J102: =J164 -> 0
D103: HZS - Hodinové zúčtovacie sadzby | J103: =J193 -> 0
C110: ROZPOČET
C112: Stavba:
E113: =E7 -> MHTH_Teplárenská - Rekonštrukcia miestnosti v budove SP 12 na +4,200
C114: Objekt:
E115: =E9 -> 10 - 2.25 Sklad-Kuchynka
C117: Miesto: | F117: =F12 | I117: Dátum: | J117: =IF(J12="","",J12) -> 16. 9. 2026
C119: Objednávateľ: | F119: =E15 | I119: Projektant: | J119: =E21
C120: Zhotoviteľ: | F120: =IF(E18="","",E18) | I120: Spracovateľ: | J120: =E24
C122: PČ | D122: Typ | E122: Kód | F122: Popis | G122: MJ | H122: Množstvo | I122: J.cena [EUR] | J122: Cena celkom [EUR] | K122: Cenová sústava | N122: DPH | O122: J. Nh [h] | P122: Nh celkom [h] | Q122: J. hmotnosť [t] | R122: Hmotnosť celkom [t] | S122: J. suť [t] | T122: Suť Celkom [t]
C123: Náklady z rozpočtu | J123: =BK123 -> 0 | P123: =P124+P163+P193 -> 8.48 | R123: =R124+R163+R193 -> 0 | T123: =T124+T163+T193 -> 0 | AT123: D | AU123: -1 | BK123: =BK124+BK163+BK193 -> 0
D124: D | E124: HSV | F124: Práce a dodávky HSV | J124: =BK124 -> 0 | P124: =P125+P131+P155 -> 0 | R124: =R125+R131+R155 -> 0 | T124: =T125+T131+T155 -> 0 | AR124: 1 | AT124: D | AU124: 0 | AY124: ROZPOCET | BK124: =BK125+BK131+BK155 -> 0
D125: D | E125: 6 | F125: Úpravy povrchov, podlahy, osadenie | J125: =BK125 -> 0 | P125: =SUM(P126:P130) -> 0 | R125: =SUM(R126:R130) -> 0 | T125: =SUM(T126:T130) -> 0 | AR125: 1 | AT125: D | AU125: 1 | AY125: ROZPOCET | BK125: =SUM(BK126:BK130) -> 0
C126: 1 | D126: K | E126: 612421231.S | F126: Oprava vnútorných vápenných omietok stien, opravovaná plocha nad 5 do 10 %,štuková | G126: m2 | H126: 23.374 | J126: =ROUND(I126*H126,2) -> 0 | N126: znížená | O126: 0 | P126: =O126*H126 -> 0 | Q126: 0 | R126: =Q126*H126 -> 0 | S126: 0 | T126: =S126*H126 -> 0 | AR126: 4 | AT126: K | AU126: 2 | AY126: ROZPOCET | BE126: =IF(N126="základná",J126,0) -> 0 | BF126: =IF(N126="znížená",J126,0) -> 0 | BG126: =IF(N126="zákl. prenesená",J126,0) -> 0 | BH126: =IF(N126="zníž. prenesená",J126,0) -> 0 | BI126: =IF(N126="nulová",J126,0) -> 0 | BJ126: 2 | BK126: =ROUND(I126*H126,2) -> 0 | BL126: 4 | BM126: 2
D127: VV | F127: (1,5+3,475+1,5+3,475)*2,53 | H127: 25.1735 | AT127: VV | AU127: 2 | AV127: 2 | AW127: True | AX127: 0 | AY127: ROZPOCET
D128: VV | F128: odpočet dverí | AT128: VV | AU128: 2 | AV128: 1 | AW128: True | AX128: 0 | AY128: ROZPOCET
D129: VV | F129: -0,9*2 | H129: -1.8 | AT129: VV | AU129: 2 | AV129: 2 | AW129: True | AX129: 0 | AY129: ROZPOCET
D130: VV | F130: Súčet | H130: 23.3735 | AT130: VV | AU130: 2 | AV130: 4 | AW130: True | AX130: 1 | AY130: ROZPOCET
D131: D | E131: 9 | F131: Ostatné konštrukcie a práce-búranie | J131: =BK131 -> 0 | P131: =SUM(P132:P154) -> 0 | R131: =SUM(R132:R154) -> 0 | T131: =SUM(T132:T154) -> 0 | AR131: 1 | AT131: D | AU131: 1 | AY131: ROZPOCET | BK131: =SUM(BK132:BK154) -> 0
C132: 2 | D132: K | E132: 941955001.S | F132: Lešenie ľahké pracovné pomocné, s výškou lešeňovej podlahy do 1,20 m | G132: m2 | H132: 11.94 | J132: =ROUND(I132*H132,2) -> 0 | N132: znížená | O132: 0 | P132: =O132*H132 -> 0 | Q132: 0 | R132: =Q132*H132 -> 0 | S132: 0 | T132: =S132*H132 -> 0 | AR132: 4 | AT132: K | AU132: 2 | AY132: ROZPOCET | BE132: =IF(N132="základná",J132,0) -> 0 | BF132: =IF(N132="znížená",J132,0) -> 0 | BG132: =IF(N132="zákl. prenesená",J132,0) -> 0 | BH132: =IF(N132="zníž. prenesená",J132,0) -> 0 | BI132: =IF(N132="nulová",J132,0) -> 0 | BJ132: 2 | BK132: =ROUND(I132*H132,2) -> 0 | BL132: 4 | BM132: 4
D133: VV | F133: Pre steny | AT133: VV | AU133: 2 | AV133: 1 | AW133: True | AX133: 0 | AY133: ROZPOCET
D134: VV | F134: (1,5+3,475+1,5+3,475)*1,2 | H134: 11.94 | AT134: VV | AU134: 2 | AV134: 2 | AW134: True | AX134: 0 | AY134: ROZPOCET
D135: VV | F135: Súčet | H135: 11.94 | AT135: VV | AU135: 2 | AV135: 4 | AW135: True | AX135: 1 | AY135: ROZPOCET
C136: 3 | D136: K | E136: 952901111.S | F136: Vyčistenie budov pri výške podlaží do 4 m | G136: m2 | H136: 5.213 | J136: =ROUND(I136*H136,2) -> 0 | N136: znížená | O136: 0 | P136: =O136*H136 -> 0 | Q136: 0 | R136: =Q136*H136 -> 0 | S136: 0 | T136: =S136*H136 -> 0 | AR136: 4 | AT136: K | AU136: 2 | AY136: ROZPOCET | BE136: =IF(N136="základná",J136,0) -> 0 | BF136: =IF(N136="znížená",J136,0) -> 0 | BG136: =IF(N136="zákl. prenesená",J136,0) -> 0 | BH136: =IF(N136="zníž. prenesená",J136,0) -> 0 | BI136: =IF(N136="nulová",J136,0) -> 0 | BJ136: 2 | BK136: =ROUND(I136*H136,2) -> 0 | BL136: 4 | BM136: 6
C137: 4 | D137: K | E137: 978013121.S | F137: Otlčenie omietok stien vnútorných vápenných alebo vápennocementových v rozsahu do 10 %, -0,00400t | G137: m2 | H137: 23.374 | J137: =ROUND(I137*H137,2) -> 0 | N137: znížená | O137: 0 | P137: =O137*H137 -> 0 | Q137: 0 | R137: =Q137*H137 -> 0 | S137: 0 | T137: =S137*H137 -> 0 | AR137: 4 | AT137: K | AU137: 2 | AY137: ROZPOCET | BE137: =IF(N137="základná",J137,0) -> 0 | BF137: =IF(N137="znížená",J137,0) -> 0 | BG137: =IF(N137="zákl. prenesená",J137,0) -> 0 | BH137: =IF(N137="zníž. prenesená",J137,0) -> 0 | BI137: =IF(N137="nulová",J137,0) -> 0 | BJ137: 2 | BK137: =ROUND(I137*H137,2) -> 0 | BL137: 4 | BM137: 8
D138: VV | F138: (1,5+3,475+1,5+3,475)*2,53 | H138: 25.1735 | AT138: VV | AU138: 2 | AV138: 2 | AW138: True | AX138: 0 | AY138: ROZPOCET
D139: VV | F139: odpočet dverí | AT139: VV | AU139: 2 | AV139: 1 | AW139: True | AX139: 0 | AY139: ROZPOCET
D140: VV | F140: -0,9*2 | H140: -1.8 | AT140: VV | AU140: 2 | AV140: 2 | AW140: True | AX140: 0 | AY140: ROZPOCET
D141: VV | F141: Súčet | H141: 23.3735 | AT141: VV | AU141: 2 | AV141: 4 | AW141: True | AX141: 1 | AY141: ROZPOCET
C142: 5 | D142: K | E142: 979011131.S | F142: Zvislá doprava sutiny po schodoch ručne do 3,5 m | G142: t | H142: 0.186 | J142: =ROUND(I142*H142,2) -> 0 | N142: znížená | O142: 0 | P142: =O142*H142 -> 0 | Q142: 0 | R142: =Q142*H142 -> 0 | S142: 0 | T142: =S142*H142 -> 0 | AR142: 4 | AT142: K | AU142: 2 | AY142: ROZPOCET | BE142: =IF(N142="základná",J142,0) -> 0 | BF142: =IF(N142="znížená",J142,0) -> 0 | BG142: =IF(N142="zákl. prenesená",J142,0) -> 0 | BH142: =IF(N142="zníž. prenesená",J142,0) -> 0 | BI142: =IF(N142="nulová",J142,0) -> 0 | BJ142: 2 | BK142: =ROUND(I142*H142,2) -> 0 | BL142: 4 | BM142: 10
C143: 6 | D143: K | E143: 979011141.S | F143: Zvislá doprava sutiny po schodoch ručne, príplatok za každých ďalších 3,5 m | G143: t | H143: 0.372 | J143: =ROUND(I143*H143,2) -> 0 | N143: znížená | O143: 0 | P143: =O143*H143 -> 0 | Q143: 0 | R143: =Q143*H143 -> 0 | S143: 0 | T143: =S143*H143 -> 0 | AR143: 4 | AT143: K | AU143: 2 | AY143: ROZPOCET | BE143: =IF(N143="základná",J143,0) -> 0 | BF143: =IF(N143="znížená",J143,0) -> 0 | BG143: =IF(N143="zákl. prenesená",J143,0) -> 0 | BH143: =IF(N143="zníž. prenesená",J143,0) -> 0 | BI143: =IF(N143="nulová",J143,0) -> 0 | BJ143: 2 | BK143: =ROUND(I143*H143,2) -> 0 | BL143: 4 | BM143: 12
D144: VV | F144: 0,186*2 "Prepočítané koeficientom množstva | H144: 0.372 | AT144: VV | AU144: 2 | AV144: 2 | AW144: True | AX144: 0 | AY144: ROZPOCET
D145: VV | F145: Súčet | H145: 0.372 | AT145: VV | AU145: 2 | AV145: 4 | AW145: True | AX145: 1 | AY145: ROZPOCET
C146: 7 | D146: K | E146: 979082111.S | F146: Vnútrostavenisková doprava sutiny a vybúraných hmôt do 10 m | G146: t | H146: 0.186 | J146: =ROUND(I146*H146,2) -> 0 | N146: znížená | O146: 0 | P146: =O146*H146 -> 0 | Q146: 0 | R146: =Q146*H146 -> 0 | S146: 0 | T146: =S146*H146 -> 0 | AR146: 4 | AT146: K | AU146: 2 | AY146: ROZPOCET | BE146: =IF(N146="základná",J146,0) -> 0 | BF146: =IF(N146="znížená",J146,0) -> 0 | BG146: =IF(N146="zákl. prenesená",J146,0) -> 0 | BH146: =IF(N146="zníž. prenesená",J146,0) -> 0 | BI146: =IF(N146="nulová",J146,0) -> 0 | BJ146: 2 | BK146: =ROUND(I146*H146,2) -> 0 | BL146: 4 | BM146: 14
C147: 8 | D147: K | E147: 979082121.S | F147: Vnútrostavenisková doprava sutiny a vybúraných hmôt za každých ďalších 5 m | G147: t | H147: 0.93 | J147: =ROUND(I147*H147,2) -> 0 | N147: znížená | O147: 0 | P147: =O147*H147 -> 0 | Q147: 0 | R147: =Q147*H147 -> 0 | S147: 0 | T147: =S147*H147 -> 0 | AR147: 4 | AT147: K | AU147: 2 | AY147: ROZPOCET | BE147: =IF(N147="základná",J147,0) -> 0 | BF147: =IF(N147="znížená",J147,0) -> 0 | BG147: =IF(N147="zákl. prenesená",J147,0) -> 0 | BH147: =IF(N147="zníž. prenesená",J147,0) -> 0 | BI147: =IF(N147="nulová",J147,0) -> 0 | BJ147: 2 | BK147: =ROUND(I147*H147,2) -> 0 | BL147: 4 | BM147: 16
D148: VV | F148: 0,186*5 "Prepočítané koeficientom množstva | H148: 0.93 | AT148: VV | AU148: 2 | AV148: 2 | AW148: True | AX148: 0 | AY148: ROZPOCET
D149: VV | F149: Súčet | H149: 0.93 | AT149: VV | AU149: 2 | AV149: 4 | AW149: True | AX149: 1 | AY149: ROZPOCET
C150: 9 | D150: K | E150: 979087213.S | F150: Nakladanie na dopravné prostriedky pre vodorovnú dopravu vybúraných hmôt | G150: t | H150: 0.186 | J150: =ROUND(I150*H150,2) -> 0 | N150: znížená | O150: 0 | P150: =O150*H150 -> 0 | Q150: 0 | R150: =Q150*H150 -> 0 | S150: 0 | T150: =S150*H150 -> 0 | AR150: 4 | AT150: K | AU150: 2 | AY150: ROZPOCET | BE150: =IF(N150="základná",J150,0) -> 0 | BF150: =IF(N150="znížená",J150,0) -> 0 | BG150: =IF(N150="zákl. prenesená",J150,0) -> 0 | BH150: =IF(N150="zníž. prenesená",J150,0) -> 0 | BI150: =IF(N150="nulová",J150,0) -> 0 | BJ150: 2 | BK150: =ROUND(I150*H150,2) -> 0 | BL150: 4 | BM150: 18
C151: 10 | D151: K | E151: 979089012.S | F151: Poplatok za skládku - betón, tehly, dlaždice, obkladačky a keramika (17 01), ostatné | G151: t | H151: 0.186 | J151: =ROUND(I151*H151,2) -> 0 | N151: znížená | O151: 0 | P151: =O151*H151 -> 0 | Q151: 0 | R151: =Q151*H151 -> 0 | S151: 0 | T151: =S151*H151 -> 0 | AR151: 4 | AT151: K | AU151: 2 | AY151: ROZPOCET | BE151: =IF(N151="základná",J151,0) -> 0 | BF151: =IF(N151="znížená",J151,0) -> 0 | BG151: =IF(N151="zákl. prenesená",J151,0) -> 0 | BH151: =IF(N151="zníž. prenesená",J151,0) -> 0 | BI151: =IF(N151="nulová",J151,0) -> 0 | BJ151: 2 | BK151: =ROUND(I151*H151,2) -> 0 | BL151: 4 | BM151: 20
C152: 11 | D152: K | E152: 979089712.S | F152: Prenájom kontajneru 5 m3 | G152: ks | H152: 1 | J152: =ROUND(I152*H152,2) -> 0 | N152: znížená | O152: 0 | P152: =O152*H152 -> 0 | Q152: 0 | R152: =Q152*H152 -> 0 | S152: 0 | T152: =S152*H152 -> 0 | AR152: 4 | AT152: K | AU152: 2 | AY152: ROZPOCET | BE152: =IF(N152="základná",J152,0) -> 0 | BF152: =IF(N152="znížená",J152,0) -> 0 | BG152: =IF(N152="zákl. prenesená",J152,0) -> 0 | BH152: =IF(N152="zníž. prenesená",J152,0) -> 0 | BI152: =IF(N152="nulová",J152,0) -> 0 | BJ152: 2 | BK152: =ROUND(I152*H152,2) -> 0 | BL152: 4 | BM152: 22
C153: 12 | D153: K | E153: MV | F153: Murárske výpomoci | G153: % | H153: 700 | J153: =ROUND(I153*H153,2) -> 0 | N153: znížená | O153: 0 | P153: =O153*H153 -> 0 | Q153: 0 | R153: =Q153*H153 -> 0 | S153: 0 | T153: =S153*H153 -> 0 | AR153: 4 | AT153: K | AU153: 2 | AY153: ROZPOCET | BE153: =IF(N153="základná",J153,0) -> 0 | BF153: =IF(N153="znížená",J153,0) -> 0 | BG153: =IF(N153="zákl. prenesená",J153,0) -> 0 | BH153: =IF(N153="zníž. prenesená",J153,0) -> 0 | BI153: =IF(N153="nulová",J153,0) -> 0 | BJ153: 2 | BK153: =ROUND(I153*H153,2) -> 0 | BL153: 4 | BM153: 24
C154: 13 | D154: K | E154: PPV | F154: Podiel pridružených výkonov | G154: % | H154: 700 | J154: =ROUND(I154*H154,2) -> 0 | N154: znížená | O154: 0 | P154: =O154*H154 -> 0 | Q154: 0 | R154: =Q154*H154 -> 0 | S154: 0 | T154: =S154*H154 -> 0 | AR154: 4 | AT154: K | AU154: 2 | AY154: ROZPOCET | BE154: =IF(N154="základná",J154,0) -> 0 | BF154: =IF(N154="znížená",J154,0) -> 0 | BG154: =IF(N154="zákl. prenesená",J154,0) -> 0 | BH154: =IF(N154="zníž. prenesená",J154,0) -> 0 | BI154: =IF(N154="nulová",J154,0) -> 0 | BJ154: 2 | BK154: =ROUND(I154*H154,2) -> 0 | BL154: 4 | BM154: 26
D155: D | E155: 99 | F155: Presun hmôt HSV | J155: =BK155 -> 0 | P155: =SUM(P156:P162) -> 0 | R155: =SUM(R156:R162) -> 0 | T155: =SUM(T156:T162) -> 0 | AR155: 1 | AT155: D | AU155: 1 | AY155: ROZPOCET | BK155: =SUM(BK156:BK162) -> 0
C156: 14 | D156: K | E156: 998009001.S | F156: Presun hmôt lešenia pre budovy s výškou do 3,5 m | G156: t | H156: 0.018 | J156: =ROUND(I156*H156,2) -> 0 | N156: znížená | O156: 0 | P156: =O156*H156 -> 0 | Q156: 0 | R156: =Q156*H156 -> 0 | S156: 0 | T156: =S156*H156 -> 0 | AR156: 4 | AT156: K | AU156: 2 | AY156: ROZPOCET | BE156: =IF(N156="základná",J156,0) -> 0 | BF156: =IF(N156="znížená",J156,0) -> 0 | BG156: =IF(N156="zákl. prenesená",J156,0) -> 0 | BH156: =IF(N156="zníž. prenesená",J156,0) -> 0 | BI156: =IF(N156="nulová",J156,0) -> 0 | BJ156: 2 | BK156: =ROUND(I156*H156,2) -> 0 | BL156: 4 | BM156: 28
C157: 15 | D157: K | E157: 998009009.S | F157: Príplatok za presun hmôt lešenia pre budovy s výškou do 3,5 m, za k.ď. začatých 3,5 m | G157: t | H157: 0.036 | J157: =ROUND(I157*H157,2) -> 0 | N157: znížená | O157: 0 | P157: =O157*H157 -> 0 | Q157: 0 | R157: =Q157*H157 -> 0 | S157: 0 | T157: =S157*H157 -> 0 | AR157: 4 | AT157: K | AU157: 2 | AY157: ROZPOCET | BE157: =IF(N157="základná",J157,0) -> 0 | BF157: =IF(N157="znížená",J157,0) -> 0 | BG157: =IF(N157="zákl. prenesená",J157,0) -> 0 | BH157: =IF(N157="zníž. prenesená",J157,0) -> 0 | BI157: =IF(N157="nulová",J157,0) -> 0 | BJ157: 2 | BK157: =ROUND(I157*H157,2) -> 0 | BL157: 4 | BM157: 30
D158: VV | F158: 0,018*2 "Prepočítané koeficientom množstva | H158: 0.036 | AT158: VV | AU158: 2 | AV158: 2 | AW158: True | AX158: 0 | AY158: ROZPOCET
D159: VV | F159: Súčet | H159: 0.036 | AT159: VV | AU159: 2 | AV159: 4 | AW159: True | AX159: 1 | AY159: ROZPOCET
C160: 16 | D160: K | E160: 998011002.S | F160: Presun hmôt pre budovy (801, 803, 812), zvislá konštr. z tehál, tvárnic, z kovu výšky do 12 m | G160: t | H160: 2.29 | J160: =ROUND(I160*H160,2) -> 0 | N160: znížená | O160: 0 | P160: =O160*H160 -> 0 | Q160: 0 | R160: =Q160*H160 -> 0 | S160: 0 | T160: =S160*H160 -> 0 | AR160: 4 | AT160: K | AU160: 2 | AY160: ROZPOCET | BE160: =IF(N160="základná",J160,0) -> 0 | BF160: =IF(N160="znížená",J160,0) -> 0 | BG160: =IF(N160="zákl. prenesená",J160,0) -> 0 | BH160: =IF(N160="zníž. prenesená",J160,0) -> 0 | BI160: =IF(N160="nulová",J160,0) -> 0 | BJ160: 2 | BK160: =ROUND(I160*H160,2) -> 0 | BL160: 4 | BM160: 32
D161: VV | F161: 2,308-0,018 | H161: 2.29 | AT161: VV | AU161: 2 | AV161: 2 | AW161: True | AX161: 0 | AY161: ROZPOCET
D162: VV | F162: Súčet | H162: 2.29 | AT162: VV | AU162: 2 | AV162: 4 | AW162: True | AX162: 1 | AY162: ROZPOCET
D163: D | E163: PSV | F163: Práce a dodávky PSV | J163: =BK163 -> 0 | P163: =P164 -> 0 | R163: =R164 -> 0 | T163: =T164 -> 0 | AR163: 2 | AT163: D | AU163: 0 | AY163: ROZPOCET | BK163: =BK164 -> 0
D164: D | E164: 784 | F164: Maľby | J164: =BK164 -> 0 | P164: =SUM(P165:P192) -> 0 | R164: =SUM(R165:R192) -> 0 | T164: =SUM(T165:T192) -> 0 | AR164: 2 | AT164: D | AU164: 1 | AY164: ROZPOCET | BK164: =SUM(BK165:BK192) -> 0
C165: 17 | D165: K | E165: 784402801.S | F165: Odstránenie malieb oškrabaním, výšky do 3,80 m, -0,0003 t | G165: m2 | H165: 23.374 | J165: =ROUND(I165*H165,2) -> 0 | N165: znížená | O165: 0 | P165: =O165*H165 -> 0 | Q165: 0 | R165: =Q165*H165 -> 0 | S165: 0 | T165: =S165*H165 -> 0 | AR165: 16 | AT165: K | AU165: 2 | AY165: ROZPOCET | BE165: =IF(N165="základná",J165,0) -> 0 | BF165: =IF(N165="znížená",J165,0) -> 0 | BG165: =IF(N165="zákl. prenesená",J165,0) -> 0 | BH165: =IF(N165="zníž. prenesená",J165,0) -> 0 | BI165: =IF(N165="nulová",J165,0) -> 0 | BJ165: 2 | BK165: =ROUND(I165*H165,2) -> 0 | BL165: 16 | BM165: 34
D166: VV | F166: (1,5+3,475+1,5+3,475)*2,53 "steny | H166: 25.1735 | AT166: VV | AU166: 2 | AV166: 2 | AW166: True | AX166: 0 | AY166: ROZPOCET
...
