Workbook

Sheet Rekapitulácia stavby
A1: Export Komplet | BA1: 2.0 | BT1: False | BU1: False | BV1: {1dad149f-cf26-40cc-a07c-0ef9145eb10d}
AR2: >> skryté stĺpce << | BS2: 0,01 | BT2: 23
BS3: 0,01 | BT3: 23
D4: REKAPITULÁCIA STAVBY | AS4: v --- nižšie sa nachádzajú doplnkové a pomocné údaje k zostavám --- v | BS4: 0,001
D5: Kód: | BS5: 0,01
D6: Stavba: | K6: MHTH - Teplárenská - Oprava časti budovy a skladu na +0,000m | BS6: 0,01
D7: JKSO: | AK7: ČS: | BS7: 0,01
D8: Miesto: | AK8: Dátum: | AN8: 46248 | BS8: 0,01
BS9: 0,01
D10: Objednávateľ: | AK10: IČO: | BS10: 0,01
AK11: IČ DPH: | BS11: 0,01
BS12: 0,01
D13: Zhotoviteľ: | AK13: IČO: | BS13: 0,01
AK14: IČ DPH: | BS14: 0,01
BS15: False
D16: Projektant: | AK16: IČO: | BS16: False
AK17: IČ DPH: | BS17: False
BS18: 0,01
D19: Spracovateľ: | AK19: IČO: | BS19: 0,01
AK20: IČ DPH: | BS20: True
D22: Poznámka:
D26: Cena bez DPH | AK26: =ROUND(AG94,2) -> 0
L28: Sadzba dane | W28: Základ dane | AK28: Výška dane
D29: DPH | F29: základná | L29: 0.23 | W29: =ROUND(AZ94, 2) -> 0 | AK29: =ROUND(AV94, 2) -> 0
F30: znížená | L30: 0.23 | W30: =ROUND(BA94, 2) -> 0 | AK30: =ROUND(AW94, 2) -> 0
F31: zákl. prenesená | L31: 0.23 | W31: =ROUND(BB94, 2) -> 0 | AK31: 0
F32: zníž. prenesená | L32: 0.23 | W32: =ROUND(BC94, 2) -> 0 | AK32: 0
F33: nulová | L33: 0 | W33: =ROUND(BD94, 2) -> 0 | AK33: 0
D35: Cena s DPH | T35: v | X35: EUR | AK35: =SUM(AK26:AK33) -> 0
D49: Projektant | AH49: Spracovateľ
D60: Dátum a podpis: | V60: Pečiatka | AH60: Dátum a podpis: | AM60: Pečiatka
D64: Objednávateľ | AH64: Zhotoviteľ
D75: Dátum a podpis: | V75: Pečiatka | AH75: Dátum a podpis: | AM75: Pečiatka
C82: REKAPITULÁCIA OBJEKTOV STAVBY
C84: Kód: | L84: =K5 -> 0
C85: Stavba: | L85: =K6 -> MHTH - Teplárenská - Oprava časti budovy a skladu na +0,000m
C87: Miesto: | L87: =IF(K8="","",K8) | AI87: Dátum: | AM87: =IF(AN8= "","",AN8) -> 46248
C89: Objednávateľ: | L89: =IF(E11= "","",E11) | AI89: Projektant: | AM89: =IF(E17="","",E17) | AS89: Informatívne údaje z listov zákaziek
C90: Zhotoviteľ: | L90: =IF(E14="","",E14) | AI90: Spracovateľ: | AM90: =IF(E20="","",E20)
C92: Kód | I92: Popis | AG92: Cena bez DPH [EUR] | AN92: Cena s DPH [EUR] | AQ92: Typ | AS92: z toho Ostat._x000D_ náklady [EUR] | AT92: DPH [EUR] | AU92: Normohodiny [h] | AV92: DPH základná [EUR] | AW92: DPH znížená [EUR] | AX92: DPH základná prenesená_x000D_ [EUR] | AY92: DPH znížená prenesená_x000D_ [EUR] | AZ92: Základňa_x000D_ DPH základná | BA92: Základňa_x000D_ DPH znížená | BB92: Základňa_x000D_ DPH zákl. prenesená | BC92: Základňa_x000D_ DPH zníž. prenesená | BD92: Základňa_x000D_ DPH nulová
C94: Náklady z rozpočtov | AG94: =ROUND(AG95,2) -> 0 | AN94: =SUM(AG94,AT94) -> 0 | AS94: =ROUND(AS95,2) -> 0 | AT94: =ROUND(SUM(AV94:AW94),2) -> 0 | AU94: =ROUND(AU95,5) -> 106.73558 | AV94: =ROUND(AZ94*L29,2) -> 0 | AW94: =ROUND(BA94*L30,2) -> 0 | AX94: =ROUND(BB94*L29,2) -> 0 | AY94: =ROUND(BC94*L30,2) -> 0 | AZ94: =ROUND(AZ95,2) -> 0 | BA94: =ROUND(BA95,2) -> 0 | BB94: =ROUND(BB95,2) -> 0 | BC94: =ROUND(BC95,2) -> 0 | BD94: =ROUND(BD95,2) -> 0 | BS94: D | BT94: 0 | BU94: ###NOIMPORT### | BV94: IMPORT | BW94: {1dad149f-cf26-40cc-a07c-0ef9145eb10d} | BX94: {00000000-0000-0000-0000-000000000000}
A95: / | D95: 01 | J95: sklad | AG95: ='01 - sklad'!J30 -> 0 | AN95: =SUM(AG95,AT95) -> 0 | AQ95: STA | AS95: 0 | AT95: =ROUND(SUM(AV95:AW95),2) -> 0 | AU95: ='01 - sklad'!P128 -> 106.73558 | AV95: ='01 - sklad'!J33 -> 0 | AW95: ='01 - sklad'!J34 -> 0 | AX95: ='01 - sklad'!J35 -> 0 | AY95: ='01 - sklad'!J36 -> 0 | AZ95: ='01 - sklad'!F33 -> 0 | BA95: ='01 - sklad'!F34 -> 0 | BB95: ='01 - sklad'!F35 -> 0 | BC95: ='01 - sklad'!F36 -> 0 | BD95: ='01 - sklad'!F37 -> 0 | BT95: 1 | BV95: IMPORT | BW95: {6a0cf373-4ac8-4b09-adde-31ab14779acd} | BX95: {1dad149f-cf26-40cc-a07c-0ef9145eb10d} | CM95: 1

Sheet 01 - sklad
L2: >> skryté stĺpce << | AT2: {6a0cf373-4ac8-4b09-adde-31ab14779acd}
AT3: 1
D4: KRYCÍ LIST ROZPOČTU | M4: v --- nižšie sa nachádzajú doplnkové a pomocné údaje k zostavám --- v | AT4: False
D6: Stavba:
E7: ='Rekapitulácia stavby'!K6 -> MHTH - Teplárenská - Oprava časti budovy a skladu na +0,000m
D8: Objekt:
E9: 01 - sklad
D11: JKSO: | I11: ČS:
D12: Miesto: | I12: Dátum: | J12: ='Rekapitulácia stavby'!AN8 -> 46248
D14: Objednávateľ: | I14: IČO: | J14: =IF('Rekapitulácia stavby'!AN10="","",'Rekapitulácia stavby'!AN10)
E15: =IF('Rekapitulácia stavby'!E11="","",'Rekapitulácia stavby'!E11) | I15: IČ DPH: | J15: =IF('Rekapitulácia stavby'!AN11="","",'Rekapitulácia stavby'!AN11)
D17: Zhotoviteľ: | I17: IČO: | J17: ='Rekapitulácia stavby'!AN13
E18: ='Rekapitulácia stavby'!E14 | I18: IČ DPH: | J18: ='Rekapitulácia stavby'!AN14
D20: Projektant: | I20: IČO: | J20: =IF('Rekapitulácia stavby'!AN16="","",'Rekapitulácia stavby'!AN16)
E21: =IF('Rekapitulácia stavby'!E17="","",'Rekapitulácia stavby'!E17) | I21: IČ DPH: | J21: =IF('Rekapitulácia stavby'!AN17="","",'Rekapitulácia stavby'!AN17)
D23: Spracovateľ: | I23: IČO: | J23: =IF('Rekapitulácia stavby'!AN19="","",'Rekapitulácia stavby'!AN19)
E24: =IF('Rekapitulácia stavby'!E20="","",'Rekapitulácia stavby'!E20) | I24: IČ DPH: | J24: =IF('Rekapitulácia stavby'!AN20="","",'Rekapitulácia stavby'!AN20)
D26: Poznámka:
D30: Cena bez DPH | J30: =ROUND(J128, 2) -> 0
F32: Základ dane | I32: Sadzba dane | J32: Výška dane
D33: DPH | E33: základná | F33: =ROUND((SUM(BE128:BE268)), 2) -> 0 | I33: 0.23 | J33: =ROUND(((SUM(BE128:BE268))*I33), 2) -> 0
E34: znížená | F34: =ROUND((SUM(BF128:BF268)), 2) -> 0 | I34: 0.23 | J34: =ROUND(((SUM(BF128:BF268))*I34), 2) -> 0
E35: zákl. prenesená | F35: =ROUND((SUM(BG128:BG268)), 2) -> 0 | I35: 0.23 | J35: =0 -> 0
E36: zníž. prenesená | F36: =ROUND((SUM(BH128:BH268)), 2) -> 0 | I36: 0.23 | J36: =0 -> 0
E37: nulová | F37: =ROUND((SUM(BI128:BI268)), 2) -> 0 | I37: 0 | J37: =0 -> 0
D39: Cena s DPH | G39: v | H39: EUR | J39: =SUM(J30:J37) -> 0
D50: Projektant | G50: Spracovateľ
D61: Dátum a podpis: | F61: Pečiatka | G61: Dátum a podpis: | J61: Pečiatka
D65: Objednávateľ | G65: Zhotoviteľ
D76: Dátum a podpis: | F76: Pečiatka | G76: Dátum a podpis: | J76: Pečiatka
C82: REKAPITULÁCIA ROZPOČTU
C84: Stavba:
E85: =E7 -> MHTH - Teplárenská - Oprava časti budovy a skladu na +0,000m
C86: Objekt:
E87: =E9 -> 01 - sklad
C89: Miesto: | F89: =F12 | I89: Dátum: | J89: =IF(J12="","",J12) -> 46248
C91: Objednávateľ: | F91: =E15 | I91: Projektant: | J91: =E21
C92: Zhotoviteľ: | F92: =IF(E18="","",E18) | I92: Spracovateľ: | J92: =E24
C94: Kód dielu - Popis | J94: Cena celkom [EUR]
C96: Náklady z rozpočtu | J96: =J128 -> 0 | AU96: -1
D97: HSV - Práce a dodávky HSV | J97: =J129 -> 0
D98: 3 - Zvislé a kompletné konštrukcie | J98: =J130 -> 0
D99: 6 - Úpravy povrchov, podlahy, osadenie | J99: =J137 -> 0
D100: 9 - Ostatné konštrukcie a práce-búranie | J100: =J168 -> 0
D101: PSV - Práce a dodávky PSV | J101: =J220 -> 0
D102: 725 - Zdravotechnika - zariaďovacie predmety | J102: =J221 -> 0
D103: 777 - Podlahy syntetické | J103: =J223 -> 0
D104: 781 - Obklady | J104: =J233 -> 0
D105: 783 - Nátery | J105: =J238 -> 0
D106: 784 - Maľby | J106: =J243 -> 0
D107: 787 - Zasklievanie | J107: =J261 -> 0
D108: HZS - Hodinové zúčtovacie sadzby | J108: =J263 -> 0
C115: ROZPOČET
C117: Stavba:
E118: =E7 -> MHTH - Teplárenská - Oprava časti budovy a skladu na +0,000m
C119: Objekt:
E120: =E9 -> 01 - sklad
C122: Miesto: | F122: =F12 | I122: Dátum: | J122: =IF(J12="","",J12) -> 46248
C124: Objednávateľ: | F124: =E15 | I124: Projektant: | J124: =E21
C125: Zhotoviteľ: | F125: =IF(E18="","",E18) | I125: Spracovateľ: | J125: =E24
C127: PČ | D127: Typ | E127: Kód | F127: Popis | G127: MJ | H127: Množstvo | I127: J.cena [EUR] | J127: Cena celkom [EUR] | K127: Cenová sústava | N127: DPH | O127: J. Nh [h] | P127: Nh celkom [h] | Q127: J. hmotnosť [t] | R127: Hmotnosť celkom [t] | S127: J. suť [t] | T127: Suť Celkom [t]
C128: Náklady z rozpočtu | J128: =BK128 -> 0 | P128: =P129+P220+P263 -> 106.73558 | R128: =R129+R220+R263 -> 0.00245952 | T128: =T129+T220+T263 -> 6.56835 | AT128: D | AU128: -1 | BK128: =BK129+BK220+BK263 -> 0
D129: D | E129: HSV | F129: Práce a dodávky HSV | J129: =BK129 -> 0 | P129: =P130+P137+P168 -> 55.855575 | R129: =R130+R137+R168 -> 0.00245952 | T129: =T130+T137+T168 -> 6.56835 | AR129: 1 | AT129: D | AU129: 0 | AY129: ROZPOCET | BK129: =BK130+BK137+BK168 -> 0
D130: D | E130: 3 | F130: Zvislé a kompletné konštrukcie | J130: =BK130 -> 0 | P130: =SUM(P131:P136) -> 0 | R130: =SUM(R131:R136) -> 0 | T130: =SUM(T131:T136) -> 0 | AR130: 1 | AT130: D | AU130: 1 | AY130: ROZPOCET | BK130: =SUM(BK131:BK136) -> 0
C131: 1 | D131: K | E131: 340239266.S | F131: Zamurovanie otvorov plochy nad 1 do 4 m2 z pórobetónových tvárnic hladkých hrúbky 200 mm | G131: m2 | H131: 12.625 | J131: =ROUND(I131*H131,2) -> 0 | N131: znížená | O131: 0 | P131: =O131*H131 -> 0 | Q131: 0 | R131: =Q131*H131 -> 0 | S131: 0 | T131: =S131*H131 -> 0 | AR131: 4 | AT131: K | AU131: 2 | AY131: ROZPOCET | BE131: =IF(N131="základná",J131,0) -> 0 | BF131: =IF(N131="znížená",J131,0) -> 0 | BG131: =IF(N131="zákl. prenesená",J131,0) -> 0 | BH131: =IF(N131="zníž. prenesená",J131,0) -> 0 | BI131: =IF(N131="nulová",J131,0) -> 0 | BJ131: 2 | BK131: =ROUND(I131*H131,2) -> 0 | BL131: 4 | BM131: 2
D132: VV | F132: Zamurovanie okien v sklade | AT132: VV | AU132: 2 | AV132: 1 | AW132: True | AX132: 0 | AY132: ROZPOCET
D133: VV | F133: 1,8*1,8 "okno do strojovne | H133: 3.24 | AT133: VV | AU133: 2 | AV133: 2 | AW133: True | AX133: 0 | AY133: ROZPOCET
D134: VV | F134: 4,2*1,8 "okno do strojovne | H134: 7.56 | AT134: VV | AU134: 2 | AV134: 2 | AW134: True | AX134: 0 | AY134: ROZPOCET
D135: VV | F135: 1,17*1,56 "okno do exteriéru kvôli regálom | H135: 1.8252 | AT135: VV | AU135: 2 | AV135: 2 | AW135: True | AX135: 0 | AY135: ROZPOCET
D136: VV | F136: Súčet | H136: 12.6252 | AT136: VV | AU136: 2 | AV136: 4 | AW136: True | AX136: 1 | AY136: ROZPOCET
D137: D | E137: 6 | F137: Úpravy povrchov, podlahy, osadenie | J137: =BK137 -> 0 | P137: =SUM(P138:P167) -> 0 | R137: =SUM(R138:R167) -> 0 | T137: =SUM(T138:T167) -> 0 | AR137: 1 | AT137: D | AU137: 1 | AY137: ROZPOCET | BK137: =SUM(BK138:BK167) -> 0
C138: 2 | D138: K | E138: 611426101.S | F138: Výplň rýh, drážok a škár v stropoch vápennocementovou maltou priemerného prierezu 5 cm2 | G138: m | H138: 31 | J138: =ROUND(I138*H138,2) -> 0 | N138: znížená | O138: 0 | P138: =O138*H138 -> 0 | Q138: 0 | R138: =Q138*H138 -> 0 | S138: 0 | T138: =S138*H138 -> 0 | AR138: 4 | AT138: K | AU138: 2 | AY138: ROZPOCET | BE138: =IF(N138="základná",J138,0) -> 0 | BF138: =IF(N138="znížená",J138,0) -> 0 | BG138: =IF(N138="zákl. prenesená",J138,0) -> 0 | BH138: =IF(N138="zníž. prenesená",J138,0) -> 0 | BI138: =IF(N138="nulová",J138,0) -> 0 | BJ138: 2 | BK138: =ROUND(I138*H138,2) -> 0 | BL138: 4 | BM138: 4
C139: 3 | D139: K | E139: 611460125.S | F139: Príprava vnútorného podkladu stropov penetráciou pod nátery a maľby | G139: m2 | H139: 147.6 | J139: =ROUND(I139*H139,2) -> 0 | N139: znížená | O139: 0 | P139: =O139*H139 -> 0 | Q139: 0 | R139: =Q139*H139 -> 0 | S139: 0 | T139: =S139*H139 -> 0 | AR139: 4 | AT139: K | AU139: 2 | AY139: ROZPOCET | BE139: =IF(N139="základná",J139,0) -> 0 | BF139: =IF(N139="znížená",J139,0) -> 0 | BG139: =IF(N139="zákl. prenesená",J139,0) -> 0 | BH139: =IF(N139="zníž. prenesená",J139,0) -> 0 | BI139: =IF(N139="nulová",J139,0) -> 0 | BJ139: 2 | BK139: =ROUND(I139*H139,2) -> 0 | BL139: 4 | BM139: 6
C140: 4 | D140: K | E140: 612421411.S | F140: Oprava vnútorných vápenných omietok stien, v množstve opravenej plochy nad 30 do 50 % hrubých | G140: m2 | H140: 93.984 | J140: =ROUND(I140*H140,2) -> 0 | N140: znížená | O140: 0 | P140: =O140*H140 -> 0 | Q140: 0 | R140: =Q140*H140 -> 0 | S140: 0 | T140: =S140*H140 -> 0 | AR140: 4 | AT140: K | AU140: 2 | AY140: ROZPOCET | BE140: =IF(N140="základná",J140,0) -> 0 | BF140: =IF(N140="znížená",J140,0) -> 0 | BG140: =IF(N140="zákl. prenesená",J140,0) -> 0 | BH140: =IF(N140="zníž. prenesená",J140,0) -> 0 | BI140: =IF(N140="nulová",J140,0) -> 0 | BJ140: 2 | BK140: =ROUND(I140*H140,2) -> 0 | BL140: 4 | BM140: 8
D141: VV | F141: (9+6,4+9+6,4)*3,7 | H141: 113.96 | AT141: VV | AU141: 2 | AV141: 2 | AW141: True | AX141: 0 | AY141: ROZPOCET
D142: VV | F142: odpočet okien a dverí | AT142: VV | AU142: 2 | AV142: 1 | AW142: True | AX142: 0 | AY142: ROZPOCET
D143: VV | F143: -(4,2*1,8) "väčšie okno na zamurovanie | H143: -7.56 | AT143: VV | AU143: 2 | AV143: 2 | AW143: True | AX143: 0 | AY143: ROZPOCET
D144: VV | F144: -1,8*1,8 "menšie okno na zamurovanie | H144: -3.24 | AT144: VV | AU144: 2 | AV144: 2 | AW144: True | AX144: 0 | AY144: ROZPOCET
D145: VV | F145: -(1,17*1,56)*3 "2 menšie okná na výmenu a 1 na zamurovanie kvôli regálom | H145: -5.4756 | AT145: VV | AU145: 2 | AV145: 2 | AW145: True | AX145: 0 | AY145: ROZPOCET
D146: VV | F146: -1,48*2,5 "brána | H146: -3.7 | AT146: VV | AU146: 2 | AV146: 2 | AW146: True | AX146: 0 | AY146: ROZPOCET
D147: VV | F147: Súčet | H147: 93.9844 | AT147: VV | AU147: 2 | AV147: 4 | AW147: True | AX147: 1 | AY147: ROZPOCET
C148: 5 | D148: K | E148: 612425931.S | F148: Omietka vápenná vnútorného ostenia okenného alebo dverného štuková | G148: m2 | H148: 10.792 | J148: =ROUND(I148*H148,2) -> 0 | N148: znížená | O148: 0 | P148: =O148*H148 -> 0 | Q148: 0 | R148: =Q148*H148 -> 0 | S148: 0 | T148: =S148*H148 -> 0 | AR148: 4 | AT148: K | AU148: 2 | AY148: ROZPOCET | BE148: =IF(N148="základná",J148,0) -> 0 | BF148: =IF(N148="znížená",J148,0) -> 0 | BG148: =IF(N148="zákl. prenesená",J148,0) -> 0 | BH148: =IF(N148="zníž. prenesená",J148,0) -> 0 | BI148: =IF(N148="nulová",J148,0) -> 0 | BJ148: 2 | BK148: =ROUND(I148*H148,2) -> 0 | BL148: 4 | BM148: 10
D149: VV | F149: (1,17+1,56+1,17+1,56)*0,15*2 "2 menšie okná na výmenu, 1 okno sa zamuruje | H149: 1.638 | AT149: VV | AU149: 2 | AV149: 2 | AW149: True | AX149: 0 | AY149: ROZPOCET
D150: VV | F150: (1,48+2,5+1,48+2,5)*1,15 "brána | H150: 9.154 | AT150: VV | AU150: 2 | AV150: 2 | AW150: True | AX150: 0 | AY150: ROZPOCET
D151: VV | F151: Súčet | H151: 10.792 | AT151: VV | AU151: 2 | AV151: 4 | AW151: True | AX151: 1 | AY151: ROZPOCET
C152: 6 | D152: K | E152: 612426101.S | F152: Výplň rýh, drážok a škár v stenách vápennocementovou maltou priemerného prierezu 5 cm2 | G152: m | H152: 16.5 | J152: =ROUND(I152*H152,2) -> 0 | N152: znížená | O152: 0 | P152: =O152*H152 -> 0 | Q152: 0 | R152: =Q152*H152 -> 0 | S152: 0 | T152: =S152*H152 -> 0 | AR152: 4 | AT152: K | AU152: 2 | AY152: ROZPOCET | BE152: =IF(N152="základná",J152,0) -> 0 | BF152: =IF(N152="znížená",J152,0) -> 0 | BG152: =IF(N152="zákl. prenesená",J152,0) -> 0 | BH152: =IF(N152="zníž. prenesená",J152,0) -> 0 | BI152: =IF(N152="nulová",J152,0) -> 0 | BJ152: 2 | BK152: =ROUND(I152*H152,2) -> 0 | BL152: 4 | BM152: 12
C153: 7 | D153: K | E153: 612460121.S | F153: Príprava vnútorného podkladu stien penetráciou základnou | G153: m2 | H153: 106.61 | J153: =ROUND(I153*H153,2) -> 0 | N153: znížená | O153: 0 | P153: =O153*H153 -> 0 | Q153: 0 | R153: =Q153*H153 -> 0 | S153: 0 | T153: =S153*H153 -> 0 | AR153: 4 | AT153: K | AU153: 2 | AY153: ROZPOCET | BE153: =IF(N153="základná",J153,0) -> 0 | BF153: =IF(N153="znížená",J153,0) -> 0 | BG153: =IF(N153="zákl. prenesená",J153,0) -> 0 | BH153: =IF(N153="zníž. prenesená",J153,0) -> 0 | BI153: =IF(N153="nulová",J153,0) -> 0 | BJ153: 2 | BK153: =ROUND(I153*H153,2) -> 0 | BL153: 4 | BM153: 14
C154: 8 | D154: K | E154: 612460124.S | F154: Príprava vnútorného podkladu stien penetráciou pod omietky a nátery | G154: m2 | H154: 106.61 | J154: =ROUND(I154*H154,2) -> 0 | N154: znížená | O154: 0 | P154: =O154*H154 -> 0 | Q154: 0 | R154: =Q154*H154 -> 0 | S154: 0 | T154: =S154*H154 -> 0 | AR154: 4 | AT154: K | AU154: 2 | AY154: ROZPOCET | BE154: =IF(N154="základná",J154,0) -> 0 | BF154: =IF(N154="znížená",J154,0) -> 0 | BG154: =IF(N154="zákl. prenesená",J154,0) -> 0 | BH154: =IF(N154="zníž. prenesená",J154,0) -> 0 | BI154: =IF(N154="nulová",J154,0) -> 0 | BJ154: 2 | BK154: =ROUND(I154*H154,2) -> 0 | BL154: 4 | BM154: 16
C155: 9 | D155: K | E155: 612460125.S | F155: Príprava vnútorného podkladu stien penetráciou pod nátery a maľby | G155: m2 | H155: 106.61 | J155: =ROUND(I155*H155,2) -> 0 | N155: znížená | O155: 0 | P155: =O155*H155 -> 0 | Q155: 0 | R155: =Q155*H155 -> 0 | S155: 0 | T155: =S155*H155 -> 0 | AR155: 4 | AT155: K | AU155: 2 | AY155: ROZPOCET | BE155: =IF(N155="základná",J155,0) -> 0 | BF155: =IF(N155="znížená",J155,0) -> 0 | BG155: =IF(N155="zákl. prenesená",J155,0) -> 0 | BH155: =IF(N155="zníž. prenesená",J155,0) -> 0 | BI155: =IF(N155="nulová",J155,0) -> 0 | BJ155: 2 | BK155: =ROUND(I155*H155,2) -> 0 | BL155: 4 | BM155: 18
C156: 10 | D156: K | E156: 612460383.S | F156: Vnútorná omietka stien vápennocementová štuková (jemná), hr. 3 mm | G156: m2 | H156: 106.61 | J156: =ROUND(I156*H156,2) -> 0 | N156: znížená | O156: 0 | P156: =O156*H156 -> 0 | Q156: 0 | R156: =Q156*H156 -> 0 | S156: 0 | T156: =S156*H156 -> 0 | AR156: 4 | AT156: K | AU156: 2 | AY156: ROZPOCET | BE156: =IF(N156="základná",J156,0) -> 0 | BF156: =IF(N156="znížená",J156,0) -> 0 | BG156: =IF(N156="zákl. prenesená",J156,0) -> 0 | BH156: =IF(N156="zníž. prenesená",J156,0) -> 0 | BI156: =IF(N156="nulová",J156,0) -> 0 | BJ156: 2 | BK156: =ROUND(I156*H156,2) -> 0 | BL156: 4 | BM156: 20
D157: VV | F157: (9+6,4+9+6,4)*3,7 | H157: 113.96 | AT157: VV | AU157: 2 | AV157: 2 | AW157: True | AX157: 0 | AY157: ROZPOCET
D158: VV | F158: odpočet okien a dverí | AT158: VV | AU158: 2 | AV158: 1 | AW158: True | AX158: 0 | AY158: ROZPOCET
D159: VV | F159: -(1,17*1,56)*2 "2 menšie okná na výmenu | H159: -3.6504 | AT159: VV | AU159: 2 | AV159: 2 | AW159: True | AX159: 0 | AY159: ROZPOCET
D160: VV | F160: -1,48*2,5 "brána | H160: -3.7 | AT160: VV | AU160: 2 | AV160: 2 | AW160: True | AX160: 0 | AY160: ROZPOCET
D161: VV | F161: Súčet | H161: 106.6096 | AT161: VV | AU161: 2 | AV161: 4 | AW161: True | AX161: 1 | AY161: ROZPOCET
C162: 11 | D162: K | E162: 612481021.S | F162: Okenný a dverový plastový dilatačný profil pre hrúbku omietky 6 mm | G162: m | H162: 18.21 | J162: =ROUND(I162*H162,2) -> 0 | N162: znížená | O162: 0 | P162: =O162*H162 -> 0 | Q162: 0 | R162: =Q162*H162 -> 0 | S162: 0 | T162: =S162*H162 -> 0 | AR162: 4 | AT162: K | AU162: 2 | AY162: ROZPOCET | BE162: =IF(N162="základná",J162,0) -> 0 | BF162: =IF(N162="znížená",J162,0) -> 0 | BG162: =IF(N162="zákl. prenesená",J162,0) -> 0 | BH162: =IF(N162="zníž. prenesená",J162,0) -> 0 | BI162: =IF(N162="nulová",J162,0) -> 0 | BJ162: 2 | BK162: =ROUND(I162*H162,2) -> 0 | BL162: 4 | BM162: 22
C163: 12 | D163: K | E163: 612481041.S | F163: Rohový profil z pozinkovaného plechu pre hrúbku tenkovrstvovej omietky 3 mm | G163: m | H163: 14.3 | J163: =ROUND(I163*H163,2) -> 0 | N163: znížená | O163: 0 | P163: =O163*H163 -> 0 | Q163: 0 | R163: =Q163*H163 -> 0 | S163: 0 | T163: =S163*H163 -> 0 | AR163: 4 | AT163: K | AU163: 2 | AY163: ROZPOCET | BE163: =IF(N163="základná",J163,0) -> 0 | BF163: =IF(N163="znížená",J163,0) -> 0 | BG163: =IF(N163="zákl. prenesená",J163,0) -> 0 | BH163: =IF(N163="zníž. prenesená",J163,0) -> 0 | BI163: =IF(N163="nulová",J163,0) -> 0 | BJ163: 2 | BK163: =ROUND(I163*H163,2) -> 0 | BL163: 4 | BM163: 24
D164: VV | F164: 2,5+1,48+2,5 "brána | H164: 6.48 | AT164: VV | AU164: 2 | AV164: 2 | AW164: True | AX164: 0 | AY164: ROZPOCET
D165: VV | F165: (1,17+1,57+1,17)*2 "2 okná na výmenu | H165: 7.82 | AT165: VV | AU165: 2 | AV165: 2 | AW165: True | AX165: 0 | AY165: ROZPOCET
D166: VV | F166: Súčet | H166: 14.3 | AT166: VV | AU166: 2 | AV166: 4 | AW166: True | AX166: 1 | AY166: ROZPOCET
...
